{"text_format":"1","workbook":"xlsx","n_sheets":9,"sheets":["Титул","Протокол","Итоги","Сверка","Участники","Жюри","Мехм","Служеб","База"],"not_rendered":{"charts":0,"images":0,"macros":1,"external_links":0,"defined_names":25,"comments":2,"pivot_tables":0},"unopened":[],"bounds":{"document_bytes":16777216,"sheet_cells":100000,"rows_first":2000,"rows_last":500,"rows_between":2000,"halvings":0,"cell_chars":16384,"cell_head_chars":4096},"cells_cut":0,"cells_raw":0,"read":"whole","date_system":"1900"}

{"sheet":"Титул","index":0,"n_rows":50,"n_cols":16,"rows_kept":50,"cut":false,"hidden":false,"merged":[[36,3,36,6],[5,2,5,3],[1,4,1,10],[8,5,8,10],[9,5,9,10],[10,5,10,10],[11,5,11,10],[12,5,12,10],[27,4,27,6],[28,4,28,6],[29,4,29,6],[30,4,30,6],[31,4,31,6],[32,4,32,6],[24,4,24,6],[107,0,107,2],[108,0,108,2],[109,0,109,2],[109,7,109,9],[94,0,94,5],[100,1,100,5],[101,1,101,5],[102,1,102,5],[103,1,103,5],[104,1,104,5],[106,0,106,2],[106,6,106,8],[26,4,26,6],[17,11,17,13],[18,11,18,13],[19,11,19,13],[24,10,25,13],[22,4,22,6],[21,4,21,6],[23,4,23,6],[17,4,17,6],[18,4,18,6],[19,4,19,6],[20,4,20,6],[25,4,25,6],[26,10,35,13],[34,3,34,6],[16,4,16,6],[15,4,15,6],[14,3,14,4],[14,5,14,6],[14,10,14,13],[1,15,1,17],[1,2,1,3],[3,2,3,3],[4,2,4,3],[6,2,6,3]]}
[]
[null,null,"Турнир:",null,null,null,null,null,null,null,null,null,null,null,null,"Пароль на защиту - 0854"]
[]
[null,null,"Дата:"]
[null,null,"Номер боя:"]
[null,null,"Номер аудитории:"]
[null,null,"Кол-во команд:"]
[]
[null,null,"Команды:",null,"Название","Школа"]
[null,null,null,1,null,{"$f":"IFERROR(VLOOKUP(E10,Участники!$A$2:$B$19,2,FALSE),0)","v":0}]
[null,null,null,2,null,{"$f":"IFERROR(VLOOKUP(E11,Участники!$A$2:$B$19,2,FALSE),0)","v":0}]
[null,null,null,3,null,{"$f":"IFERROR(VLOOKUP(E12,Участники!$A$2:$B$19,2,FALSE),0)","v":0}]
[null,null,null,4,null,{"$f":"IFERROR(VLOOKUP(E13,Участники!$A$2:$B$19,2,FALSE),0)","v":0}]
[]
[null,null,"Члены Жюри:","Количество членов Жюри:",null,{"$f":"SUM(J16:J33)","v":0},null,null,null,null,"Не можете найти в базе члена жюри?"]
[null,null,null,1,null,null,null,null,null,{"$f":"IF(E16=0,0,1)","v":0},"Введите:"]
[null,null,null,2,null,null,null,null,null,{"$f":"IF(E17=0,0,1)","v":0}]
[null,null,null,3,null,null,null,null,null,0,"Фамилия"]
[null,null,null,4,null,null,null,null,null,0,"Имя"]
[null,null,null,5,null,null,null,null,null,0,"Отчество"]
[null,null,null,6,null,null,null,null,null,0]
[null,null,null,7,null,null,null,null,null,0,"Нажмите:"]
[null,null,null,8,null,null,null,null,null,0]
[null,null,null,9,null,null,null,null,null,0]
[null,null,null,10,null,null,null,null,null,0,"Теперь можно выбрать этого члена Жюри из выпадающего списка в блоке \"Члены Жюри\""]
[null,null,null,11,null,null,null,null,null,0]
[null,null,null,12,null,null,null,null,null,0,"Если кнопка не срабатывает, то нужно включить макросы: на желтой полосе под панелью инструментов нажми кнопку \"Включить содержимое\" "]
[null,null,null,13,null,null,null,null,null,0]
[null,null,null,14,null,null,null,null,null,0]
[null,null,null,15,null,null,null,null,null,0]
[null,null,null,16,null,null,null,null,null,0]
[null,null,null,17,null,null,null,null,null,0]
[null,null,null,18,null,null,null,null,null,0]
[]
[null,null,"Ведущий боя:"]
[]
[null,null,"Секретарь:"]
[]
[null,null,"Конкурс капитанов:",null,"Команда","Место"]
[null,null,null,null,{"$f":"E10","v":0}]
[null,null,null,null,{"$f":"E11","v":0}]
[null,null,null,null,{"$f":"E12","v":0}]
[null,null,null,null,{"$f":"E13","v":0}]
[]
[]
[null,null,"Схема боя:",null,"Команда","Раунд 1","Раунд 2","Раунд 3","Раунд 4"]
[null,null,null,null,null,{"$f":"IF($E$7=3,Служеб!P4,Служеб!T4)","v":"Д"},{"$f":"IF($E$7=3,Служеб!Q4,Служеб!U4)","v":"Н"},{"$f":"IF($E$7=3,Служеб!R4,Служеб!V4)","v":"Р"},{"$f":"IF($E$7=3,Служеб!S4,Служеб!W4)","v":"О"}]
[null,null,null,null,null,{"$f":"IF($E$7=3,Служеб!P5,Служеб!T5)","v":"О"},{"$f":"IF($E$7=3,Служеб!Q5,Служеб!U5)","v":"Д"},{"$f":"IF($E$7=3,Служеб!R5,Служеб!V5)","v":"Н"},{"$f":"IF($E$7=3,Служеб!S5,Служеб!W5)","v":"Р"}]
[null,null,null,null,null,{"$f":"IF($E$7=3,Служеб!P6,Служеб!T6)","v":"Р"},{"$f":"IF($E$7=3,Служеб!Q6,Служеб!U6)","v":"О"},{"$f":"IF($E$7=3,Служеб!R6,Служеб!V6)","v":"Д"},{"$f":"IF($E$7=3,Служеб!S6,Служеб!W6)","v":"Н"}]
[null,null,null,null,null,{"$f":"IF($E$7=3,Служеб!P7,Служеб!T7)","v":"Н"},{"$f":"IF($E$7=3,Служеб!Q7,Служеб!U7)","v":"Р"},{"$f":"IF($E$7=3,Служеб!R7,Служеб!V7)","v":"О"},{"$f":"IF($E$7=3,Служеб!S7,Служеб!W7)","v":"Д"}]

{"sheet":"Протокол","index":1,"n_rows":132,"n_cols":122,"rows_kept":132,"cut":false,"hidden":false,"merged":[[131,4,131,5],[122,117,123,117],[123,7,123,24],[123,25,123,42],[123,43,123,60],[123,61,123,78],[110,1,114,1],[116,1,120,1],[124,1,128,1],[130,1,134,1],[124,3,126,3],[124,4,126,5],[120,3,120,4],[122,3,123,3],[122,4,123,5],[122,114,123,114],[122,115,123,115],[124,117,126,117],[128,3,129,3],[128,4,129,5],[128,117,129,117],[122,116,123,116],[115,25,115,26],[115,27,115,28],[115,29,115,36],[116,6,116,13],[117,25,117,36],[118,25,118,28],[118,29,118,30],[118,31,118,34],[118,35,118,36],[123,92,123,109],[109,35,109,36],[110,7,110,9],[110,10,110,18],[110,25,110,26],[110,27,110,28],[110,29,110,36],[115,6,115,13],[111,29,111,36],[112,7,112,9],[112,10,112,18],[112,25,112,26],[112,27,112,28],[112,29,112,36],[113,7,113,9],[113,10,113,18],[113,25,113,26],[113,27,113,28],[113,29,113,36],[114,25,114,26],[114,27,114,28],[114,29,114,36],[109,5,109,6],[109,13,109,15],[109,16,109,18],[109,25,109,28],[109,33,109,34],[111,7,111,9],[111,10,111,18],[111,25,111,26],[111,27,111,28],[104,1,108,1],[90,1,92,1],[90,3,92,3],[90,4,92,5],[90,117,92,117],[94,3,95,3],[94,4,95,5],[94,117,95,117],[95,1,97,1],[97,4,97,5],[105,4,105,6],[105,7,105,15],[106,4,106,6],[106,7,106,15],[107,4,107,6],[107,7,107,15],[88,114,89,114],[88,115,89,115],[88,116,89,116],[88,117,89,117],[89,7,89,24],[89,25,89,42],[89,43,89,60],[89,61,89,78],[89,92,89,109],[82,6,82,13],[83,1,85,1],[83,25,83,36],[84,25,84,28],[84,29,84,30],[84,31,84,34],[84,35,84,36],[86,3,86,4],[88,3,89,3],[88,4,89,5],[78,7,78,9],[78,10,78,18],[78,25,78,26],[78,27,78,28],[78,29,78,36],[79,1,81,1],[79,7,79,9],[79,10,79,18],[79,25,79,26],[79,27,79,28],[79,29,79,36],[80,25,80,26],[80,27,80,28],[80,29,80,36],[81,6,81,13],[81,25,81,26],[81,27,81,28],[81,29,81,36],[75,16,75,18],[75,25,75,28],[75,33,75,34],[77,7,77,9],[77,10,77,18],[77,25,77,26],[77,27,77,28],[75,35,75,36],[76,7,76,9],[76,10,76,18],[76,25,76,26],[76,27,76,28],[76,29,76,36],[77,29,77,36],[71,1,73,1],[71,4,71,6],[71,7,71,15],[72,4,72,6],[72,7,72,15],[73,4,73,6],[73,7,73,15],[75,1,77,1],[75,5,75,6],[75,13,75,15],[56,1,58,1],[56,3,58,3],[56,4,58,5],[56,117,58,117],[60,3,61,3],[60,4,61,5],[60,117,61,117],[61,1,63,1],[63,4,63,5],[54,114,55,114],[54,115,55,115],[54,116,55,116],[54,117,55,117],[55,7,55,24],[55,25,55,42],[55,43,55,60],[55,61,55,78],[55,92,55,109],[48,6,48,13],[49,1,51,1],[49,25,49,36],[50,25,50,28],[50,29,50,30],[50,31,50,34],[50,35,50,36],[52,3,52,4],[54,3,55,3],[54,4,55,5],[45,1,47,1],[45,7,45,9],[45,10,45,18],[45,25,45,26],[45,27,45,28],[45,29,45,36],[46,25,46,26],[46,27,46,28],[46,29,46,36],[47,6,47,13],[47,25,47,26],[47,27,47,28],[47,29,47,36],[42,10,42,18],[42,25,42,26],[42,27,42,28],[42,29,42,36],[43,10,43,18],[43,25,43,26],[43,27,43,28],[43,29,43,36],[44,7,44,9],[44,10,44,18],[44,25,44,26],[44,27,44,28],[44,29,44,36],[26,117,27,117],[8,25,8,26],[9,25,9,26],[10,25,10,26],[11,25,11,26],[20,115,21,115],[7,33,7,34],[7,35,7,36],[18,3,18,4],[20,3,21,3],[20,4,21,5],[20,114,21,114],[8,27,8,28],[9,29,9,36],[10,29,10,36],[11,29,11,36],[22,3,24,3],[26,3,27,3],[21,7,21,24],[21,25,21,42],[16,35,16,36],[15,25,15,36],[11,27,11,28],[12,27,12,28],[3,1,5,1],[7,1,9,1],[11,1,13,1],[15,1,17,1],[8,10,8,18],[9,10,9,18],[10,10,10,18],[11,10,11,18],[7,16,7,18],[8,7,8,9],[13,6,13,13],[14,6,14,13],[7,13,7,15],[7,5,7,6],[21,92,21,109],[22,1,24,1],[41,1,43,1],[41,5,41,6],[41,13,41,15],[41,16,41,18],[43,7,43,9],[16,25,16,28],[16,29,16,30],[16,31,16,34],[27,1,29,1],[37,1,39,1],[37,4,37,6],[37,7,37,15],[38,4,38,6],[38,7,38,15],[39,4,39,6],[39,7,39,15],[26,4,27,5],[29,4,29,5],[41,25,41,28],[41,33,41,34],[41,35,41,36],[42,7,42,9],[22,117,24,117],[3,4,3,6],[4,4,4,6],[5,4,5,6],[3,7,3,15],[4,7,4,15],[5,7,5,15],[9,7,9,9],[10,7,10,9],[11,7,11,9],[7,25,7,28],[20,116,21,116],[20,117,21,117],[12,29,12,36],[13,29,13,36],[8,29,8,36],[13,27,13,28],[22,4,24,5],[12,25,12,26],[13,25,13,26],[9,27,9,28],[10,27,10,28],[21,43,21,60],[21,61,21,78]]}
[]
[null,null,null,"1 РАУНД"]
[]
[null,"ПЕРВЫЙ",null,"Докладчик",{"$f":"IF(Титул!$F$47=\"Д\",Титул!$E$47,IF(Титул!$F$48=\"Д\",Титул!$E$48,IF(Титул!$F$49=\"Д\",Титул!$E$49,IF(Титул!$F$50=\"Д\",Титул!$E$50,0))))","v":0},null,null,{"$f":"VLOOKUP($E4,Участники!$A$2:$B$23,2)","v":{"$error":"#N/A"}}]
[null,null,null,"Оппонент",{"$f":"IF(Титул!$F$47=\"О\",Титул!$E$47,IF(Титул!$F$48=\"О\",Титул!$E$48,IF(Титул!$F$49=\"О\",Титул!$E$49,IF(Титул!$F$50=\"О\",Титул!$E$50,0))))","v":0},null,null,{"$f":"VLOOKUP($E5,Участники!$A$2:$B$23,2)","v":{"$error":"#N/A"}}]
[null,null,null,"Рецензент",{"$f":"IF(Титул!$F$47=\"Р\",Титул!$E$47,IF(Титул!$F$48=\"Р\",Титул!$E$48,IF(Титул!$F$49=\"Р\",Титул!$E$49,IF(Титул!$F$50=\"Р\",Титул!$E$50,0))))","v":0},null,null,{"$f":"VLOOKUP($E6,Участники!$A$2:$B$23,2)","v":{"$error":"#N/A"}}]
[]
[null,"ПЕРВЫЙ",null,"Вызов на задачу:",null,"Отказы во время боя",null,"Возможно дать отказы от:",null,null,null,null,null,{"$f":"Служеб!$AO$4","v":3},null,null,{"$f":"IF(N8=1,\"задачи\",IF(N8=2,\"задач\",IF(N8=3,\"задач\",\"задач\")))","v":"задач"},null,null,null,null,null,null,null,null,"Вечные отказы",null,null,null,"Возможно дать ",null,null,null,{"$f":"Служеб!$AP$11","v":3},null,{"$f":"IF(AH8=1,\"отказ\",IF(AH8=2,\"отказа\",IF(AH8=3,\"отказа\",IF(AH8=4,\"отказа\",IF(AH8=5,\"отказов\",\"отказа\")))))","v":"отказа"}]
[null,null,null,null,null,"№ отказа","Тип отказа","№ задачи",null,null,"Название задачи",null,null,null,null,null,null,null,null,null,null,null,null,null,null,"№ отказа",null,"№ задачи",null,"Название задачи"]
[null,null,null,null,null,1,{"$f":"Служеб!$AP$4","v":"Тактич"},null,null,null,{"$f":"IFERROR(VLOOKUP($H10,Служеб!$AR$4:$AS$26,2),0)","v":0},null,null,null,null,null,null,null,null,null,null,null,null,null,null,1,null,null,null,{"$f":"IFERROR(VLOOKUP($AB10,Служеб!$AR$4:$AS$26,2),0)","v":0}]
[null,null,null,null,null,2,{"$f":"Служеб!$AP$5","v":"Тактич"},null,null,null,{"$f":"IFERROR(VLOOKUP($H11,Служеб!$AR$4:$AS$26,2),0)","v":0},null,null,null,null,null,null,null,null,null,null,null,null,null,null,2,null,null,null,{"$f":"IFERROR(VLOOKUP($AB11,Служеб!$AR$4:$AS$26,2),0)","v":0}]
[null,"ПЕРВЫЙ",null,null,null,3,{"$f":"Служеб!$AP$6","v":"Стратег"},null,null,null,{"$f":"IFERROR(VLOOKUP($H12,Служеб!$AR$4:$AS$26,2),0)","v":0},null,null,null,null,null,null,null,null,null,null,null,null,null,null,3,null,null,null,{"$f":"IFERROR(VLOOKUP($AB12,Служеб!$AR$4:$AS$26,2),0)","v":0}]
[null,null,null,null,null,null,null,null,null,null,null,null,null,null,null,null,null,null,null,null,null,null,null,null,null,4,null,null,null,{"$f":"IFERROR(VLOOKUP($AB13,Служеб!$AR$4:$AS$26,2),0)","v":0}]
[null,null,null,"Играем задачу:",null,"№ задачи","Название задачи",null,null,null,null,null,null,null,null,null,null,null,null,null,null,null,null,null,null,5,null,null,null,{"$f":"IFERROR(VLOOKUP($AB14,Служеб!$AR$4:$AS$26,2),0)","v":0}]
[null,null,null,null,null,null,{"$f":"IFERROR(VLOOKUP($F$15,Служеб!$AR$4:$AS$26,2),0)","v":0}]
[null,"ПЕРВЫЙ",null,null,null,null,null,null,null,null,null,null,null,null,null,null,null,null,null,null,null,null,null,null,null,"Штрафы за отказ сверх установленной нормы"]
[null,null,null,null,null,null,null,null,null,null,null,null,null,null,null,null,null,null,null,null,null,null,null,null,null,"№ отказа",null,null,null,0,null,"Коэффициент",null,null,null,{"$f":"VLOOKUP($AD$17,Служеб!$AN$15:$AO$27,2)","v":1}]
[]
[null,null,null,"Оценка выступлений"]
[]
[null,"ПЕРВЫЙ",null,"Роль","ФИ участника",null,"Жюри",{"$f":"IFERROR(VLOOKUP(Титул!$E$16,Жюри!$D$2:$E$250,2,FALSE),0)","v":0},{"$f":"IFERROR(VLOOKUP(Титул!$E$17,Жюри!$D$2:$E$250,2,FALSE),0)","v":0},{"$f":"IFERROR(VLOOKUP(Титул!$E$18,Жюри!$D$2:$E$250,2,FALSE),0)","v":0},{"$f":"IFERROR(VLOOKUP(Титул!$E$19,Жюри!$D$2:$E$250,2,FALSE),0)","v":0},{"$f":"IFERROR(VLOOKUP(Титул!$E$20,Жюри!$D$2:$E$250,2,FALSE),0)","v":0},{"$f":"IFERROR(VLOOKUP(Титул!$E$21,Жюри!$D$2:$E$250,2,FALSE),0)","v":0},{"$f":"IFERROR(VLOOKUP(Титул!$E$22,Жюри!$D$2:$E$250,2,FALSE),0)","v":0},{"$f":"IFERROR(VLOOKUP(Титул!$E$23,Жюри!$D$2:$E$250,2,FALSE),0)","v":0},{"$f":"IFERROR(VLOOKUP(Титул!$E$24,Жюри!$D$2:$E$250,2,FALSE),0)","v":0},{"$f":"IFERROR(VLOOKUP(Титул!$E$25,Жюри!$D$2:$E$250,2,FALSE),0)","v":0},{"$f":"IFERROR(VLOOKUP(Титул!$E$26,Жюри!$D$2:$E$250,2,FALSE),0)","v":0},{"$f":"IFERROR(VLOOKUP(Титул!$E$27,Жюри!$D$2:$E$250,2,FALSE),0)","v":0},{"$f":"IFERROR(VLOOKUP(Титул!$E$28,Жюри!$D$2:$E$250,2,FALSE),0)","v":0},{"$f":"IFERROR(VLOOKUP(Титул!$E$29,Жюри!$D$2:$E$85,2,FALSE),0)","v":0},{"$f":"IFERROR(VLOOKUP(Титул!$E$30,Жюри!$D$2:$E$85,2,FALSE),0)","v":0},{"$f":"IFERROR(VLOOKUP(Титул!$E$31,Жюри!$D$2:$E$85,2,FALSE),0)","v":0},{"$f":"IFERROR(VLOOKUP(Титул!$E$32,Жюри!$D$2:$E$85,2,FALSE),0)","v":0},{"$f":"IFERROR(VLOOKUP(Титул!$E$33,Жюри!$D$2:$E$85,2,FALSE),0)","v":0},{"$f":"IFERROR(VLOOKUP(Титул!$E$16,Жюри!$D$2:$E$250,2,FALSE),0)","v":0},{"$f":"IFERROR(VLOOKUP(Титул!$E$17,Жюри!$D$2:$E$250,2,FALSE),0)","v":0},{"$f":"IFERROR(VLOOKUP(Титул!$E$18,Жюри!$D$2:$E$250,2,FALSE),0)","v":0},{"$f":"IFERROR(VLOOKUP(Титул!$E$19,Жюри!$D$2:$E$250,2,FALSE),0)","v":0},{"$f":"IFERROR(VLOOKUP(Титул!$E$20,Жюри!$D$2:$E$250,2,FALSE),0)","v":0},{"$f":"IFERROR(VLOOKUP(Титул!$E$21,Жюри!$D$2:$E$250,2,FALSE),0)","v":0},{"$f":"IFERROR(VLOOKUP(Титул!$E$22,Жюри!$D$2:$E$250,2,FALSE),0)","v":0},{"$f":"IFERROR(VLOOKUP(Титул!$E$23,Жюри!$D$2:$E$250,2,FALSE),0)","v":0},{"$f":"IFERROR(VLOOKUP(Титул!$E$24,Жюри!$D$2:$E$250,2,FALSE),0)","v":0},{"$f":"IFERROR(VLOOKUP(Титул!$E$25,Жюри!$D$2:$E$250,2,FALSE),0)","v":0},{"$f":"IFERROR(VLOOKUP(Титул!$E$26,Жюри!$D$2:$E$250,2,FALSE),0)","v":0},{"$f":"IFERROR(VLOOKUP(Титул!$E$27,Жюри!$D$2:$E$250,2,FALSE),0)","v":0},{"$f":"IFERROR(VLOOKUP(Титул!$E$28,Жюри!$D$2:$E$250,2,FALSE),0)","v":0},{"$f":"IFERROR(VLOOKUP(Титул!$E$29,Жюри!$D$2:$E$85,2,FALSE),0)","v":0},{"$f":"IFERROR(VLOOKUP(Титул!$E$30,Жюри!$D$2:$E$85,2,FALSE),0)","v":0},{"$f":"IFERROR(VLOOKUP(Титул!$E$31,Жюри!$D$2:$E$85,2,FALSE),0)","v":0},{"$f":"IFERROR(VLOOKUP(Титул!$E$32,Жюри!$D$2:$E$85,2,FALSE),0)","v":0},{"$f":"IFERROR(VLOOKUP(Титул!$E$33,Жюри!$D$2:$E$85,2,FALSE),0)","v":0},{"$f":"IFERROR(VLOOKUP(Титул!$E$16,Жюри!$D$2:$E$85,2,FALSE),0)","v":0},{"$f":"IFERROR(VLOOKUP(Титул!$E$17,Жюри!$D$2:$E$85,2,FALSE),0)","v":0},{"$f":"IFERROR(VLOOKUP(Титул!$E$18,Жюри!$D$2:$E$85,2,FALSE),0)","v":0},{"$f":"IFERROR(VLOOKUP(Титул!$E$19,Жюри!$D$2:$E$85,2,FALSE),0)","v":0},{"$f":"IFERROR(VLOOKUP(Титул!$E$20,Жюри!$D$2:$E$85,2,FALSE),0)","v":0},{"$f":"IFERROR(VLOOKUP(Титул!$E$21,Жюри!$D$2:$E$85,2,FALSE),0)","v":0},{"$f":"IFERROR(VLOOKUP(Титул!$E$22,Жюри!$D$2:$E$85,2,FALSE),0)","v":0},{"$f":"IFERROR(VLOOKUP(Титул!$E$23,Жюри!$D$2:$E$85,2,FALSE),0)","v":0},{"$f":"IFERROR(VLOOKUP(Титул!$E$24,Жюри!$D$2:$E$85,2,FALSE),0)","v":0},{"$f":"IFERROR(VLOOKUP(Титул!$E$25,Жюри!$D$2:$E$85,2,FALSE),0)","v":0},{"$f":"IFERROR(VLOOKUP(Титул!$E$26,Жюри!$D$2:$E$85,2,FALSE),0)","v":0},{"$f":"IFERROR(VLOOKUP(Титул!$E$27,Жюри!$D$2:$E$85,2,FALSE),0)","v":0},{"$f":"IFERROR(VLOOKUP(Титул!$E$28,Жюри!$D$2:$E$85,2,FALSE),0)","v":0},{"$f":"IFERROR(VLOOKUP(Титул!$E$29,Жюри!$D$2:$E$85,2,FALSE),0)","v":0},{"$f":"IFERROR(VLOOKUP(Титул!$E$30,Жюри!$D$2:$E$85,2,FALSE),0)","v":0},{"$f":"IFERROR(VLOOKUP(Титул!$E$31,Жюри!$D$2:$E$85,2,FALSE),0)","v":0},{"$f":"IFERROR(VLOOKUP(Титул!$E$32,Жюри!$D$2:$E$85,2,FALSE),0)","v":0},{"$f":"IFERROR(VLOOKUP(Титул!$E$33,Жюри!$D$2:$E$85,2,FALSE),0)","v":0},{"$f":"IFERROR(VLOOKUP(Титул!$E$16,Жюри!$D$2:$E$85,2,FALSE),0)","v":0},{"$f":"IFERROR(VLOOKUP(Титул!$E$17,Жюри!$D$2:$E$85,2,FALSE),0)","v":0},{"$f":"IFERROR(VLOOKUP(Титул!$E$18,Жюри!$D$2:$E$85,2,FALSE),0)","v":0},{"$f":"IFERROR(VLOOKUP(Титул!$E$19,Жюри!$D$2:$E$85,2,FALSE),0)","v":0},{"$f":"IFERROR(VLOOKUP(Титул!$E$20,Жюри!$D$2:$E$85,2,FALSE),0)","v":0},{"$f":"IFERROR(VLOOKUP(Титул!$E$21,Жюри!$D$2:$E$85,2,FALSE),0)","v":0},{"$f":"IFERROR(VLOOKUP(Титул!$E$22,Жюри!$D$2:$E$85,2,FALSE),0)","v":0},{"$f":"IFERROR(VLOOKUP(Титул!$E$23,Жюри!$D$2:$E$85,2,FALSE),0)","v":0},{"$f":"IFERROR(VLOOKUP(Титул!$E$24,Жюри!$D$2:$E$85,2,FALSE),0)","v":0},{"$f":"IFERROR(VLOOKUP(Титул!$E$25,Жюри!$D$2:$E$85,2,FALSE),0)","v":0},{"$f":"IFERROR(VLOOKUP(Титул!$E$26,Жюри!$D$2:$E$85,2,FALSE),0)","v":0},{"$f":"IFERROR(VLOOKUP(Титул!$E$27,Жюри!$D$2:$E$85,2,FALSE),0)","v":0},{"$f":"IFERROR(VLOOKUP(Титул!$E$28,Жюри!$D$2:$E$85,2,FALSE),0)","v":0},{"$f":"IFERROR(VLOOKUP(Титул!$E$29,Жюри!$D$2:$E$85,2,FALSE),0)","v":0},{"$f":"IFERROR(VLOOKUP(Титул!$E$30,Жюри!$D$2:$E$85,2,FALSE),0)","v":0},{"$f":"IFERROR(VLOOKUP(Титул!$E$31,Жюри!$D$2:$E$85,2,FALSE),0)","v":0},{"$f":"IFERROR(VLOOKUP(Титул!$E$32,Жюри!$D$2:$E$85,2,FALSE),0)","v":0},{"$f":"IFERROR(VLOOKUP(Титул!$E$33,Жюри!$D$2:$E$85,2,FALSE),0)","v":0},"Кол-во пустых","Отбрасыв снизу оценок (правила)","Отбрасыв сверху оценок (правила)","Отбрасыв снизу оценок (с учетом пустых)","Отбрасыв снизу в баллах","Отбрасыв сверху в баллах","Число значений \"ноль\" снизу","Число значений \"ноль\" сверху","Отброшено снизу лишних оценок","Отброшено сверху лишних оценок","Нужно добавить к сумме снизу","Нужно добавить к сумме сверху","однородные оценки",{"$f":"IFERROR(VLOOKUP(Титул!$E$16,Жюри!$D$2:$E$85,2),0)","v":0},{"$f":"IFERROR(VLOOKUP(Титул!$E$17,Жюри!$D$2:$E$85,2),0)","v":0},{"$f":"IFERROR(VLOOKUP(Титул!$E$18,Жюри!$D$2:$E$85,2),0)","v":0},{"$f":"IFERROR(VLOOKUP(Титул!$E$19,Жюри!$D$2:$E$85,2),0)","v":0},{"$f":"IFERROR(VLOOKUP(Титул!$E$20,Жюри!$D$2:$E$85,2),0)","v":0},{"$f":"IFERROR(VLOOKUP(Титул!$E$21,Жюри!$D$2:$E$85,2),0)","v":0},{"$f":"IFERROR(VLOOKUP(Титул!$E$22,Жюри!$D$2:$E$85,2),0)","v":0},{"$f":"IFERROR(VLOOKUP(Титул!$E$23,Жюри!$D$2:$E$85,2),0)","v":0},{"$f":"IFERROR(VLOOKUP(Титул!$E$24,Жюри!$D$2:$E$85,2),0)","v":0},{"$f":"IFERROR(VLOOKUP(Титул!$E$25,Жюри!$D$2:$E$85,2),0)","v":0},{"$f":"IFERROR(VLOOKUP(Титул!$E$26,Жюри!$D$2:$E$85,2),0)","v":0},{"$f":"IFERROR(VLOOKUP(Титул!$E$27,Жюри!$D$2:$E$85,2),0)","v":0},{"$f":"IFERROR(VLOOKUP(Титул!$E$28,Жюри!$D$2:$E$85,2),0)","v":0},{"$f":"IFERROR(VLOOKUP(Титул!$E$29,Жюри!$D$2:$E$85,2),0)","v":0},{"$f":"IFERROR(VLOOKUP(Титул!$E$30,Жюри!$D$2:$E$85,2),0)","v":0},{"$f":"IFERROR(VLOOKUP(Титул!$E$31,Жюри!$D$2:$E$85,2),0)","v":0},{"$f":"IFERROR(VLOOKUP(Титул!$E$32,Жюри!$D$2:$E$85,2),0)","v":0},{"$f":"IFERROR(VLOOKUP(Титул!$E$33,Жюри!$D$2:$E$85,2),0)","v":0},null,null,"Рассчитывается по таблице \"Сведение отброшенных снизу и сверху воедино\"","Рассчитывается из предыдущей колонки с учетом \"Нужно добавить к сумме\" снизу и сверху","Среднее по категории","Коэффициент","Умножено на коэффициент","Сумма за раунд"]
[null,null,null,null,null,null,"Категория","Оценки членов жюри",null,null,null,null,null,null,null,null,null,null,null,null,null,null,null,null,null,"Перевод оценок в баллы",null,null,null,null,null,null,null,null,null,null,null,null,null,null,null,null,null,"Отбрасывание крайних оценок снизу",null,null,null,null,null,null,null,null,null,null,null,null,null,null,null,null,null,"Отбрасывание крайних оценок сверху",null,null,null,null,null,null,null,null,null,null,null,null,null,null,null,null,null,null,null,null,null,null,null,null,null,null,null,null,null,null,"Сведение отброшеных снизу и сверху воедино для подсчета суммы",null,null,null,null,null,null,null,null,null,null,null,null,null,null,null,null,null,"кол-во жюри","кол-во оценок","Сумма сводная","Сумма реальная",null,null,null,null,null,null,"Баллы"]
[null,"ПЕРВЫЙ",null,"Докладчик",null,null,"1. Содерж. часть",null,null,null,null,null,null,null,null,null,null,null,null,null,null,null,null,null,null,{"$f":"VLOOKUP(H23,Служеб!$AC$4:$AD$13,2)","v":0},{"$f":"VLOOKUP(I23,Служеб!$AC$4:$AD$13,2)","v":0},{"$f":"VLOOKUP(J23,Служеб!$AC$4:$AD$13,2)","v":0},{"$f":"VLOOKUP(K23,Служеб!$AC$4:$AD$13,2)","v":0},{"$f":"VLOOKUP(L23,Служеб!$AC$4:$AD$13,2)","v":0},{"$f":"VLOOKUP(M23,Служеб!$AC$4:$AD$13,2)","v":0},{"$f":"VLOOKUP(N23,Служеб!$AC$4:$AD$13,2)","v":0},{"$f":"VLOOKUP(O23,Служеб!$AC$4:$AD$13,2)","v":0},{"$f":"VLOOKUP(P23,Служеб!$AC$4:$AD$13,2)","v":0},{"$f":"VLOOKUP(Q23,Служеб!$AC$4:$AD$13,2)","v":0},{"$f":"VLOOKUP(R23,Служеб!$AC$4:$AD$13,2)","v":0},{"$f":"VLOOKUP(S23,Служеб!$AC$4:$AD$13,2)","v":0},{"$f":"VLOOKUP(T23,Служеб!$AC$4:$AD$13,2)","v":0},{"$f":"VLOOKUP(U23,Служеб!$AC$4:$AD$13,2)","v":0},{"$f":"VLOOKUP(V23,Служеб!$AC$4:$AD$13,2)","v":0},{"$f":"VLOOKUP(W23,Служеб!$AC$4:$AD$13,2)","v":0},{"$f":"VLOOKUP(X23,Служеб!$AC$4:$AD$13,2)","v":0},{"$f":"VLOOKUP(Y23,Служеб!$AC$4:$AD$13,2)","v":0},{"$f":"IF(Z23>$CF23,Z23,0)","v":0},0,0,0,0,0,0,0,0,0,{"$f":"IF(AJ23>$CF23,AJ23,0)","v":0},0,0,0,0,0,0,0,{"$f":"IF(Z23<$CG23,Z23,0)","v":0},0,0,0,0,0,0,0,0,0,{"$f":"IF(AJ23<$CG23,AJ23,0)","v":0},0,0,0,0,0,0,0,{"$f":"COUNTIFS($Z23:$AQ23,0)","v":18},{"$f":"VLOOKUP($DG23,Служеб!$AG$4:$AI$21,2)","v":{"$error":"#N/A"}},{"$f":"VLOOKUP($DG23,Служеб!$AG$4:$AI$21,3)","v":{"$error":"#N/A"}},{"$f":"CC23+CB23","v":{"$error":"#N/A"}},{"$f":"IFERROR(SMALL($Z23:$AQ23,$CE23),-10)","v":-10},{"$f":"IFERROR(LARGE($Z23:$AQ23,$CD23),110)","v":110},{"$f":"COUNTIFS($AR23:$BI23,0)","v":18},{"$f":"COUNTIFS($BJ23:$CA23,0)","v":18},{"$f":"CH23-CB23-CC23","v":{"$error":"#N/A"}},{"$f":"CI23-CB23-CD23","v":{"$error":"#N/A"}},{"$f":"CJ23*CF23","v":{"$error":"#N/A"}},{"$error":"#N/A"},{"$f":"IF(CF23=CG23,1,0)","v":0},{"$f":"IF(AR23=BJ23,Z23,0)","v":0},0,0,0,0,0,0,0,0,0,{"$f":"IF(BB23=BT23,AJ23,0)","v":0},0,0,0,0,0,0,0,{"$f":"Титул!$F$15","v":0},{"$f":"DG23-CC23-CD23","v":{"$error":"#N/A"}},{"$f":"SUM($CO23:$DF23)","v":0},{"$f":"IF(CN23=1,(CF23*DH23),DI23+CL23+CM23)","v":{"$error":"#N/A"}},{"$f":"DJ23/DH23","v":{"$error":"#N/A"}},{"$f":"Служеб!$AL$4","v":1.5},{"$f":"DK23*DL23","v":{"$error":"#N/A"}},{"$f":"(DM23+DM24+DM25)*$AJ$17","v":{"$error":"#N/A"}},null,{"$f":"D23","v":"Докладчик"},{"$f":"DN23","v":{"$error":"#N/A"}},{"$f":"DN23/AJ17","v":{"$error":"#N/A"}}]
[null,null,null,null,null,null,"2. Умение докл.",null,null,null,null,null,null,null,null,null,null,null,null,null,null,null,null,null,null,{"$f":"VLOOKUP(H24,Служеб!$AC$4:$AD$13,2)","v":0},{"$f":"VLOOKUP(I24,Служеб!$AC$4:$AD$13,2)","v":0},{"$f":"VLOOKUP(J24,Служеб!$AC$4:$AD$13,2)","v":0},{"$f":"VLOOKUP(K24,Служеб!$AC$4:$AD$13,2)","v":0},{"$f":"VLOOKUP(L24,Служеб!$AC$4:$AD$13,2)","v":0},{"$f":"VLOOKUP(M24,Служеб!$AC$4:$AD$13,2)","v":0},{"$f":"VLOOKUP(N24,Служеб!$AC$4:$AD$13,2)","v":0},{"$f":"VLOOKUP(O24,Служеб!$AC$4:$AD$13,2)","v":0},{"$f":"VLOOKUP(P24,Служеб!$AC$4:$AD$13,2)","v":0},{"$f":"VLOOKUP(Q24,Служеб!$AC$4:$AD$13,2)","v":0},{"$f":"VLOOKUP(R24,Служеб!$AC$4:$AD$13,2)","v":0},{"$f":"VLOOKUP(S24,Служеб!$AC$4:$AD$13,2)","v":0},{"$f":"VLOOKUP(T24,Служеб!$AC$4:$AD$13,2)","v":0},{"$f":"VLOOKUP(U24,Служеб!$AC$4:$AD$13,2)","v":0},{"$f":"VLOOKUP(V24,Служеб!$AC$4:$AD$13,2)","v":0},{"$f":"VLOOKUP(W24,Служеб!$AC$4:$AD$13,2)","v":0},{"$f":"VLOOKUP(X24,Служеб!$AC$4:$AD$13,2)","v":0},{"$f":"VLOOKUP(Y24,Служеб!$AC$4:$AD$13,2)","v":0},0,0,0,0,0,0,0,0,0,0,0,0,0,0,0,0,0,0,0,0,0,0,0,0,0,0,0,0,0,0,0,0,0,0,0,0,{"$f":"COUNTIFS($Z24:$AQ24,0)","v":18},{"$f":"VLOOKUP($DG24,Служеб!$AG$4:$AI$21,2)","v":{"$error":"#N/A"}},{"$f":"VLOOKUP($DG24,Служеб!$AG$4:$AI$21,3)","v":{"$error":"#N/A"}},{"$f":"CC24+CB24","v":{"$error":"#N/A"}},{"$f":"IFERROR(SMALL($Z24:$AQ24,$CE24),-10)","v":-10},{"$f":"IFERROR(LARGE($Z24:$AQ24,$CD24),110)","v":110},{"$f":"COUNTIFS($AR24:$BI24,0)","v":18},{"$f":"COUNTIFS($BJ24:$CA24,0)","v":18},{"$f":"CH24-CB24-CC24","v":{"$error":"#N/A"}},{"$f":"CI24-CB24-CD24","v":{"$error":"#N/A"}},{"$error":"#N/A"},{"$error":"#N/A"},0,0,0,0,0,0,0,0,0,0,0,0,0,0,0,0,0,0,0,{"$f":"Титул!$F$15","v":0},{"$f":"DG24-CC24-CD24","v":{"$error":"#N/A"}},{"$f":"SUM($CO24:$DF24)","v":0},{"$error":"#N/A"},{"$f":"DJ24/DH24","v":{"$error":"#N/A"}},{"$f":"Служеб!$AL$5","v":0.7},{"$f":"DK24*DL24","v":{"$error":"#N/A"}},null,null,"Наблюдатель",0]
[null,null,null,null,null,null,"3. Полемика",null,null,null,null,null,null,null,null,null,null,null,null,null,null,null,null,null,null,{"$f":"VLOOKUP(H25,Служеб!$AC$4:$AD$13,2)","v":0},{"$f":"VLOOKUP(I25,Служеб!$AC$4:$AD$13,2)","v":0},{"$f":"VLOOKUP(J25,Служеб!$AC$4:$AD$13,2)","v":0},{"$f":"VLOOKUP(K25,Служеб!$AC$4:$AD$13,2)","v":0},{"$f":"VLOOKUP(L25,Служеб!$AC$4:$AD$13,2)","v":0},{"$f":"VLOOKUP(M25,Служеб!$AC$4:$AD$13,2)","v":0},{"$f":"VLOOKUP(N25,Служеб!$AC$4:$AD$13,2)","v":0},{"$f":"VLOOKUP(O25,Служеб!$AC$4:$AD$13,2)","v":0},{"$f":"VLOOKUP(P25,Служеб!$AC$4:$AD$13,2)","v":0},{"$f":"VLOOKUP(Q25,Служеб!$AC$4:$AD$13,2)","v":0},{"$f":"VLOOKUP(R25,Служеб!$AC$4:$AD$13,2)","v":0},{"$f":"VLOOKUP(S25,Служеб!$AC$4:$AD$13,2)","v":0},{"$f":"VLOOKUP(T25,Служеб!$AC$4:$AD$13,2)","v":0},{"$f":"VLOOKUP(U25,Служеб!$AC$4:$AD$13,2)","v":0},{"$f":"VLOOKUP(V25,Служеб!$AC$4:$AD$13,2)","v":0},{"$f":"VLOOKUP(W25,Служеб!$AC$4:$AD$13,2)","v":0},{"$f":"VLOOKUP(X25,Служеб!$AC$4:$AD$13,2)","v":0},{"$f":"VLOOKUP(Y25,Служеб!$AC$4:$AD$13,2)","v":0},0,0,0,0,0,0,0,0,0,0,0,0,0,0,0,0,0,0,0,0,0,0,0,0,0,0,0,0,0,0,0,0,0,0,0,0,{"$f":"COUNTIFS($Z25:$AQ25,0)","v":18},{"$f":"VLOOKUP($DG25,Служеб!$AG$4:$AI$21,2)","v":{"$error":"#N/A"}},{"$f":"VLOOKUP($DG25,Служеб!$AG$4:$AI$21,3)","v":{"$error":"#N/A"}},{"$f":"CC25+CB25","v":{"$error":"#N/A"}},{"$f":"IFERROR(SMALL($Z25:$AQ25,$CE25),-10)","v":-10},{"$f":"IFERROR(LARGE($Z25:$AQ25,$CD25),110)","v":110},{"$f":"COUNTIFS($AR25:$BI25,0)","v":18},{"$f":"COUNTIFS($BJ25:$CA25,0)","v":18},{"$f":"CH25-CB25-CC25","v":{"$error":"#N/A"}},{"$f":"CI25-CB25-CD25","v":{"$error":"#N/A"}},{"$error":"#N/A"},{"$error":"#N/A"},{"$f":"IF(CF25=CG25,1,0)","v":0},{"$f":"IF(AR25=BJ25,Z25,0)","v":0},{"$f":"IF(AS25=BK25,AA25,0)","v":0},0,0,0,0,0,0,0,0,0,0,0,0,0,0,0,0,{"$f":"Титул!$F$15","v":0},{"$f":"DG25-CC25-CD25","v":{"$error":"#N/A"}},{"$f":"SUM($CO25:$DF25)","v":0},{"$f":"IF(CN25=1,(CF25*DH25),DI25+CL25+CM25)","v":{"$error":"#N/A"}},{"$f":"DJ25/DH25","v":{"$error":"#N/A"}},{"$f":"Служеб!$AL$6","v":0.8},{"$f":"DK25*DL25","v":{"$error":"#N/A"}},null,null,{"$f":"D27","v":"Оппонент"},{"$f":"DN27","v":{"$error":"#N/A"}}]
[null,null,null,null,null,null,null,null,null,null,null,null,null,null,null,null,null,null,null,null,null,null,null,null,null,null,null,null,null,null,null,null,null,null,null,null,null,null,null,null,null,null,null,null,null,null,null,null,null,null,null,null,null,null,null,null,null,null,null,null,null,null,null,null,null,null,null,null,null,null,null,null,null,null,null,null,null,null,null,null,null,null,null,null,null,null,null,null,null,null,null,null,null,null,null,null,null,null,null,null,null,null,null,null,null,null,null,null,null,null,null,null,null,null,null,null,null,null,null,{"$f":"D30","v":"Рецензент"},{"$f":"DN30","v":{"$error":"#N/A"}}]
[null,null,null,"Оппонент",null,null,"1. Анализ докл.",null,null,null,null,null,null,null,null,null,null,null,null,null,null,null,null,null,null,{"$f":"VLOOKUP(H27,Служеб!$AC$4:$AD$13,2)","v":0},{"$f":"VLOOKUP(I27,Служеб!$AC$4:$AD$13,2)","v":0},{"$f":"VLOOKUP(J27,Служеб!$AC$4:$AD$13,2)","v":0},{"$f":"VLOOKUP(K27,Служеб!$AC$4:$AD$13,2)","v":0},{"$f":"VLOOKUP(L27,Служеб!$AC$4:$AD$13,2)","v":0},{"$f":"VLOOKUP(M27,Служеб!$AC$4:$AD$13,2)","v":0},{"$f":"VLOOKUP(N27,Служеб!$AC$4:$AD$13,2)","v":0},{"$f":"VLOOKUP(O27,Служеб!$AC$4:$AD$13,2)","v":0},{"$f":"VLOOKUP(P27,Служеб!$AC$4:$AD$13,2)","v":0},{"$f":"VLOOKUP(Q27,Служеб!$AC$4:$AD$13,2)","v":0},{"$f":"VLOOKUP(R27,Служеб!$AC$4:$AD$13,2)","v":0},{"$f":"VLOOKUP(S27,Служеб!$AC$4:$AD$13,2)","v":0},{"$f":"VLOOKUP(T27,Служеб!$AC$4:$AD$13,2)","v":0},{"$f":"VLOOKUP(U27,Служеб!$AC$4:$AD$13,2)","v":0},{"$f":"VLOOKUP(V27,Служеб!$AC$4:$AD$13,2)","v":0},{"$f":"VLOOKUP(W27,Служеб!$AC$4:$AD$13,2)","v":0},{"$f":"VLOOKUP(X27,Служеб!$AC$4:$AD$13,2)","v":0},{"$f":"VLOOKUP(Y27,Служеб!$AC$4:$AD$13,2)","v":0},{"$f":"IF(Z27>$CF27,Z27,0)","v":0},0,0,0,0,0,0,0,0,0,{"$f":"IF(AJ27>$CF27,AJ27,0)","v":0},0,0,0,0,0,0,0,{"$f":"IF(Z27<$CG27,Z27,0)","v":0},0,0,0,0,0,0,0,0,0,{"$f":"IF(AJ27<$CG27,AJ27,0)","v":0},0,0,0,0,0,0,0,{"$f":"COUNTIFS($Z27:$AQ27,0)","v":18},{"$f":"VLOOKUP($DG27,Служеб!$AG$4:$AI$21,2)","v":{"$error":"#N/A"}},{"$f":"VLOOKUP($DG27,Служеб!$AG$4:$AI$21,3)","v":{"$error":"#N/A"}},{"$f":"CC27+CB27","v":{"$error":"#N/A"}},{"$f":"IFERROR(SMALL($Z27:$AQ27,$CE27),-10)","v":-10},{"$f":"IFERROR(LARGE($Z27:$AQ27,$CD27),110)","v":110},{"$f":"COUNTIFS($AR27:$BI27,0)","v":18},{"$f":"COUNTIFS($BJ27:$CA27,0)","v":18},{"$f":"CH27-CB27-CC27","v":{"$error":"#N/A"}},{"$f":"CI27-CB27-CD27","v":{"$error":"#N/A"}},{"$f":"CJ27*CF27","v":{"$error":"#N/A"}},{"$f":"CK27*CG27","v":{"$error":"#N/A"}},{"$f":"IF(CF27=CG27,1,0)","v":0},{"$f":"IF(AR27=BJ27,Z27,0)","v":0},0,0,0,0,0,0,0,0,0,{"$f":"IF(BB27=BT27,AJ27,0)","v":0},0,0,0,0,0,0,0,{"$f":"Титул!$F$15","v":0},{"$f":"DG27-CC27-CD27","v":{"$error":"#N/A"}},{"$f":"SUM($CO27:$DF27)","v":0},{"$f":"IF(CN27=1,(CF27*DH27),DI27+CL27+CM27)","v":{"$error":"#N/A"}},{"$f":"DJ27/DH27","v":{"$error":"#N/A"}},{"$f":"Служеб!$AL$7","v":1.2},{"$f":"DK27*DL27","v":{"$error":"#N/A"}},{"$f":"DM27+DM28","v":{"$error":"#N/A"}}]
[null,"ПЕРВЫЙ",null,null,null,null,"2. Полемика",null,null,null,null,null,null,null,null,null,null,null,null,null,null,null,null,null,null,{"$f":"VLOOKUP(H28,Служеб!$AC$4:$AD$13,2)","v":0},{"$f":"VLOOKUP(I28,Служеб!$AC$4:$AD$13,2)","v":0},{"$f":"VLOOKUP(J28,Служеб!$AC$4:$AD$13,2)","v":0},{"$f":"VLOOKUP(K28,Служеб!$AC$4:$AD$13,2)","v":0},{"$f":"VLOOKUP(L28,Служеб!$AC$4:$AD$13,2)","v":0},{"$f":"VLOOKUP(M28,Служеб!$AC$4:$AD$13,2)","v":0},{"$f":"VLOOKUP(N28,Служеб!$AC$4:$AD$13,2)","v":0},{"$f":"VLOOKUP(O28,Служеб!$AC$4:$AD$13,2)","v":0},{"$f":"VLOOKUP(P28,Служеб!$AC$4:$AD$13,2)","v":0},{"$f":"VLOOKUP(Q28,Служеб!$AC$4:$AD$13,2)","v":0},{"$f":"VLOOKUP(R28,Служеб!$AC$4:$AD$13,2)","v":0},{"$f":"VLOOKUP(S28,Служеб!$AC$4:$AD$13,2)","v":0},{"$f":"VLOOKUP(T28,Служеб!$AC$4:$AD$13,2)","v":0},{"$f":"VLOOKUP(U28,Служеб!$AC$4:$AD$13,2)","v":0},{"$f":"VLOOKUP(V28,Служеб!$AC$4:$AD$13,2)","v":0},{"$f":"VLOOKUP(W28,Служеб!$AC$4:$AD$13,2)","v":0},{"$f":"VLOOKUP(X28,Служеб!$AC$4:$AD$13,2)","v":0},{"$f":"VLOOKUP(Y28,Служеб!$AC$4:$AD$13,2)","v":0},0,0,0,0,0,0,0,0,0,0,0,0,0,0,0,0,0,0,0,0,0,0,0,0,0,0,0,0,0,0,0,0,0,0,0,0,{"$f":"COUNTIFS($Z28:$AQ28,0)","v":18},{"$f":"VLOOKUP($DG28,Служеб!$AG$4:$AI$21,2)","v":{"$error":"#N/A"}},{"$f":"VLOOKUP($DG28,Служеб!$AG$4:$AI$21,3)","v":{"$error":"#N/A"}},{"$f":"CC28+CB28","v":{"$error":"#N/A"}},{"$f":"IFERROR(SMALL($Z28:$AQ28,$CE28),-10)","v":-10},{"$f":"IFERROR(LARGE($Z28:$AQ28,$CD28),110)","v":110},{"$f":"COUNTIFS($AR28:$BI28,0)","v":18},{"$f":"COUNTIFS($BJ28:$CA28,0)","v":18},{"$f":"CH28-CB28-CC28","v":{"$error":"#N/A"}},{"$f":"CI28-CB28-CD28","v":{"$error":"#N/A"}},{"$f":"CJ28*CF28","v":{"$error":"#N/A"}},{"$f":"CK28*CG28","v":{"$error":"#N/A"}},0,0,0,0,0,0,0,0,0,0,0,0,0,0,0,0,0,0,0,{"$f":"Титул!$F$15","v":0},{"$f":"DG28-CC28-CD28","v":{"$error":"#N/A"}},{"$f":"SUM($CO28:$DF28)","v":0},{"$error":"#N/A"},{"$f":"DJ28/DH28","v":{"$error":"#N/A"}},{"$f":"Служеб!$AL$8","v":0.8},{"$f":"DK28*DL28","v":{"$error":"#N/A"}}]
[]
[null,null,null,"Рецензент",null,null,"1. Рецензия",null,null,null,null,null,null,null,null,null,null,null,null,null,null,null,null,null,null,{"$f":"VLOOKUP(H30,Служеб!$AC$4:$AD$13,2)","v":0},{"$f":"VLOOKUP(I30,Служеб!$AC$4:$AD$13,2)","v":0},{"$f":"VLOOKUP(J30,Служеб!$AC$4:$AD$13,2)","v":0},{"$f":"VLOOKUP(K30,Служеб!$AC$4:$AD$13,2)","v":0},{"$f":"VLOOKUP(L30,Служеб!$AC$4:$AD$13,2)","v":0},{"$f":"VLOOKUP(M30,Служеб!$AC$4:$AD$13,2)","v":0},{"$f":"VLOOKUP(N30,Служеб!$AC$4:$AD$13,2)","v":0},{"$f":"VLOOKUP(O30,Служеб!$AC$4:$AD$13,2)","v":0},{"$f":"VLOOKUP(P30,Служеб!$AC$4:$AD$13,2)","v":0},{"$f":"VLOOKUP(Q30,Служеб!$AC$4:$AD$13,2)","v":0},{"$f":"VLOOKUP(R30,Служеб!$AC$4:$AD$13,2)","v":0},{"$f":"VLOOKUP(S30,Служеб!$AC$4:$AD$13,2)","v":0},{"$f":"VLOOKUP(T30,Служеб!$AC$4:$AD$13,2)","v":0},{"$f":"VLOOKUP(U30,Служеб!$AC$4:$AD$13,2)","v":0},{"$f":"VLOOKUP(V30,Служеб!$AC$4:$AD$13,2)","v":0},{"$f":"VLOOKUP(W30,Служеб!$AC$4:$AD$13,2)","v":0},{"$f":"VLOOKUP(X30,Служеб!$AC$4:$AD$13,2)","v":0},{"$f":"VLOOKUP(Y30,Служеб!$AC$4:$AD$13,2)","v":0},{"$f":"IF(Z30>$CF30,Z30,0)","v":0},0,0,0,0,0,0,0,0,0,0,0,0,0,0,0,0,0,{"$f":"IF(Z30<$CG30,Z30,0)","v":0},0,0,0,0,0,0,0,0,0,0,0,0,0,0,0,0,0,{"$f":"COUNTIFS($Z30:$AQ30,0)","v":18},{"$f":"VLOOKUP($DG30,Служеб!$AG$4:$AI$21,2)","v":{"$error":"#N/A"}},{"$f":"VLOOKUP($DG30,Служеб!$AG$4:$AI$21,3)","v":{"$error":"#N/A"}},{"$f":"CC30+CB30","v":{"$error":"#N/A"}},{"$f":"IFERROR(SMALL($Z30:$AQ30,$CE30),-10)","v":-10},{"$f":"IFERROR(LARGE($Z30:$AQ30,$CD30),110)","v":110},{"$f":"COUNTIFS($AR30:$BI30,0)","v":18},{"$f":"COUNTIFS($BJ30:$CA30,0)","v":18},{"$f":"CH30-CB30-CC30","v":{"$error":"#N/A"}},{"$f":"CI30-CB30-CD30","v":{"$error":"#N/A"}},{"$f":"CJ30*CF30","v":{"$error":"#N/A"}},{"$f":"CK30*CG30","v":{"$error":"#N/A"}},0,{"$f":"IF(AR30=BJ30,Z30,0)","v":0},0,0,0,0,0,0,0,0,0,0,0,0,0,0,0,0,0,{"$f":"Титул!$F$15","v":0},{"$f":"DG30-CC30-CD30","v":{"$error":"#N/A"}},{"$f":"SUM($CO30:$DF30)","v":0},{"$error":"#N/A"},{"$f":"DJ30/DH30","v":{"$error":"#N/A"}},{"$f":"Служеб!$AL$9","v":1},{"$f":"DK30*DL30","v":{"$error":"#N/A"}},{"$f":"DM30","v":{"$error":"#N/A"}}]
[]
[]
[]
[]
[]
[null,null,null,"2 РАУНД"]
[]
[null,"ВТОРОЙ",null,"Докладчик",{"$f":"IF(Титул!$G$47=\"Д\",Титул!$E$47,IF(Титул!$G$48=\"Д\",Титул!$E$48,IF(Титул!$G$49=\"Д\",Титул!$E$49,IF(Титул!$G$50=\"Д\",Титул!$E$50,0))))","v":0},null,null,{"$f":"VLOOKUP($E38,Участники!$A$2:$B$23,2)","v":{"$error":"#N/A"}}]
[null,null,null,"Оппонент",{"$f":"IF(Титул!$G$47=\"О\",Титул!$E$47,IF(Титул!$G$48=\"О\",Титул!$E$48,IF(Титул!$G$49=\"О\",Титул!$E$49,IF(Титул!$G$50=\"О\",Титул!$E$50,0))))","v":0},null,null,{"$f":"VLOOKUP($E39,Участники!$A$2:$B$23,2)","v":{"$error":"#N/A"}}]
[null,null,null,"Рецензент",{"$f":"IF(Титул!$G$47=\"Р\",Титул!$E$47,IF(Титул!$G$48=\"Р\",Титул!$E$48,IF(Титул!$G$49=\"Р\",Титул!$E$49,IF(Титул!$G$50=\"Р\",Титул!$E$50,0))))","v":0},null,null,{"$f":"VLOOKUP($E40,Участники!$A$2:$B$23,2)","v":{"$error":"#N/A"}}]
[]
[null,"ВТОРОЙ",null,"Вызов на задачу:",null,"Отказы во время боя",null,"Возможно дать отказы от:",null,null,null,null,null,{"$f":"Служеб!$AO$4","v":3},null,null,{"$f":"IF(N42=1,\"задачи\",IF(N42=2,\"задач\",IF(N42=3,\"задач\",\"задач\")))","v":"задач"},null,null,null,null,null,null,null,null,"Вечные отказы",null,null,null,"Возможно дать ",null,null,null,{"$f":"Служеб!$AP$11","v":3},null,{"$f":"IF(AH42=1,\"отказ\",IF(AH42=2,\"отказа\",IF(AH42=3,\"отказа\",IF(AH42=4,\"отказа\",IF(AH42=5,\"отказов\",\"отказа\")))))","v":"отказа"}]
[null,null,null,null,null,"№ отказа","Тип отказа","№ задачи",null,null,"Название задачи",null,null,null,null,null,null,null,null,null,null,null,null,null,null,"№ отказа",null,"№ задачи",null,"Название задачи"]
[null,null,null,null,null,1,{"$f":"Служеб!$AP$4","v":"Тактич"},null,null,null,{"$f":"IFERROR(VLOOKUP($H44,Служеб!$AR$4:$AS$26,2),0)","v":0},null,null,null,null,null,null,null,null,null,null,null,null,null,null,1,null,null,null,{"$f":"IFERROR(VLOOKUP($AB44,Служеб!$AR$4:$AS$26,2),0)","v":0}]
[null,null,null,null,null,2,{"$f":"Служеб!$AP$5","v":"Тактич"},null,null,null,{"$f":"IFERROR(VLOOKUP($H45,Служеб!$AR$4:$AS$26,2),0)","v":0},null,null,null,null,null,null,null,null,null,null,null,null,null,null,2,null,null,null,{"$f":"IFERROR(VLOOKUP($AB45,Служеб!$AR$4:$AS$26,2),0)","v":0}]
[null,"ВТОРОЙ",null,null,null,3,{"$f":"Служеб!$AP$6","v":"Стратег"},null,null,null,{"$f":"IFERROR(VLOOKUP($H46,Служеб!$AR$4:$AS$26,2),0)","v":0},null,null,null,null,null,null,null,null,null,null,null,null,null,null,3,null,null,null,{"$f":"IFERROR(VLOOKUP($AB46,Служеб!$AR$4:$AS$26,2),0)","v":0}]
[null,null,null,null,null,null,null,null,null,null,null,null,null,null,null,null,null,null,null,null,null,null,null,null,null,4,null,null,null,{"$f":"IFERROR(VLOOKUP($AB47,Служеб!$AR$4:$AS$26,2),0)","v":0}]
[null,null,null,"Играем задачу:",null,"№ задачи","Название задачи",null,null,null,null,null,null,null,null,null,null,null,null,null,null,null,null,null,null,5,null,null,null,{"$f":"IFERROR(VLOOKUP($AB48,Служеб!$AR$4:$AS$26,2),0)","v":0}]
[null,null,null,null,null,null,{"$f":"IFERROR(VLOOKUP($F$49,Служеб!$AR$4:$AS$26,2),0)","v":0}]
[null,"ВТОРОЙ",null,null,null,null,null,null,null,null,null,null,null,null,null,null,null,null,null,null,null,null,null,null,null,"Штрафы за отказ сверх установленной нормы"]
[null,null,null,null,null,null,null,null,null,null,null,null,null,null,null,null,null,null,null,null,null,null,null,null,null,"№ отказа",null,null,null,0,null,"Коэффициент",null,null,null,{"$f":"VLOOKUP($AD$51,Служеб!$AN$15:$AO$27,2)","v":1}]
[]
[null,null,null,"Оценка выступлений"]
[]
[null,"ВТОРОЙ",null,"Роль","ФИ участника",null,"Жюри",{"$f":"IFERROR(VLOOKUP(Титул!$E$16,Жюри!$D$2:$E$250,2,FALSE),0)","v":0},{"$f":"IFERROR(VLOOKUP(Титул!$E$17,Жюри!$D$2:$E$250,2,FALSE),0)","v":0},{"$f":"IFERROR(VLOOKUP(Титул!$E$18,Жюри!$D$2:$E$250,2,FALSE),0)","v":0},{"$f":"IFERROR(VLOOKUP(Титул!$E$19,Жюри!$D$2:$E$250,2,FALSE),0)","v":0},{"$f":"IFERROR(VLOOKUP(Титул!$E$20,Жюри!$D$2:$E$250,2,FALSE),0)","v":0},{"$f":"IFERROR(VLOOKUP(Титул!$E$21,Жюри!$D$2:$E$250,2,FALSE),0)","v":0},{"$f":"IFERROR(VLOOKUP(Титул!$E$22,Жюри!$D$2:$E$250,2,FALSE),0)","v":0},{"$f":"IFERROR(VLOOKUP(Титул!$E$23,Жюри!$D$2:$E$250,2,FALSE),0)","v":0},{"$f":"IFERROR(VLOOKUP(Титул!$E$24,Жюри!$D$2:$E$250,2,FALSE),0)","v":0},{"$f":"IFERROR(VLOOKUP(Титул!$E$25,Жюри!$D$2:$E$250,2,FALSE),0)","v":0},{"$f":"IFERROR(VLOOKUP(Титул!$E$26,Жюри!$D$2:$E$250,2,FALSE),0)","v":0},{"$f":"IFERROR(VLOOKUP(Титул!$E$27,Жюри!$D$2:$E$250,2,FALSE),0)","v":0},{"$f":"IFERROR(VLOOKUP(Титул!$E$28,Жюри!$D$2:$E$250,2,FALSE),0)","v":0},{"$f":"IFERROR(VLOOKUP(Титул!$E$29,Жюри!$D$2:$E$85,2,FALSE),0)","v":0},{"$f":"IFERROR(VLOOKUP(Титул!$E$30,Жюри!$D$2:$E$85,2,FALSE),0)","v":0},{"$f":"IFERROR(VLOOKUP(Титул!$E$31,Жюри!$D$2:$E$85,2,FALSE),0)","v":0},{"$f":"IFERROR(VLOOKUP(Титул!$E$32,Жюри!$D$2:$E$85,2,FALSE),0)","v":0},{"$f":"IFERROR(VLOOKUP(Титул!$E$33,Жюри!$D$2:$E$85,2,FALSE),0)","v":0},{"$f":"IFERROR(VLOOKUP(Титул!$E$16,Жюри!$D$2:$E$250,2,FALSE),0)","v":0},{"$f":"IFERROR(VLOOKUP(Титул!$E$17,Жюри!$D$2:$E$250,2,FALSE),0)","v":0},{"$f":"IFERROR(VLOOKUP(Титул!$E$18,Жюри!$D$2:$E$250,2,FALSE),0)","v":0},{"$f":"IFERROR(VLOOKUP(Титул!$E$19,Жюри!$D$2:$E$250,2,FALSE),0)","v":0},{"$f":"IFERROR(VLOOKUP(Титул!$E$20,Жюри!$D$2:$E$250,2,FALSE),0)","v":0},{"$f":"IFERROR(VLOOKUP(Титул!$E$21,Жюри!$D$2:$E$250,2,FALSE),0)","v":0},{"$f":"IFERROR(VLOOKUP(Титул!$E$22,Жюри!$D$2:$E$250,2,FALSE),0)","v":0},{"$f":"IFERROR(VLOOKUP(Титул!$E$23,Жюри!$D$2:$E$250,2,FALSE),0)","v":0},{"$f":"IFERROR(VLOOKUP(Титул!$E$24,Жюри!$D$2:$E$250,2,FALSE),0)","v":0},{"$f":"IFERROR(VLOOKUP(Титул!$E$25,Жюри!$D$2:$E$250,2,FALSE),0)","v":0},{"$f":"IFERROR(VLOOKUP(Титул!$E$26,Жюри!$D$2:$E$250,2,FALSE),0)","v":0},{"$f":"IFERROR(VLOOKUP(Титул!$E$27,Жюри!$D$2:$E$250,2,FALSE),0)","v":0},{"$f":"IFERROR(VLOOKUP(Титул!$E$28,Жюри!$D$2:$E$250,2,FALSE),0)","v":0},{"$f":"IFERROR(VLOOKUP(Титул!$E$29,Жюри!$D$2:$E$85,2,FALSE),0)","v":0},{"$f":"IFERROR(VLOOKUP(Титул!$E$30,Жюри!$D$2:$E$85,2,FALSE),0)","v":0},{"$f":"IFERROR(VLOOKUP(Титул!$E$31,Жюри!$D$2:$E$85,2,FALSE),0)","v":0},{"$f":"IFERROR(VLOOKUP(Титул!$E$32,Жюри!$D$2:$E$85,2,FALSE),0)","v":0},{"$f":"IFERROR(VLOOKUP(Титул!$E$33,Жюри!$D$2:$E$85,2,FALSE),0)","v":0},{"$f":"IFERROR(VLOOKUP(Титул!$E$16,Жюри!$D$2:$E$85,2,FALSE),0)","v":0},{"$f":"IFERROR(VLOOKUP(Титул!$E$17,Жюри!$D$2:$E$85,2,FALSE),0)","v":0},{"$f":"IFERROR(VLOOKUP(Титул!$E$18,Жюри!$D$2:$E$85,2,FALSE),0)","v":0},{"$f":"IFERROR(VLOOKUP(Титул!$E$19,Жюри!$D$2:$E$85,2,FALSE),0)","v":0},{"$f":"IFERROR(VLOOKUP(Титул!$E$20,Жюри!$D$2:$E$85,2,FALSE),0)","v":0},{"$f":"IFERROR(VLOOKUP(Титул!$E$21,Жюри!$D$2:$E$85,2,FALSE),0)","v":0},{"$f":"IFERROR(VLOOKUP(Титул!$E$22,Жюри!$D$2:$E$85,2,FALSE),0)","v":0},{"$f":"IFERROR(VLOOKUP(Титул!$E$23,Жюри!$D$2:$E$85,2,FALSE),0)","v":0},{"$f":"IFERROR(VLOOKUP(Титул!$E$24,Жюри!$D$2:$E$85,2,FALSE),0)","v":0},{"$f":"IFERROR(VLOOKUP(Титул!$E$25,Жюри!$D$2:$E$85,2,FALSE),0)","v":0},{"$f":"IFERROR(VLOOKUP(Титул!$E$26,Жюри!$D$2:$E$85,2,FALSE),0)","v":0},{"$f":"IFERROR(VLOOKUP(Титул!$E$27,Жюри!$D$2:$E$85,2,FALSE),0)","v":0},{"$f":"IFERROR(VLOOKUP(Титул!$E$28,Жюри!$D$2:$E$85,2,FALSE),0)","v":0},{"$f":"IFERROR(VLOOKUP(Титул!$E$29,Жюри!$D$2:$E$85,2,FALSE),0)","v":0},{"$f":"IFERROR(VLOOKUP(Титул!$E$30,Жюри!$D$2:$E$85,2,FALSE),0)","v":0},{"$f":"IFERROR(VLOOKUP(Титул!$E$31,Жюри!$D$2:$E$85,2,FALSE),0)","v":0},{"$f":"IFERROR(VLOOKUP(Титул!$E$32,Жюри!$D$2:$E$85,2,FALSE),0)","v":0},{"$f":"IFERROR(VLOOKUP(Титул!$E$33,Жюри!$D$2:$E$85,2,FALSE),0)","v":0},{"$f":"IFERROR(VLOOKUP(Титул!$E$16,Жюри!$D$2:$E$85,2,FALSE),0)","v":0},{"$f":"IFERROR(VLOOKUP(Титул!$E$17,Жюри!$D$2:$E$85,2,FALSE),0)","v":0},{"$f":"IFERROR(VLOOKUP(Титул!$E$18,Жюри!$D$2:$E$85,2,FALSE),0)","v":0},{"$f":"IFERROR(VLOOKUP(Титул!$E$19,Жюри!$D$2:$E$85,2,FALSE),0)","v":0},{"$f":"IFERROR(VLOOKUP(Титул!$E$20,Жюри!$D$2:$E$85,2,FALSE),0)","v":0},{"$f":"IFERROR(VLOOKUP(Титул!$E$21,Жюри!$D$2:$E$85,2,FALSE),0)","v":0},{"$f":"IFERROR(VLOOKUP(Титул!$E$22,Жюри!$D$2:$E$85,2,FALSE),0)","v":0},{"$f":"IFERROR(VLOOKUP(Титул!$E$23,Жюри!$D$2:$E$85,2,FALSE),0)","v":0},{"$f":"IFERROR(VLOOKUP(Титул!$E$24,Жюри!$D$2:$E$85,2,FALSE),0)","v":0},{"$f":"IFERROR(VLOOKUP(Титул!$E$25,Жюри!$D$2:$E$85,2,FALSE),0)","v":0},{"$f":"IFERROR(VLOOKUP(Титул!$E$26,Жюри!$D$2:$E$85,2,FALSE),0)","v":0},{"$f":"IFERROR(VLOOKUP(Титул!$E$27,Жюри!$D$2:$E$85,2,FALSE),0)","v":0},{"$f":"IFERROR(VLOOKUP(Титул!$E$28,Жюри!$D$2:$E$85,2,FALSE),0)","v":0},{"$f":"IFERROR(VLOOKUP(Титул!$E$29,Жюри!$D$2:$E$85,2,FALSE),0)","v":0},{"$f":"IFERROR(VLOOKUP(Титул!$E$30,Жюри!$D$2:$E$85,2,FALSE),0)","v":0},{"$f":"IFERROR(VLOOKUP(Титул!$E$31,Жюри!$D$2:$E$85,2,FALSE),0)","v":0},{"$f":"IFERROR(VLOOKUP(Титул!$E$32,Жюри!$D$2:$E$85,2,FALSE),0)","v":0},{"$f":"IFERROR(VLOOKUP(Титул!$E$33,Жюри!$D$2:$E$85,2,FALSE),0)","v":0},"Кол-во пустых","Отбрасыв снизу оценок (правила)","Отбрасыв сверху оценок (правила)","Отбрасыв снизу оценок (с учетом пустых)","Отбрасыв снизу в баллах","Отбрасыв сверху в баллах","Число значений \"ноль\" снизу","Число значений \"ноль\" сверху","Отброшено снизу лишних оценок","Отброшено сверху лишних оценок","Нужно добавить к сумме снизу","Нужно добавить к сумме сверху","однородные оценки",{"$f":"IFERROR(VLOOKUP(Титул!$E$16,Жюри!$D$2:$E$85,2),0)","v":0},{"$f":"IFERROR(VLOOKUP(Титул!$E$17,Жюри!$D$2:$E$85,2),0)","v":0},{"$f":"IFERROR(VLOOKUP(Титул!$E$18,Жюри!$D$2:$E$85,2),0)","v":0},{"$f":"IFERROR(VLOOKUP(Титул!$E$19,Жюри!$D$2:$E$85,2),0)","v":0},{"$f":"IFERROR(VLOOKUP(Титул!$E$20,Жюри!$D$2:$E$85,2),0)","v":0},{"$f":"IFERROR(VLOOKUP(Титул!$E$21,Жюри!$D$2:$E$85,2),0)","v":0},{"$f":"IFERROR(VLOOKUP(Титул!$E$22,Жюри!$D$2:$E$85,2),0)","v":0},{"$f":"IFERROR(VLOOKUP(Титул!$E$23,Жюри!$D$2:$E$85,2),0)","v":0},{"$f":"IFERROR(VLOOKUP(Титул!$E$24,Жюри!$D$2:$E$85,2),0)","v":0},{"$f":"IFERROR(VLOOKUP(Титул!$E$25,Жюри!$D$2:$E$85,2),0)","v":0},{"$f":"IFERROR(VLOOKUP(Титул!$E$26,Жюри!$D$2:$E$85,2),0)","v":0},{"$f":"IFERROR(VLOOKUP(Титул!$E$27,Жюри!$D$2:$E$85,2),0)","v":0},{"$f":"IFERROR(VLOOKUP(Титул!$E$28,Жюри!$D$2:$E$85,2),0)","v":0},{"$f":"IFERROR(VLOOKUP(Титул!$E$29,Жюри!$D$2:$E$85,2),0)","v":0},{"$f":"IFERROR(VLOOKUP(Титул!$E$30,Жюри!$D$2:$E$85,2),0)","v":0},{"$f":"IFERROR(VLOOKUP(Титул!$E$31,Жюри!$D$2:$E$85,2),0)","v":0},{"$f":"IFERROR(VLOOKUP(Титул!$E$32,Жюри!$D$2:$E$85,2),0)","v":0},{"$f":"IFERROR(VLOOKUP(Титул!$E$33,Жюри!$D$2:$E$85,2),0)","v":0},null,null,"Рассчитывается по таблице \"Сведение отброшенных снизу и сверху воедино\"","Рассчитывается из предыдущей колонки с учетом \"Нужно добавить к сумме\" снизу и сверху","Среднее по категории","Коэффициент","Умножено на коэффициент","Сумма за раунд"]
[null,null,null,null,null,null,"Категория","Оценки членов жюри",null,null,null,null,null,null,null,null,null,null,null,null,null,null,null,null,null,"Перевод оценок в баллы",null,null,null,null,null,null,null,null,null,null,null,null,null,null,null,null,null,"Отбрасывание крайних оценок снизу",null,null,null,null,null,null,null,null,null,null,null,null,null,null,null,null,null,"Отбрасывание крайних оценок сверху",null,null,null,null,null,null,null,null,null,null,null,null,null,null,null,null,null,null,null,null,null,null,null,null,null,null,null,null,null,null,"Сведение отброшеных снизу и сверху воедино для подсчета суммы",null,null,null,null,null,null,null,null,null,null,null,null,null,null,null,null,null,"кол-во жюри","кол-во оценок","Сумма сводная","Сумма реальная",null,null,null,null,null,null,"Баллы"]
[null,"ВТОРОЙ",null,"Докладчик",null,null,"1. Содерж. часть",null,null,null,null,null,null,null,null,null,null,null,null,null,null,null,null,null,null,{"$f":"VLOOKUP(H57,Служеб!$AC$4:$AD$13,2)","v":0},{"$f":"VLOOKUP(I57,Служеб!$AC$4:$AD$13,2)","v":0},{"$f":"VLOOKUP(J57,Служеб!$AC$4:$AD$13,2)","v":0},{"$f":"VLOOKUP(K57,Служеб!$AC$4:$AD$13,2)","v":0},{"$f":"VLOOKUP(L57,Служеб!$AC$4:$AD$13,2)","v":0},{"$f":"VLOOKUP(M57,Служеб!$AC$4:$AD$13,2)","v":0},{"$f":"VLOOKUP(N57,Служеб!$AC$4:$AD$13,2)","v":0},{"$f":"VLOOKUP(O57,Служеб!$AC$4:$AD$13,2)","v":0},{"$f":"VLOOKUP(P57,Служеб!$AC$4:$AD$13,2)","v":0},{"$f":"VLOOKUP(Q57,Служеб!$AC$4:$AD$13,2)","v":0},{"$f":"VLOOKUP(R57,Служеб!$AC$4:$AD$13,2)","v":0},{"$f":"VLOOKUP(S57,Служеб!$AC$4:$AD$13,2)","v":0},{"$f":"VLOOKUP(T57,Служеб!$AC$4:$AD$13,2)","v":0},{"$f":"VLOOKUP(U57,Служеб!$AC$4:$AD$13,2)","v":0},{"$f":"VLOOKUP(V57,Служеб!$AC$4:$AD$13,2)","v":0},{"$f":"VLOOKUP(W57,Служеб!$AC$4:$AD$13,2)","v":0},{"$f":"VLOOKUP(X57,Служеб!$AC$4:$AD$13,2)","v":0},{"$f":"VLOOKUP(Y57,Служеб!$AC$4:$AD$13,2)","v":0},{"$f":"IF(Z57>$CF57,Z57,0)","v":0},0,0,0,0,0,0,0,0,0,{"$f":"IF(AJ57>$CF57,AJ57,0)","v":0},0,0,0,0,0,0,0,{"$f":"IF(Z57<$CG57,Z57,0)","v":0},0,0,0,0,0,0,0,0,0,{"$f":"IF(AJ57<$CG57,AJ57,0)","v":0},0,0,0,0,0,0,0,{"$f":"COUNTIFS($Z57:$AQ57,0)","v":18},{"$f":"VLOOKUP($DG57,Служеб!$AG$4:$AI$21,2)","v":{"$error":"#N/A"}},{"$f":"VLOOKUP($DG57,Служеб!$AG$4:$AI$21,3)","v":{"$error":"#N/A"}},{"$f":"CC57+CB57","v":{"$error":"#N/A"}},{"$f":"IFERROR(SMALL($Z57:$AQ57,$CE57),-10)","v":-10},{"$f":"IFERROR(LARGE($Z57:$AQ57,$CD57),110)","v":110},{"$f":"COUNTIFS($AR57:$BI57,0)","v":18},{"$f":"COUNTIFS($BJ57:$CA57,0)","v":18},{"$f":"CH57-CB57-CC57","v":{"$error":"#N/A"}},{"$f":"CI57-CB57-CD57","v":{"$error":"#N/A"}},{"$f":"CJ57*CF57","v":{"$error":"#N/A"}},{"$error":"#N/A"},{"$f":"IF(CF57=CG57,1,0)","v":0},{"$f":"IF(AR57=BJ57,Z57,0)","v":0},0,0,0,0,0,0,0,0,0,{"$f":"IF(BB57=BT57,AJ57,0)","v":0},0,0,0,0,0,0,0,{"$f":"Титул!$F$15","v":0},{"$f":"DG57-CC57-CD57","v":{"$error":"#N/A"}},{"$f":"SUM($CO57:$DF57)","v":0},{"$f":"IF(CN57=1,(CF57*DH57),DI57+CL57+CM57)","v":{"$error":"#N/A"}},{"$f":"DJ57/DH57","v":{"$error":"#N/A"}},{"$f":"Служеб!$AL$4","v":1.5},{"$f":"DK57*DL57","v":{"$error":"#N/A"}},{"$f":"(DM57+DM58+DM59)*$AJ$51","v":{"$error":"#N/A"}},null,{"$f":"D57","v":"Докладчик"},{"$f":"DN57","v":{"$error":"#N/A"}},{"$f":"DQ57/AJ51","v":{"$error":"#N/A"}}]
[null,null,null,null,null,null,"2. Умение докл.",null,null,null,null,null,null,null,null,null,null,null,null,null,null,null,null,null,null,{"$f":"VLOOKUP(H58,Служеб!$AC$4:$AD$13,2)","v":0},{"$f":"VLOOKUP(I58,Служеб!$AC$4:$AD$13,2)","v":0},{"$f":"VLOOKUP(J58,Служеб!$AC$4:$AD$13,2)","v":0},{"$f":"VLOOKUP(K58,Служеб!$AC$4:$AD$13,2)","v":0},{"$f":"VLOOKUP(L58,Служеб!$AC$4:$AD$13,2)","v":0},{"$f":"VLOOKUP(M58,Служеб!$AC$4:$AD$13,2)","v":0},{"$f":"VLOOKUP(N58,Служеб!$AC$4:$AD$13,2)","v":0},{"$f":"VLOOKUP(O58,Служеб!$AC$4:$AD$13,2)","v":0},{"$f":"VLOOKUP(P58,Служеб!$AC$4:$AD$13,2)","v":0},{"$f":"VLOOKUP(Q58,Служеб!$AC$4:$AD$13,2)","v":0},{"$f":"VLOOKUP(R58,Служеб!$AC$4:$AD$13,2)","v":0},{"$f":"VLOOKUP(S58,Служеб!$AC$4:$AD$13,2)","v":0},{"$f":"VLOOKUP(T58,Служеб!$AC$4:$AD$13,2)","v":0},{"$f":"VLOOKUP(U58,Служеб!$AC$4:$AD$13,2)","v":0},{"$f":"VLOOKUP(V58,Служеб!$AC$4:$AD$13,2)","v":0},{"$f":"VLOOKUP(W58,Служеб!$AC$4:$AD$13,2)","v":0},{"$f":"VLOOKUP(X58,Служеб!$AC$4:$AD$13,2)","v":0},{"$f":"VLOOKUP(Y58,Служеб!$AC$4:$AD$13,2)","v":0},0,0,0,0,0,0,0,0,0,0,0,0,0,0,0,0,0,0,0,0,0,0,0,0,0,0,0,0,0,0,0,0,0,0,0,0,{"$f":"COUNTIFS($Z58:$AQ58,0)","v":18},{"$f":"VLOOKUP($DG58,Служеб!$AG$4:$AI$21,2)","v":{"$error":"#N/A"}},{"$f":"VLOOKUP($DG58,Служеб!$AG$4:$AI$21,3)","v":{"$error":"#N/A"}},{"$f":"CC58+CB58","v":{"$error":"#N/A"}},{"$f":"IFERROR(SMALL($Z58:$AQ58,$CE58),-10)","v":-10},{"$f":"IFERROR(LARGE($Z58:$AQ58,$CD58),110)","v":110},{"$f":"COUNTIFS($AR58:$BI58,0)","v":18},{"$f":"COUNTIFS($BJ58:$CA58,0)","v":18},{"$f":"CH58-CB58-CC58","v":{"$error":"#N/A"}},{"$f":"CI58-CB58-CD58","v":{"$error":"#N/A"}},{"$error":"#N/A"},{"$error":"#N/A"},0,0,0,0,0,0,0,0,0,0,0,0,0,0,0,0,0,0,0,{"$f":"Титул!$F$15","v":0},{"$f":"DG58-CC58-CD58","v":{"$error":"#N/A"}},{"$f":"SUM($CO58:$DF58)","v":0},{"$error":"#N/A"},{"$f":"DJ58/DH58","v":{"$error":"#N/A"}},{"$f":"Служеб!$AL$5","v":0.7},{"$f":"DK58*DL58","v":{"$error":"#N/A"}},null,null,"Наблюдатель",0]
[null,null,null,null,null,null,"3. Полемика",null,null,null,null,null,null,null,null,null,null,null,null,null,null,null,null,null,null,{"$f":"VLOOKUP(H59,Служеб!$AC$4:$AD$13,2)","v":0},{"$f":"VLOOKUP(I59,Служеб!$AC$4:$AD$13,2)","v":0},{"$f":"VLOOKUP(J59,Служеб!$AC$4:$AD$13,2)","v":0},{"$f":"VLOOKUP(K59,Служеб!$AC$4:$AD$13,2)","v":0},{"$f":"VLOOKUP(L59,Служеб!$AC$4:$AD$13,2)","v":0},{"$f":"VLOOKUP(M59,Служеб!$AC$4:$AD$13,2)","v":0},{"$f":"VLOOKUP(N59,Служеб!$AC$4:$AD$13,2)","v":0},{"$f":"VLOOKUP(O59,Служеб!$AC$4:$AD$13,2)","v":0},{"$f":"VLOOKUP(P59,Служеб!$AC$4:$AD$13,2)","v":0},{"$f":"VLOOKUP(Q59,Служеб!$AC$4:$AD$13,2)","v":0},{"$f":"VLOOKUP(R59,Служеб!$AC$4:$AD$13,2)","v":0},{"$f":"VLOOKUP(S59,Служеб!$AC$4:$AD$13,2)","v":0},{"$f":"VLOOKUP(T59,Служеб!$AC$4:$AD$13,2)","v":0},{"$f":"VLOOKUP(U59,Служеб!$AC$4:$AD$13,2)","v":0},{"$f":"VLOOKUP(V59,Служеб!$AC$4:$AD$13,2)","v":0},{"$f":"VLOOKUP(W59,Служеб!$AC$4:$AD$13,2)","v":0},{"$f":"VLOOKUP(X59,Служеб!$AC$4:$AD$13,2)","v":0},{"$f":"VLOOKUP(Y59,Служеб!$AC$4:$AD$13,2)","v":0},0,0,0,0,0,0,0,0,0,0,0,0,0,0,0,0,0,0,0,0,0,0,0,0,0,0,0,0,0,0,0,0,0,0,0,0,{"$f":"COUNTIFS($Z59:$AQ59,0)","v":18},{"$f":"VLOOKUP($DG59,Служеб!$AG$4:$AI$21,2)","v":{"$error":"#N/A"}},{"$f":"VLOOKUP($DG59,Служеб!$AG$4:$AI$21,3)","v":{"$error":"#N/A"}},{"$f":"CC59+CB59","v":{"$error":"#N/A"}},{"$f":"IFERROR(SMALL($Z59:$AQ59,$CE59),-10)","v":-10},{"$f":"IFERROR(LARGE($Z59:$AQ59,$CD59),110)","v":110},{"$f":"COUNTIFS($AR59:$BI59,0)","v":18},{"$f":"COUNTIFS($BJ59:$CA59,0)","v":18},{"$f":"CH59-CB59-CC59","v":{"$error":"#N/A"}},{"$f":"CI59-CB59-CD59","v":{"$error":"#N/A"}},{"$error":"#N/A"},{"$error":"#N/A"},{"$f":"IF(CF59=CG59,1,0)","v":0},0,0,0,0,0,0,0,0,0,0,0,0,0,0,0,0,0,0,{"$f":"Титул!$F$15","v":0},{"$f":"DG59-CC59-CD59","v":{"$error":"#N/A"}},{"$f":"SUM($CO59:$DF59)","v":0},{"$f":"IF(CN59=1,(CF59*DH59),DI59+CL59+CM59)","v":{"$error":"#N/A"}},{"$f":"DJ59/DH59","v":{"$error":"#N/A"}},{"$f":"Служеб!$AL$6","v":0.8},{"$f":"DK59*DL59","v":{"$error":"#N/A"}},null,null,{"$f":"D61","v":"Оппонент"},{"$f":"DN61","v":{"$error":"#N/A"}}]
[null,null,null,null,null,null,null,null,null,null,null,null,null,null,null,null,null,null,null,null,null,null,null,null,null,null,null,null,null,null,null,null,null,null,null,null,null,null,null,null,null,null,null,null,null,null,null,null,null,null,null,null,null,null,null,null,null,null,null,null,null,null,null,null,null,null,null,null,null,null,null,null,null,null,null,null,null,null,null,null,null,null,null,null,null,null,null,null,null,null,null,null,null,null,null,null,null,null,null,null,null,null,null,null,null,null,null,null,null,null,null,null,null,null,null,null,null,null,null,{"$f":"D64","v":"Рецензент"},{"$f":"DN64","v":{"$error":"#N/A"}}]
[null,null,null,"Оппонент",null,null,"1. Анализ докл.",null,null,null,null,null,null,null,null,null,null,null,null,null,null,null,null,null,null,{"$f":"VLOOKUP(H61,Служеб!$AC$4:$AD$13,2)","v":0},{"$f":"VLOOKUP(I61,Служеб!$AC$4:$AD$13,2)","v":0},{"$f":"VLOOKUP(J61,Служеб!$AC$4:$AD$13,2)","v":0},{"$f":"VLOOKUP(K61,Служеб!$AC$4:$AD$13,2)","v":0},{"$f":"VLOOKUP(L61,Служеб!$AC$4:$AD$13,2)","v":0},{"$f":"VLOOKUP(M61,Служеб!$AC$4:$AD$13,2)","v":0},{"$f":"VLOOKUP(N61,Служеб!$AC$4:$AD$13,2)","v":0},{"$f":"VLOOKUP(O61,Служеб!$AC$4:$AD$13,2)","v":0},{"$f":"VLOOKUP(P61,Служеб!$AC$4:$AD$13,2)","v":0},{"$f":"VLOOKUP(Q61,Служеб!$AC$4:$AD$13,2)","v":0},{"$f":"VLOOKUP(R61,Служеб!$AC$4:$AD$13,2)","v":0},{"$f":"VLOOKUP(S61,Служеб!$AC$4:$AD$13,2)","v":0},{"$f":"VLOOKUP(T61,Служеб!$AC$4:$AD$13,2)","v":0},{"$f":"VLOOKUP(U61,Служеб!$AC$4:$AD$13,2)","v":0},{"$f":"VLOOKUP(V61,Служеб!$AC$4:$AD$13,2)","v":0},{"$f":"VLOOKUP(W61,Служеб!$AC$4:$AD$13,2)","v":0},{"$f":"VLOOKUP(X61,Служеб!$AC$4:$AD$13,2)","v":0},{"$f":"VLOOKUP(Y61,Служеб!$AC$4:$AD$13,2)","v":0},{"$f":"IF(Z61>$CF61,Z61,0)","v":0},0,0,0,0,0,0,0,0,0,{"$f":"IF(AJ61>$CF61,AJ61,0)","v":0},0,0,0,0,0,0,0,{"$f":"IF(Z61<$CG61,Z61,0)","v":0},0,0,0,0,0,0,0,0,0,{"$f":"IF(AJ61<$CG61,AJ61,0)","v":0},0,0,0,0,0,0,0,{"$f":"COUNTIFS($Z61:$AQ61,0)","v":18},{"$f":"VLOOKUP($DG61,Служеб!$AG$4:$AI$21,2)","v":{"$error":"#N/A"}},{"$f":"VLOOKUP($DG61,Служеб!$AG$4:$AI$21,3)","v":{"$error":"#N/A"}},{"$f":"CC61+CB61","v":{"$error":"#N/A"}},{"$f":"IFERROR(SMALL($Z61:$AQ61,$CE61),-10)","v":-10},{"$f":"IFERROR(LARGE($Z61:$AQ61,$CD61),110)","v":110},{"$f":"COUNTIFS($AR61:$BI61,0)","v":18},{"$f":"COUNTIFS($BJ61:$CA61,0)","v":18},{"$f":"CH61-CB61-CC61","v":{"$error":"#N/A"}},{"$f":"CI61-CB61-CD61","v":{"$error":"#N/A"}},{"$f":"CJ61*CF61","v":{"$error":"#N/A"}},{"$f":"CK61*CG61","v":{"$error":"#N/A"}},{"$f":"IF(CF61=CG61,1,0)","v":0},{"$f":"IF(AR61=BJ61,Z61,0)","v":0},0,0,0,0,0,0,0,0,0,{"$f":"IF(BB61=BT61,AJ61,0)","v":0},0,0,0,0,0,0,0,{"$f":"Титул!$F$15","v":0},{"$f":"DG61-CC61-CD61","v":{"$error":"#N/A"}},{"$f":"SUM($CO61:$DF61)","v":0},{"$f":"IF(CN61=1,(CF61*DH61),DI61+CL61+CM61)","v":{"$error":"#N/A"}},{"$f":"DJ61/DH61","v":{"$error":"#N/A"}},{"$f":"Служеб!$AL$7","v":1.2},{"$f":"DK61*DL61","v":{"$error":"#N/A"}},{"$f":"DM61+DM62","v":{"$error":"#N/A"}}]
[null,"ВТОРОЙ",null,null,null,null,"2. Полемика",null,null,null,null,null,null,null,null,null,null,null,null,null,null,null,null,null,null,{"$f":"VLOOKUP(H62,Служеб!$AC$4:$AD$13,2)","v":0},{"$f":"VLOOKUP(I62,Служеб!$AC$4:$AD$13,2)","v":0},{"$f":"VLOOKUP(J62,Служеб!$AC$4:$AD$13,2)","v":0},{"$f":"VLOOKUP(K62,Служеб!$AC$4:$AD$13,2)","v":0},{"$f":"VLOOKUP(L62,Служеб!$AC$4:$AD$13,2)","v":0},{"$f":"VLOOKUP(M62,Служеб!$AC$4:$AD$13,2)","v":0},{"$f":"VLOOKUP(N62,Служеб!$AC$4:$AD$13,2)","v":0},{"$f":"VLOOKUP(O62,Служеб!$AC$4:$AD$13,2)","v":0},{"$f":"VLOOKUP(P62,Служеб!$AC$4:$AD$13,2)","v":0},{"$f":"VLOOKUP(Q62,Служеб!$AC$4:$AD$13,2)","v":0},{"$f":"VLOOKUP(R62,Служеб!$AC$4:$AD$13,2)","v":0},{"$f":"VLOOKUP(S62,Служеб!$AC$4:$AD$13,2)","v":0},{"$f":"VLOOKUP(T62,Служеб!$AC$4:$AD$13,2)","v":0},{"$f":"VLOOKUP(U62,Служеб!$AC$4:$AD$13,2)","v":0},{"$f":"VLOOKUP(V62,Служеб!$AC$4:$AD$13,2)","v":0},{"$f":"VLOOKUP(W62,Служеб!$AC$4:$AD$13,2)","v":0},{"$f":"VLOOKUP(X62,Служеб!$AC$4:$AD$13,2)","v":0},{"$f":"VLOOKUP(Y62,Служеб!$AC$4:$AD$13,2)","v":0},0,0,0,0,0,0,0,0,0,0,0,0,0,0,0,0,0,0,0,0,0,0,0,0,0,0,0,0,0,0,0,0,0,0,0,0,{"$f":"COUNTIFS($Z62:$AQ62,0)","v":18},{"$f":"VLOOKUP($DG62,Служеб!$AG$4:$AI$21,2)","v":{"$error":"#N/A"}},{"$f":"VLOOKUP($DG62,Служеб!$AG$4:$AI$21,3)","v":{"$error":"#N/A"}},{"$f":"CC62+CB62","v":{"$error":"#N/A"}},{"$f":"IFERROR(SMALL($Z62:$AQ62,$CE62),-10)","v":-10},{"$f":"IFERROR(LARGE($Z62:$AQ62,$CD62),110)","v":110},{"$f":"COUNTIFS($AR62:$BI62,0)","v":18},{"$f":"COUNTIFS($BJ62:$CA62,0)","v":18},{"$f":"CH62-CB62-CC62","v":{"$error":"#N/A"}},{"$f":"CI62-CB62-CD62","v":{"$error":"#N/A"}},{"$f":"CJ62*CF62","v":{"$error":"#N/A"}},{"$f":"CK62*CG62","v":{"$error":"#N/A"}},0,0,0,0,0,0,0,0,0,0,0,0,0,0,0,0,0,0,0,{"$f":"Титул!$F$15","v":0},{"$f":"DG62-CC62-CD62","v":{"$error":"#N/A"}},{"$f":"SUM($CO62:$DF62)","v":0},{"$error":"#N/A"},{"$f":"DJ62/DH62","v":{"$error":"#N/A"}},{"$f":"Служеб!$AL$8","v":0.8},{"$f":"DK62*DL62","v":{"$error":"#N/A"}}]
[]
[null,null,null,"Рецензент",null,null,"1. Рецензия",null,null,null,null,null,null,null,null,null,null,null,null,null,null,null,null,null,null,{"$f":"VLOOKUP(H64,Служеб!$AC$4:$AD$13,2)","v":0},{"$f":"VLOOKUP(I64,Служеб!$AC$4:$AD$13,2)","v":0},{"$f":"VLOOKUP(J64,Служеб!$AC$4:$AD$13,2)","v":0},{"$f":"VLOOKUP(K64,Служеб!$AC$4:$AD$13,2)","v":0},{"$f":"VLOOKUP(L64,Служеб!$AC$4:$AD$13,2)","v":0},{"$f":"VLOOKUP(M64,Служеб!$AC$4:$AD$13,2)","v":0},{"$f":"VLOOKUP(N64,Служеб!$AC$4:$AD$13,2)","v":0},{"$f":"VLOOKUP(O64,Служеб!$AC$4:$AD$13,2)","v":0},{"$f":"VLOOKUP(P64,Служеб!$AC$4:$AD$13,2)","v":0},{"$f":"VLOOKUP(Q64,Служеб!$AC$4:$AD$13,2)","v":0},{"$f":"VLOOKUP(R64,Служеб!$AC$4:$AD$13,2)","v":0},{"$f":"VLOOKUP(S64,Служеб!$AC$4:$AD$13,2)","v":0},{"$f":"VLOOKUP(T64,Служеб!$AC$4:$AD$13,2)","v":0},{"$f":"VLOOKUP(U64,Служеб!$AC$4:$AD$13,2)","v":0},{"$f":"VLOOKUP(V64,Служеб!$AC$4:$AD$13,2)","v":0},{"$f":"VLOOKUP(W64,Служеб!$AC$4:$AD$13,2)","v":0},{"$f":"VLOOKUP(X64,Служеб!$AC$4:$AD$13,2)","v":0},{"$f":"VLOOKUP(Y64,Служеб!$AC$4:$AD$13,2)","v":0},{"$f":"IF(Z64>$CF64,Z64,0)","v":0},0,0,0,0,0,0,0,0,0,0,0,0,0,0,0,0,0,{"$f":"IF(Z64<$CG64,Z64,0)","v":0},0,0,0,0,0,0,0,0,0,0,0,0,0,0,0,0,0,{"$f":"COUNTIFS($Z64:$AQ64,0)","v":18},{"$f":"VLOOKUP($DG64,Служеб!$AG$4:$AI$21,2)","v":{"$error":"#N/A"}},{"$f":"VLOOKUP($DG64,Служеб!$AG$4:$AI$21,3)","v":{"$error":"#N/A"}},{"$f":"CC64+CB64","v":{"$error":"#N/A"}},{"$f":"IFERROR(SMALL($Z64:$AQ64,$CE64),-10)","v":-10},{"$f":"IFERROR(LARGE($Z64:$AQ64,$CD64),110)","v":110},{"$f":"COUNTIFS($AR64:$BI64,0)","v":18},{"$f":"COUNTIFS($BJ64:$CA64,0)","v":18},{"$f":"CH64-CB64-CC64","v":{"$error":"#N/A"}},{"$f":"CI64-CB64-CD64","v":{"$error":"#N/A"}},{"$f":"CJ64*CF64","v":{"$error":"#N/A"}},{"$f":"CK64*CG64","v":{"$error":"#N/A"}},0,{"$f":"IF(AR64=BJ64,Z64,0)","v":0},0,0,0,0,0,0,0,0,0,0,0,0,0,0,0,0,0,{"$f":"Титул!$F$15","v":0},{"$f":"DG64-CC64-CD64","v":{"$error":"#N/A"}},{"$f":"SUM($CO64:$DF64)","v":0},{"$error":"#N/A"},{"$f":"DJ64/DH64","v":{"$error":"#N/A"}},{"$f":"Служеб!$AL$9","v":1},{"$f":"DK64*DL64","v":{"$error":"#N/A"}},{"$f":"DM64","v":{"$error":"#N/A"}}]
[]
[]
[]
[]
[]
[null,null,null,"3 РАУНД"]
[]
[null,"ТРЕТИЙ",null,"Докладчик",{"$f":"IF(Титул!$H$47=\"Д\",Титул!$E$47,IF(Титул!$H$48=\"Д\",Титул!$E$48,IF(Титул!$H$49=\"Д\",Титул!$E$49,IF(Титул!$H$50=\"Д\",Титул!$E$50,0))))","v":0},null,null,{"$f":"VLOOKUP($E72,Участники!$A$2:$B$23,2)","v":{"$error":"#N/A"}}]
[null,null,null,"Оппонент",{"$f":"IF(Титул!$H$47=\"О\",Титул!$E$47,IF(Титул!$H$48=\"О\",Титул!$E$48,IF(Титул!$H$49=\"О\",Титул!$E$49,IF(Титул!$H$50=\"О\",Титул!$E$50,0))))","v":0},null,null,{"$f":"VLOOKUP($E73,Участники!$A$2:$B$23,2)","v":{"$error":"#N/A"}}]
[null,null,null,"Рецензент",{"$f":"IF(Титул!$H$47=\"Р\",Титул!$E$47,IF(Титул!$H$48=\"Р\",Титул!$E$48,IF(Титул!$H$49=\"Р\",Титул!$E$49,IF(Титул!$H$50=\"Р\",Титул!$E$50,0))))","v":0},null,null,{"$f":"VLOOKUP($E74,Участники!$A$2:$B$23,2)","v":{"$error":"#N/A"}}]
[]
[null,"ТРЕТИЙ",null,"Вызов на задачу:",null,"Отказы во время боя",null,"Возможно дать отказы от:",null,null,null,null,null,{"$f":"Служеб!$AO$4","v":3},null,null,{"$f":"IF(N76=1,\"задачи\",IF(N76=2,\"задач\",IF(N76=3,\"задач\",\"задач\")))","v":"задач"},null,null,null,null,null,null,null,null,"Вечные отказы",null,null,null,"Возможно дать ",null,null,null,{"$f":"Служеб!$AP$11","v":3},null,{"$f":"IF(AH76=1,\"отказ\",IF(AH76=2,\"отказа\",IF(AH76=3,\"отказа\",IF(AH76=4,\"отказа\",IF(AH76=5,\"отказов\",\"отказа\")))))","v":"отказа"}]
[null,null,null,null,null,"№ отказа","Тип отказа","№ задачи",null,null,"Название задачи",null,null,null,null,null,null,null,null,null,null,null,null,null,null,"№ отказа",null,"№ задачи",null,"Название задачи"]
[null,null,null,null,null,1,{"$f":"Служеб!$AP$4","v":"Тактич"},null,null,null,{"$f":"IFERROR(VLOOKUP($H78,Служеб!$AR$4:$AS$26,2),0)","v":0},null,null,null,null,null,null,null,null,null,null,null,null,null,null,1,null,null,null,{"$f":"IFERROR(VLOOKUP($AB78,Служеб!$AR$4:$AS$26,2),0)","v":0}]
[null,null,null,null,null,2,{"$f":"Служеб!$AP$5","v":"Тактич"},null,null,null,{"$f":"IFERROR(VLOOKUP($H79,Служеб!$AR$4:$AS$26,2),0)","v":0},null,null,null,null,null,null,null,null,null,null,null,null,null,null,2,null,null,null,{"$f":"IFERROR(VLOOKUP($AB79,Служеб!$AR$4:$AS$26,2),0)","v":0}]
[null,"ТРЕТИЙ",null,null,null,3,{"$f":"Служеб!$AP$6","v":"Стратег"},null,null,null,{"$f":"IFERROR(VLOOKUP($H80,Служеб!$AR$4:$AS$26,2),0)","v":0},null,null,null,null,null,null,null,null,null,null,null,null,null,null,3,null,null,null,{"$f":"IFERROR(VLOOKUP($AB80,Служеб!$AR$4:$AS$26,2),0)","v":0}]
[null,null,null,null,null,null,null,null,null,null,null,null,null,null,null,null,null,null,null,null,null,null,null,null,null,4,null,null,null,{"$f":"IFERROR(VLOOKUP($AB81,Служеб!$AR$4:$AS$26,2),0)","v":0}]
[null,null,null,"Играем задачу:",null,"№ задачи","Название задачи",null,null,null,null,null,null,null,null,null,null,null,null,null,null,null,null,null,null,5,null,null,null,{"$f":"IFERROR(VLOOKUP($AB82,Служеб!$AR$4:$AS$26,2),0)","v":0}]
[null,null,null,null,null,null,{"$f":"IFERROR(VLOOKUP($F$83,Служеб!$AR$4:$AS$26,2),0)","v":0}]
[null,"ТРЕТИЙ",null,null,null,null,null,null,null,null,null,null,null,null,null,null,null,null,null,null,null,null,null,null,null,"Штрафы за отказ сверх установленной нормы"]
[null,null,null,null,null,null,null,null,null,null,null,null,null,null,null,null,null,null,null,null,null,null,null,null,null,"№ отказа",null,null,null,0,null,"Коэффициент",null,null,null,{"$f":"VLOOKUP($AD$85,Служеб!$AN$15:$AO$27,2)","v":1}]
[]
[null,null,null,"Оценка выступлений"]
[]
[null,"ТРЕТИЙ",null,"Роль","ФИ участника",null,"Жюри",{"$f":"IFERROR(VLOOKUP(Титул!$E$16,Жюри!$D$2:$E$250,2,FALSE),0)","v":0},{"$f":"IFERROR(VLOOKUP(Титул!$E$17,Жюри!$D$2:$E$250,2,FALSE),0)","v":0},{"$f":"IFERROR(VLOOKUP(Титул!$E$18,Жюри!$D$2:$E$250,2,FALSE),0)","v":0},{"$f":"IFERROR(VLOOKUP(Титул!$E$19,Жюри!$D$2:$E$250,2,FALSE),0)","v":0},{"$f":"IFERROR(VLOOKUP(Титул!$E$20,Жюри!$D$2:$E$250,2,FALSE),0)","v":0},{"$f":"IFERROR(VLOOKUP(Титул!$E$21,Жюри!$D$2:$E$250,2,FALSE),0)","v":0},{"$f":"IFERROR(VLOOKUP(Титул!$E$22,Жюри!$D$2:$E$250,2,FALSE),0)","v":0},{"$f":"IFERROR(VLOOKUP(Титул!$E$23,Жюри!$D$2:$E$250,2,FALSE),0)","v":0},{"$f":"IFERROR(VLOOKUP(Титул!$E$24,Жюри!$D$2:$E$250,2,FALSE),0)","v":0},{"$f":"IFERROR(VLOOKUP(Титул!$E$25,Жюри!$D$2:$E$250,2,FALSE),0)","v":0},{"$f":"IFERROR(VLOOKUP(Титул!$E$26,Жюри!$D$2:$E$250,2,FALSE),0)","v":0},{"$f":"IFERROR(VLOOKUP(Титул!$E$27,Жюри!$D$2:$E$250,2,FALSE),0)","v":0},{"$f":"IFERROR(VLOOKUP(Титул!$E$28,Жюри!$D$2:$E$250,2,FALSE),0)","v":0},{"$f":"IFERROR(VLOOKUP(Титул!$E$29,Жюри!$D$2:$E$85,2,FALSE),0)","v":0},{"$f":"IFERROR(VLOOKUP(Титул!$E$30,Жюри!$D$2:$E$85,2,FALSE),0)","v":0},{"$f":"IFERROR(VLOOKUP(Титул!$E$31,Жюри!$D$2:$E$85,2,FALSE),0)","v":0},{"$f":"IFERROR(VLOOKUP(Титул!$E$32,Жюри!$D$2:$E$85,2,FALSE),0)","v":0},{"$f":"IFERROR(VLOOKUP(Титул!$E$33,Жюри!$D$2:$E$85,2,FALSE),0)","v":0},{"$f":"IFERROR(VLOOKUP(Титул!$E$16,Жюри!$D$2:$E$250,2,FALSE),0)","v":0},{"$f":"IFERROR(VLOOKUP(Титул!$E$17,Жюри!$D$2:$E$250,2,FALSE),0)","v":0},{"$f":"IFERROR(VLOOKUP(Титул!$E$18,Жюри!$D$2:$E$250,2,FALSE),0)","v":0},{"$f":"IFERROR(VLOOKUP(Титул!$E$19,Жюри!$D$2:$E$250,2,FALSE),0)","v":0},{"$f":"IFERROR(VLOOKUP(Титул!$E$20,Жюри!$D$2:$E$250,2,FALSE),0)","v":0},{"$f":"IFERROR(VLOOKUP(Титул!$E$21,Жюри!$D$2:$E$250,2,FALSE),0)","v":0},{"$f":"IFERROR(VLOOKUP(Титул!$E$22,Жюри!$D$2:$E$250,2,FALSE),0)","v":0},{"$f":"IFERROR(VLOOKUP(Титул!$E$23,Жюри!$D$2:$E$250,2,FALSE),0)","v":0},{"$f":"IFERROR(VLOOKUP(Титул!$E$24,Жюри!$D$2:$E$250,2,FALSE),0)","v":0},{"$f":"IFERROR(VLOOKUP(Титул!$E$25,Жюри!$D$2:$E$250,2,FALSE),0)","v":0},{"$f":"IFERROR(VLOOKUP(Титул!$E$26,Жюри!$D$2:$E$250,2,FALSE),0)","v":0},{"$f":"IFERROR(VLOOKUP(Титул!$E$27,Жюри!$D$2:$E$250,2,FALSE),0)","v":0},{"$f":"IFERROR(VLOOKUP(Титул!$E$28,Жюри!$D$2:$E$250,2,FALSE),0)","v":0},{"$f":"IFERROR(VLOOKUP(Титул!$E$29,Жюри!$D$2:$E$85,2,FALSE),0)","v":0},{"$f":"IFERROR(VLOOKUP(Титул!$E$30,Жюри!$D$2:$E$85,2,FALSE),0)","v":0},{"$f":"IFERROR(VLOOKUP(Титул!$E$31,Жюри!$D$2:$E$85,2,FALSE),0)","v":0},{"$f":"IFERROR(VLOOKUP(Титул!$E$32,Жюри!$D$2:$E$85,2,FALSE),0)","v":0},{"$f":"IFERROR(VLOOKUP(Титул!$E$33,Жюри!$D$2:$E$85,2,FALSE),0)","v":0},{"$f":"IFERROR(VLOOKUP(Титул!$E$16,Жюри!$D$2:$E$85,2,FALSE),0)","v":0},{"$f":"IFERROR(VLOOKUP(Титул!$E$17,Жюри!$D$2:$E$85,2,FALSE),0)","v":0},{"$f":"IFERROR(VLOOKUP(Титул!$E$18,Жюри!$D$2:$E$85,2,FALSE),0)","v":0},{"$f":"IFERROR(VLOOKUP(Титул!$E$19,Жюри!$D$2:$E$85,2,FALSE),0)","v":0},{"$f":"IFERROR(VLOOKUP(Титул!$E$20,Жюри!$D$2:$E$85,2,FALSE),0)","v":0},{"$f":"IFERROR(VLOOKUP(Титул!$E$21,Жюри!$D$2:$E$85,2,FALSE),0)","v":0},{"$f":"IFERROR(VLOOKUP(Титул!$E$22,Жюри!$D$2:$E$85,2,FALSE),0)","v":0},{"$f":"IFERROR(VLOOKUP(Титул!$E$23,Жюри!$D$2:$E$85,2,FALSE),0)","v":0},{"$f":"IFERROR(VLOOKUP(Титул!$E$24,Жюри!$D$2:$E$85,2,FALSE),0)","v":0},{"$f":"IFERROR(VLOOKUP(Титул!$E$25,Жюри!$D$2:$E$85,2,FALSE),0)","v":0},{"$f":"IFERROR(VLOOKUP(Титул!$E$26,Жюри!$D$2:$E$85,2,FALSE),0)","v":0},{"$f":"IFERROR(VLOOKUP(Титул!$E$27,Жюри!$D$2:$E$85,2,FALSE),0)","v":0},{"$f":"IFERROR(VLOOKUP(Титул!$E$28,Жюри!$D$2:$E$85,2,FALSE),0)","v":0},{"$f":"IFERROR(VLOOKUP(Титул!$E$29,Жюри!$D$2:$E$85,2,FALSE),0)","v":0},{"$f":"IFERROR(VLOOKUP(Титул!$E$30,Жюри!$D$2:$E$85,2,FALSE),0)","v":0},{"$f":"IFERROR(VLOOKUP(Титул!$E$31,Жюри!$D$2:$E$85,2,FALSE),0)","v":0},{"$f":"IFERROR(VLOOKUP(Титул!$E$32,Жюри!$D$2:$E$85,2,FALSE),0)","v":0},{"$f":"IFERROR(VLOOKUP(Титул!$E$33,Жюри!$D$2:$E$85,2,FALSE),0)","v":0},{"$f":"IFERROR(VLOOKUP(Титул!$E$16,Жюри!$D$2:$E$85,2,FALSE),0)","v":0},{"$f":"IFERROR(VLOOKUP(Титул!$E$17,Жюри!$D$2:$E$85,2,FALSE),0)","v":0},{"$f":"IFERROR(VLOOKUP(Титул!$E$18,Жюри!$D$2:$E$85,2,FALSE),0)","v":0},{"$f":"IFERROR(VLOOKUP(Титул!$E$19,Жюри!$D$2:$E$85,2,FALSE),0)","v":0},{"$f":"IFERROR(VLOOKUP(Титул!$E$20,Жюри!$D$2:$E$85,2,FALSE),0)","v":0},{"$f":"IFERROR(VLOOKUP(Титул!$E$21,Жюри!$D$2:$E$85,2,FALSE),0)","v":0},{"$f":"IFERROR(VLOOKUP(Титул!$E$22,Жюри!$D$2:$E$85,2,FALSE),0)","v":0},{"$f":"IFERROR(VLOOKUP(Титул!$E$23,Жюри!$D$2:$E$85,2,FALSE),0)","v":0},{"$f":"IFERROR(VLOOKUP(Титул!$E$24,Жюри!$D$2:$E$85,2,FALSE),0)","v":0},{"$f":"IFERROR(VLOOKUP(Титул!$E$25,Жюри!$D$2:$E$85,2,FALSE),0)","v":0},{"$f":"IFERROR(VLOOKUP(Титул!$E$26,Жюри!$D$2:$E$85,2,FALSE),0)","v":0},{"$f":"IFERROR(VLOOKUP(Титул!$E$27,Жюри!$D$2:$E$85,2,FALSE),0)","v":0},{"$f":"IFERROR(VLOOKUP(Титул!$E$28,Жюри!$D$2:$E$85,2,FALSE),0)","v":0},{"$f":"IFERROR(VLOOKUP(Титул!$E$29,Жюри!$D$2:$E$85,2,FALSE),0)","v":0},{"$f":"IFERROR(VLOOKUP(Титул!$E$30,Жюри!$D$2:$E$85,2,FALSE),0)","v":0},{"$f":"IFERROR(VLOOKUP(Титул!$E$31,Жюри!$D$2:$E$85,2,FALSE),0)","v":0},{"$f":"IFERROR(VLOOKUP(Титул!$E$32,Жюри!$D$2:$E$85,2,FALSE),0)","v":0},{"$f":"IFERROR(VLOOKUP(Титул!$E$33,Жюри!$D$2:$E$85,2,FALSE),0)","v":0},"Кол-во пустых","Отбрасыв снизу оценок (правила)","Отбрасыв сверху оценок (правила)","Отбрасыв снизу оценок (с учетом пустых)","Отбрасыв снизу в баллах","Отбрасыв сверху в баллах","Число значений \"ноль\" снизу","Число значений \"ноль\" сверху","Отброшено снизу лишних оценок","Отброшено сверху лишних оценок","Нужно добавить к сумме снизу","Нужно добавить к сумме сверху","однородные оценки",{"$f":"IFERROR(VLOOKUP(Титул!$E$16,Жюри!$D$2:$E$85,2),0)","v":0},{"$f":"IFERROR(VLOOKUP(Титул!$E$17,Жюри!$D$2:$E$85,2),0)","v":0},{"$f":"IFERROR(VLOOKUP(Титул!$E$18,Жюри!$D$2:$E$85,2),0)","v":0},{"$f":"IFERROR(VLOOKUP(Титул!$E$19,Жюри!$D$2:$E$85,2),0)","v":0},{"$f":"IFERROR(VLOOKUP(Титул!$E$20,Жюри!$D$2:$E$85,2),0)","v":0},{"$f":"IFERROR(VLOOKUP(Титул!$E$21,Жюри!$D$2:$E$85,2),0)","v":0},{"$f":"IFERROR(VLOOKUP(Титул!$E$22,Жюри!$D$2:$E$85,2),0)","v":0},{"$f":"IFERROR(VLOOKUP(Титул!$E$23,Жюри!$D$2:$E$85,2),0)","v":0},{"$f":"IFERROR(VLOOKUP(Титул!$E$24,Жюри!$D$2:$E$85,2),0)","v":0},{"$f":"IFERROR(VLOOKUP(Титул!$E$25,Жюри!$D$2:$E$85,2),0)","v":0},{"$f":"IFERROR(VLOOKUP(Титул!$E$26,Жюри!$D$2:$E$85,2),0)","v":0},{"$f":"IFERROR(VLOOKUP(Титул!$E$27,Жюри!$D$2:$E$85,2),0)","v":0},{"$f":"IFERROR(VLOOKUP(Титул!$E$28,Жюри!$D$2:$E$85,2),0)","v":0},{"$f":"IFERROR(VLOOKUP(Титул!$E$29,Жюри!$D$2:$E$85,2),0)","v":0},{"$f":"IFERROR(VLOOKUP(Титул!$E$30,Жюри!$D$2:$E$85,2),0)","v":0},{"$f":"IFERROR(VLOOKUP(Титул!$E$31,Жюри!$D$2:$E$85,2),0)","v":0},{"$f":"IFERROR(VLOOKUP(Титул!$E$32,Жюри!$D$2:$E$85,2),0)","v":0},{"$f":"IFERROR(VLOOKUP(Титул!$E$33,Жюри!$D$2:$E$85,2),0)","v":0},null,null,"Рассчитывается по таблице \"Сведение отброшенных снизу и сверху воедино\"","Рассчитывается из предыдущей колонки с учетом \"Нужно добавить к сумме\" снизу и сверху","Среднее по категории","Коэффициент","Умножено на коэффициент","Сумма за раунд"]
[null,null,null,null,null,null,"Категория","Оценки членов жюри",null,null,null,null,null,null,null,null,null,null,null,null,null,null,null,null,null,"Перевод оценок в баллы",null,null,null,null,null,null,null,null,null,null,null,null,null,null,null,null,null,"Отбрасывание крайних оценок снизу",null,null,null,null,null,null,null,null,null,null,null,null,null,null,null,null,null,"Отбрасывание крайних оценок сверху",null,null,null,null,null,null,null,null,null,null,null,null,null,null,null,null,null,null,null,null,null,null,null,null,null,null,null,null,null,null,"Сведение отброшеных снизу и сверху воедино для подсчета суммы",null,null,null,null,null,null,null,null,null,null,null,null,null,null,null,null,null,"кол-во жюри","кол-во оценок","Сумма сводная","Сумма реальная",null,null,null,null,null,null,"Баллы"]
[null,"ТРЕТИЙ",null,"Докладчик",null,null,"1. Содерж. часть",null,null,null,null,null,null,null,null,null,null,null,null,null,null,null,null,null,null,{"$f":"VLOOKUP(H91,Служеб!$AC$4:$AD$13,2)","v":0},{"$f":"VLOOKUP(I91,Служеб!$AC$4:$AD$13,2)","v":0},{"$f":"VLOOKUP(J91,Служеб!$AC$4:$AD$13,2)","v":0},{"$f":"VLOOKUP(K91,Служеб!$AC$4:$AD$13,2)","v":0},{"$f":"VLOOKUP(L91,Служеб!$AC$4:$AD$13,2)","v":0},{"$f":"VLOOKUP(M91,Служеб!$AC$4:$AD$13,2)","v":0},{"$f":"VLOOKUP(N91,Служеб!$AC$4:$AD$13,2)","v":0},{"$f":"VLOOKUP(O91,Служеб!$AC$4:$AD$13,2)","v":0},{"$f":"VLOOKUP(P91,Служеб!$AC$4:$AD$13,2)","v":0},{"$f":"VLOOKUP(Q91,Служеб!$AC$4:$AD$13,2)","v":0},{"$f":"VLOOKUP(R91,Служеб!$AC$4:$AD$13,2)","v":0},{"$f":"VLOOKUP(S91,Служеб!$AC$4:$AD$13,2)","v":0},{"$f":"VLOOKUP(T91,Служеб!$AC$4:$AD$13,2)","v":0},{"$f":"VLOOKUP(U91,Служеб!$AC$4:$AD$13,2)","v":0},{"$f":"VLOOKUP(V91,Служеб!$AC$4:$AD$13,2)","v":0},{"$f":"VLOOKUP(W91,Служеб!$AC$4:$AD$13,2)","v":0},{"$f":"VLOOKUP(X91,Служеб!$AC$4:$AD$13,2)","v":0},{"$f":"VLOOKUP(Y91,Служеб!$AC$4:$AD$13,2)","v":0},{"$f":"IF(Z91>$CF91,Z91,0)","v":0},0,0,0,0,0,0,0,0,0,{"$f":"IF(AJ91>$CF91,AJ91,0)","v":0},0,0,0,0,0,0,0,{"$f":"IF(Z91<$CG91,Z91,0)","v":0},0,0,0,0,0,0,0,0,0,{"$f":"IF(AJ91<$CG91,AJ91,0)","v":0},0,0,0,0,0,0,0,{"$f":"COUNTIFS($Z91:$AQ91,0)","v":18},{"$f":"VLOOKUP($DG91,Служеб!$AG$4:$AI$21,2)","v":{"$error":"#N/A"}},{"$f":"VLOOKUP($DG91,Служеб!$AG$4:$AI$21,3)","v":{"$error":"#N/A"}},{"$f":"CC91+CB91","v":{"$error":"#N/A"}},{"$f":"IFERROR(SMALL($Z91:$AQ91,$CE91),-10)","v":-10},{"$f":"IFERROR(LARGE($Z91:$AQ91,$CD91),110)","v":110},{"$f":"COUNTIFS($AR91:$BI91,0)","v":18},{"$f":"COUNTIFS($BJ91:$CA91,0)","v":18},{"$f":"CH91-CB91-CC91","v":{"$error":"#N/A"}},{"$f":"CI91-CB91-CD91","v":{"$error":"#N/A"}},{"$f":"CJ91*CF91","v":{"$error":"#N/A"}},{"$error":"#N/A"},{"$f":"IF(CF91=CG91,1,0)","v":0},{"$f":"IF(AR91=BJ91,Z91,0)","v":0},0,0,0,0,0,0,0,0,0,{"$f":"IF(BB91=BT91,AJ91,0)","v":0},0,0,0,0,0,0,0,{"$f":"Титул!$F$15","v":0},{"$f":"DG91-CC91-CD91","v":{"$error":"#N/A"}},{"$f":"SUM($CO91:$DF91)","v":0},{"$f":"IF(CN91=1,(CF91*DH91),DI91+CL91+CM91)","v":{"$error":"#N/A"}},{"$f":"DJ91/DH91","v":{"$error":"#N/A"}},{"$f":"Служеб!$AL$4","v":1.5},{"$f":"DK91*DL91","v":{"$error":"#N/A"}},{"$f":"(DM91+DM92+DM93)*$AJ$85","v":{"$error":"#N/A"}},null,{"$f":"D91","v":"Докладчик"},{"$f":"DN91","v":{"$error":"#N/A"}},{"$f":"DQ91/AJ85","v":{"$error":"#N/A"}}]
[null,null,null,null,null,null,"2. Умение докл.",null,null,null,null,null,null,null,null,null,null,null,null,null,null,null,null,null,null,{"$f":"VLOOKUP(H92,Служеб!$AC$4:$AD$13,2)","v":0},{"$f":"VLOOKUP(I92,Служеб!$AC$4:$AD$13,2)","v":0},{"$f":"VLOOKUP(J92,Служеб!$AC$4:$AD$13,2)","v":0},{"$f":"VLOOKUP(K92,Служеб!$AC$4:$AD$13,2)","v":0},{"$f":"VLOOKUP(L92,Служеб!$AC$4:$AD$13,2)","v":0},{"$f":"VLOOKUP(M92,Служеб!$AC$4:$AD$13,2)","v":0},{"$f":"VLOOKUP(N92,Служеб!$AC$4:$AD$13,2)","v":0},{"$f":"VLOOKUP(O92,Служеб!$AC$4:$AD$13,2)","v":0},{"$f":"VLOOKUP(P92,Служеб!$AC$4:$AD$13,2)","v":0},{"$f":"VLOOKUP(Q92,Служеб!$AC$4:$AD$13,2)","v":0},{"$f":"VLOOKUP(R92,Служеб!$AC$4:$AD$13,2)","v":0},{"$f":"VLOOKUP(S92,Служеб!$AC$4:$AD$13,2)","v":0},{"$f":"VLOOKUP(T92,Служеб!$AC$4:$AD$13,2)","v":0},{"$f":"VLOOKUP(U92,Служеб!$AC$4:$AD$13,2)","v":0},{"$f":"VLOOKUP(V92,Служеб!$AC$4:$AD$13,2)","v":0},{"$f":"VLOOKUP(W92,Служеб!$AC$4:$AD$13,2)","v":0},{"$f":"VLOOKUP(X92,Служеб!$AC$4:$AD$13,2)","v":0},{"$f":"VLOOKUP(Y92,Служеб!$AC$4:$AD$13,2)","v":0},0,0,0,0,0,0,0,0,0,0,0,0,0,0,0,0,0,0,0,0,0,0,0,0,0,0,0,0,0,0,0,0,0,0,0,0,{"$f":"COUNTIFS($Z92:$AQ92,0)","v":18},{"$f":"VLOOKUP($DG92,Служеб!$AG$4:$AI$21,2)","v":{"$error":"#N/A"}},{"$f":"VLOOKUP($DG92,Служеб!$AG$4:$AI$21,3)","v":{"$error":"#N/A"}},{"$f":"CC92+CB92","v":{"$error":"#N/A"}},{"$f":"IFERROR(SMALL($Z92:$AQ92,$CE92),-10)","v":-10},{"$f":"IFERROR(LARGE($Z92:$AQ92,$CD92),110)","v":110},{"$f":"COUNTIFS($AR92:$BI92,0)","v":18},{"$f":"COUNTIFS($BJ92:$CA92,0)","v":18},{"$f":"CH92-CB92-CC92","v":{"$error":"#N/A"}},{"$f":"CI92-CB92-CD92","v":{"$error":"#N/A"}},{"$error":"#N/A"},{"$error":"#N/A"},0,0,0,0,0,0,0,0,0,0,0,0,0,0,0,0,0,0,0,{"$f":"Титул!$F$15","v":0},{"$f":"DG92-CC92-CD92","v":{"$error":"#N/A"}},{"$f":"SUM($CO92:$DF92)","v":0},{"$error":"#N/A"},{"$f":"DJ92/DH92","v":{"$error":"#N/A"}},{"$f":"Служеб!$AL$5","v":0.7},{"$f":"DK92*DL92","v":{"$error":"#N/A"}},null,null,"Наблюдатель",0]
[null,null,null,null,null,null,"3. Полемика",null,null,null,null,null,null,null,null,null,null,null,null,null,null,null,null,null,null,{"$f":"VLOOKUP(H93,Служеб!$AC$4:$AD$13,2)","v":0},{"$f":"VLOOKUP(I93,Служеб!$AC$4:$AD$13,2)","v":0},{"$f":"VLOOKUP(J93,Служеб!$AC$4:$AD$13,2)","v":0},{"$f":"VLOOKUP(K93,Служеб!$AC$4:$AD$13,2)","v":0},{"$f":"VLOOKUP(L93,Служеб!$AC$4:$AD$13,2)","v":0},{"$f":"VLOOKUP(M93,Служеб!$AC$4:$AD$13,2)","v":0},{"$f":"VLOOKUP(N93,Служеб!$AC$4:$AD$13,2)","v":0},{"$f":"VLOOKUP(O93,Служеб!$AC$4:$AD$13,2)","v":0},{"$f":"VLOOKUP(P93,Служеб!$AC$4:$AD$13,2)","v":0},{"$f":"VLOOKUP(Q93,Служеб!$AC$4:$AD$13,2)","v":0},{"$f":"VLOOKUP(R93,Служеб!$AC$4:$AD$13,2)","v":0},{"$f":"VLOOKUP(S93,Служеб!$AC$4:$AD$13,2)","v":0},{"$f":"VLOOKUP(T93,Служеб!$AC$4:$AD$13,2)","v":0},{"$f":"VLOOKUP(U93,Служеб!$AC$4:$AD$13,2)","v":0},{"$f":"VLOOKUP(V93,Служеб!$AC$4:$AD$13,2)","v":0},{"$f":"VLOOKUP(W93,Служеб!$AC$4:$AD$13,2)","v":0},{"$f":"VLOOKUP(X93,Служеб!$AC$4:$AD$13,2)","v":0},{"$f":"VLOOKUP(Y93,Служеб!$AC$4:$AD$13,2)","v":0},0,0,0,0,0,0,0,0,0,0,0,0,0,0,0,0,0,0,0,0,0,0,0,0,0,0,0,0,0,0,0,0,0,0,0,0,{"$f":"COUNTIFS($Z93:$AQ93,0)","v":18},{"$f":"VLOOKUP($DG93,Служеб!$AG$4:$AI$21,2)","v":{"$error":"#N/A"}},{"$f":"VLOOKUP($DG93,Служеб!$AG$4:$AI$21,3)","v":{"$error":"#N/A"}},{"$f":"CC93+CB93","v":{"$error":"#N/A"}},{"$f":"IFERROR(SMALL($Z93:$AQ93,$CE93),-10)","v":-10},{"$f":"IFERROR(LARGE($Z93:$AQ93,$CD93),110)","v":110},{"$f":"COUNTIFS($AR93:$BI93,0)","v":18},{"$f":"COUNTIFS($BJ93:$CA93,0)","v":18},{"$f":"CH93-CB93-CC93","v":{"$error":"#N/A"}},{"$f":"CI93-CB93-CD93","v":{"$error":"#N/A"}},{"$error":"#N/A"},{"$error":"#N/A"},{"$f":"IF(CF93=CG93,1,0)","v":0},0,0,0,0,0,0,0,0,0,0,0,0,0,0,0,0,0,0,{"$f":"Титул!$F$15","v":0},{"$f":"DG93-CC93-CD93","v":{"$error":"#N/A"}},{"$f":"SUM($CO93:$DF93)","v":0},{"$f":"IF(CN93=1,(CF93*DH93),DI93+CL93+CM93)","v":{"$error":"#N/A"}},{"$f":"DJ93/DH93","v":{"$error":"#N/A"}},{"$f":"Служеб!$AL$6","v":0.8},{"$f":"DK93*DL93","v":{"$error":"#N/A"}},null,null,{"$f":"D95","v":"Оппонент"},{"$f":"DN95","v":{"$error":"#N/A"}}]
[null,null,null,null,null,null,null,null,null,null,null,null,null,null,null,null,null,null,null,null,null,null,null,null,null,null,null,null,null,null,null,null,null,null,null,null,null,null,null,null,null,null,null,null,null,null,null,null,null,null,null,null,null,null,null,null,null,null,null,null,null,null,null,null,null,null,null,null,null,null,null,null,null,null,null,null,null,null,null,null,null,null,null,null,null,null,null,null,null,null,null,null,null,null,null,null,null,null,null,null,null,null,null,null,null,null,null,null,null,null,null,null,null,null,null,null,null,null,null,{"$f":"D98","v":"Рецензент"},{"$f":"DN98","v":{"$error":"#N/A"}}]
[null,null,null,"Оппонент",null,null,"1. Анализ докл.",null,null,null,null,null,null,null,null,null,null,null,null,null,null,null,null,null,null,{"$f":"VLOOKUP(H95,Служеб!$AC$4:$AD$13,2)","v":0},{"$f":"VLOOKUP(I95,Служеб!$AC$4:$AD$13,2)","v":0},{"$f":"VLOOKUP(J95,Служеб!$AC$4:$AD$13,2)","v":0},{"$f":"VLOOKUP(K95,Служеб!$AC$4:$AD$13,2)","v":0},{"$f":"VLOOKUP(L95,Служеб!$AC$4:$AD$13,2)","v":0},{"$f":"VLOOKUP(M95,Служеб!$AC$4:$AD$13,2)","v":0},{"$f":"VLOOKUP(N95,Служеб!$AC$4:$AD$13,2)","v":0},{"$f":"VLOOKUP(O95,Служеб!$AC$4:$AD$13,2)","v":0},{"$f":"VLOOKUP(P95,Служеб!$AC$4:$AD$13,2)","v":0},{"$f":"VLOOKUP(Q95,Служеб!$AC$4:$AD$13,2)","v":0},{"$f":"VLOOKUP(R95,Служеб!$AC$4:$AD$13,2)","v":0},{"$f":"VLOOKUP(S95,Служеб!$AC$4:$AD$13,2)","v":0},{"$f":"VLOOKUP(T95,Служеб!$AC$4:$AD$13,2)","v":0},{"$f":"VLOOKUP(U95,Служеб!$AC$4:$AD$13,2)","v":0},{"$f":"VLOOKUP(V95,Служеб!$AC$4:$AD$13,2)","v":0},{"$f":"VLOOKUP(W95,Служеб!$AC$4:$AD$13,2)","v":0},{"$f":"VLOOKUP(X95,Служеб!$AC$4:$AD$13,2)","v":0},{"$f":"VLOOKUP(Y95,Служеб!$AC$4:$AD$13,2)","v":0},{"$f":"IF(Z95>$CF95,Z95,0)","v":0},0,0,0,0,0,0,0,0,0,{"$f":"IF(AJ95>$CF95,AJ95,0)","v":0},0,0,0,0,0,0,0,{"$f":"IF(Z95<$CG95,Z95,0)","v":0},0,0,0,0,0,0,0,0,0,{"$f":"IF(AJ95<$CG95,AJ95,0)","v":0},0,0,0,0,0,0,0,{"$f":"COUNTIFS($Z95:$AQ95,0)","v":18},{"$f":"VLOOKUP($DG95,Служеб!$AG$4:$AI$21,2)","v":{"$error":"#N/A"}},{"$f":"VLOOKUP($DG95,Служеб!$AG$4:$AI$21,3)","v":{"$error":"#N/A"}},{"$f":"CC95+CB95","v":{"$error":"#N/A"}},{"$f":"IFERROR(SMALL($Z95:$AQ95,$CE95),-10)","v":-10},{"$f":"IFERROR(LARGE($Z95:$AQ95,$CD95),110)","v":110},{"$f":"COUNTIFS($AR95:$BI95,0)","v":18},{"$f":"COUNTIFS($BJ95:$CA95,0)","v":18},{"$f":"CH95-CB95-CC95","v":{"$error":"#N/A"}},{"$f":"CI95-CB95-CD95","v":{"$error":"#N/A"}},{"$f":"CJ95*CF95","v":{"$error":"#N/A"}},{"$f":"CK95*CG95","v":{"$error":"#N/A"}},{"$f":"IF(CF95=CG95,1,0)","v":0},{"$f":"IF(AR95=BJ95,Z95,0)","v":0},0,0,0,0,0,0,0,0,0,{"$f":"IF(BB95=BT95,AJ95,0)","v":0},0,0,0,0,0,0,0,{"$f":"Титул!$F$15","v":0},{"$f":"DG95-CC95-CD95","v":{"$error":"#N/A"}},{"$f":"SUM($CO95:$DF95)","v":0},{"$f":"IF(CN95=1,(CF95*DH95),DI95+CL95+CM95)","v":{"$error":"#N/A"}},{"$f":"DJ95/DH95","v":{"$error":"#N/A"}},{"$f":"Служеб!$AL$7","v":1.2},{"$f":"DK95*DL95","v":{"$error":"#N/A"}},{"$f":"DM95+DM96","v":{"$error":"#N/A"}}]
[null,"ТРЕТИЙ",null,null,null,null,"2. Полемика",null,null,null,null,null,null,null,null,null,null,null,null,null,null,null,null,null,null,{"$f":"VLOOKUP(H96,Служеб!$AC$4:$AD$13,2)","v":0},{"$f":"VLOOKUP(I96,Служеб!$AC$4:$AD$13,2)","v":0},{"$f":"VLOOKUP(J96,Служеб!$AC$4:$AD$13,2)","v":0},{"$f":"VLOOKUP(K96,Служеб!$AC$4:$AD$13,2)","v":0},{"$f":"VLOOKUP(L96,Служеб!$AC$4:$AD$13,2)","v":0},{"$f":"VLOOKUP(M96,Служеб!$AC$4:$AD$13,2)","v":0},{"$f":"VLOOKUP(N96,Служеб!$AC$4:$AD$13,2)","v":0},{"$f":"VLOOKUP(O96,Служеб!$AC$4:$AD$13,2)","v":0},{"$f":"VLOOKUP(P96,Служеб!$AC$4:$AD$13,2)","v":0},{"$f":"VLOOKUP(Q96,Служеб!$AC$4:$AD$13,2)","v":0},{"$f":"VLOOKUP(R96,Служеб!$AC$4:$AD$13,2)","v":0},{"$f":"VLOOKUP(S96,Служеб!$AC$4:$AD$13,2)","v":0},{"$f":"VLOOKUP(T96,Служеб!$AC$4:$AD$13,2)","v":0},{"$f":"VLOOKUP(U96,Служеб!$AC$4:$AD$13,2)","v":0},{"$f":"VLOOKUP(V96,Служеб!$AC$4:$AD$13,2)","v":0},{"$f":"VLOOKUP(W96,Служеб!$AC$4:$AD$13,2)","v":0},{"$f":"VLOOKUP(X96,Служеб!$AC$4:$AD$13,2)","v":0},{"$f":"VLOOKUP(Y96,Служеб!$AC$4:$AD$13,2)","v":0},0,0,0,0,0,0,0,0,0,0,0,0,0,0,0,0,0,0,0,0,0,0,0,0,0,0,0,0,0,0,0,0,0,0,0,0,{"$f":"COUNTIFS($Z96:$AQ96,0)","v":18},{"$f":"VLOOKUP($DG96,Служеб!$AG$4:$AI$21,2)","v":{"$error":"#N/A"}},{"$f":"VLOOKUP($DG96,Служеб!$AG$4:$AI$21,3)","v":{"$error":"#N/A"}},{"$f":"CC96+CB96","v":{"$error":"#N/A"}},{"$f":"IFERROR(SMALL($Z96:$AQ96,$CE96),-10)","v":-10},{"$f":"IFERROR(LARGE($Z96:$AQ96,$CD96),110)","v":110},{"$f":"COUNTIFS($AR96:$BI96,0)","v":18},{"$f":"COUNTIFS($BJ96:$CA96,0)","v":18},{"$f":"CH96-CB96-CC96","v":{"$error":"#N/A"}},{"$f":"CI96-CB96-CD96","v":{"$error":"#N/A"}},{"$f":"CJ96*CF96","v":{"$error":"#N/A"}},{"$f":"CK96*CG96","v":{"$error":"#N/A"}},0,0,0,0,0,0,0,0,0,0,0,0,0,0,0,0,0,0,0,{"$f":"Титул!$F$15","v":0},{"$f":"DG96-CC96-CD96","v":{"$error":"#N/A"}},{"$f":"SUM($CO96:$DF96)","v":0},{"$error":"#N/A"},{"$f":"DJ96/DH96","v":{"$error":"#N/A"}},{"$f":"Служеб!$AL$8","v":0.8},{"$f":"DK96*DL96","v":{"$error":"#N/A"}}]
[]
[null,null,null,"Рецензент",null,null,"1. Рецензия",null,null,null,null,null,null,null,null,null,null,null,null,null,null,null,null,null,null,{"$f":"VLOOKUP(H98,Служеб!$AC$4:$AD$13,2)","v":0},{"$f":"VLOOKUP(I98,Служеб!$AC$4:$AD$13,2)","v":0},{"$f":"VLOOKUP(J98,Служеб!$AC$4:$AD$13,2)","v":0},{"$f":"VLOOKUP(K98,Служеб!$AC$4:$AD$13,2)","v":0},{"$f":"VLOOKUP(L98,Служеб!$AC$4:$AD$13,2)","v":0},{"$f":"VLOOKUP(M98,Служеб!$AC$4:$AD$13,2)","v":0},{"$f":"VLOOKUP(N98,Служеб!$AC$4:$AD$13,2)","v":0},{"$f":"VLOOKUP(O98,Служеб!$AC$4:$AD$13,2)","v":0},{"$f":"VLOOKUP(P98,Служеб!$AC$4:$AD$13,2)","v":0},{"$f":"VLOOKUP(Q98,Служеб!$AC$4:$AD$13,2)","v":0},{"$f":"VLOOKUP(R98,Служеб!$AC$4:$AD$13,2)","v":0},{"$f":"VLOOKUP(S98,Служеб!$AC$4:$AD$13,2)","v":0},{"$f":"VLOOKUP(T98,Служеб!$AC$4:$AD$13,2)","v":0},{"$f":"VLOOKUP(U98,Служеб!$AC$4:$AD$13,2)","v":0},{"$f":"VLOOKUP(V98,Служеб!$AC$4:$AD$13,2)","v":0},{"$f":"VLOOKUP(W98,Служеб!$AC$4:$AD$13,2)","v":0},{"$f":"VLOOKUP(X98,Служеб!$AC$4:$AD$13,2)","v":0},{"$f":"VLOOKUP(Y98,Служеб!$AC$4:$AD$13,2)","v":0},{"$f":"IF(Z98>$CF98,Z98,0)","v":0},0,0,0,0,0,0,0,0,0,0,0,0,0,0,0,0,0,{"$f":"IF(Z98<$CG98,Z98,0)","v":0},0,0,0,0,0,0,0,0,0,0,0,0,0,0,0,0,0,{"$f":"COUNTIFS($Z98:$AQ98,0)","v":18},{"$f":"VLOOKUP($DG98,Служеб!$AG$4:$AI$21,2)","v":{"$error":"#N/A"}},{"$f":"VLOOKUP($DG98,Служеб!$AG$4:$AI$21,3)","v":{"$error":"#N/A"}},{"$f":"CC98+CB98","v":{"$error":"#N/A"}},{"$f":"IFERROR(SMALL($Z98:$AQ98,$CE98),-10)","v":-10},{"$f":"IFERROR(LARGE($Z98:$AQ98,$CD98),110)","v":110},{"$f":"COUNTIFS($AR98:$BI98,0)","v":18},{"$f":"COUNTIFS($BJ98:$CA98,0)","v":18},{"$f":"CH98-CB98-CC98","v":{"$error":"#N/A"}},{"$f":"CI98-CB98-CD98","v":{"$error":"#N/A"}},{"$f":"CJ98*CF98","v":{"$error":"#N/A"}},{"$f":"CK98*CG98","v":{"$error":"#N/A"}},0,{"$f":"IF(AR98=BJ98,Z98,0)","v":0},0,0,0,0,0,0,0,0,0,0,0,0,0,0,0,0,0,{"$f":"Титул!$F$15","v":0},{"$f":"DG98-CC98-CD98","v":{"$error":"#N/A"}},{"$f":"SUM($CO98:$DF98)","v":0},{"$error":"#N/A"},{"$f":"DJ98/DH98","v":{"$error":"#N/A"}},{"$f":"Служеб!$AL$9","v":1},{"$f":"DK98*DL98","v":{"$error":"#N/A"}},{"$f":"DM98","v":{"$error":"#N/A"}}]
[]
[]
[]
[]
[]
[null,null,null,"4 РАУНД"]
[null,"ЧЕТВЕРТЫЙ"]
[null,null,null,"Докладчик",{"$f":"IF(Титул!$I$47=\"Д\",Титул!$E$47,IF(Титул!$I$48=\"Д\",Титул!$E$48,IF(Титул!$I$49=\"Д\",Титул!$E$49,IF(Титул!$I$50=\"Д\",Титул!$E$50,0))))","v":0},null,null,{"$f":"VLOOKUP($E106,Участники!$A$2:$B$23,2)","v":{"$error":"#N/A"}}]
[null,null,null,"Оппонент",{"$f":"IF(Титул!$I$47=\"О\",Титул!$E$47,IF(Титул!$I$48=\"О\",Титул!$E$48,IF(Титул!$I$49=\"О\",Титул!$E$49,IF(Титул!$I$50=\"О\",Титул!$E$50,0))))","v":0},null,null,{"$f":"VLOOKUP($E107,Участники!$A$2:$B$23,2)","v":{"$error":"#N/A"}}]
[null,null,null,"Рецензент",{"$f":"IF(Титул!$I$47=\"Р\",Титул!$E$47,IF(Титул!$I$48=\"Р\",Титул!$E$48,IF(Титул!$I$49=\"Р\",Титул!$E$49,IF(Титул!$I$50=\"Р\",Титул!$E$50,0))))","v":0},null,null,{"$f":"VLOOKUP($E108,Участники!$A$2:$B$23,2)","v":{"$error":"#N/A"}}]
[]
[null,null,null,"Вызов на задачу:",null,"Отказы во время боя",null,"Возможно дать отказы от:",null,null,null,null,null,{"$f":"Служеб!$AO$4","v":3},null,null,{"$f":"IF(N110=1,\"задачи\",IF(N110=2,\"задач\",IF(N110=3,\"задач\",\"задач\")))","v":"задач"},null,null,null,null,null,null,null,null,"Вечные отказы",null,null,null,"Возможно дать ",null,null,null,{"$f":"Служеб!$AP$11","v":3},null,{"$f":"IF(AH110=1,\"отказ\",IF(AH110=2,\"отказа\",IF(AH110=3,\"отказа\",IF(AH110=4,\"отказа\",IF(AH110=5,\"отказов\",\"отказа\")))))","v":"отказа"}]
[null,"ЧЕТВЕРТЫЙ",null,null,null,"№ отказа","Тип отказа","№ задачи",null,null,"Название задачи",null,null,null,null,null,null,null,null,null,null,null,null,null,null,"№ отказа",null,"№ задачи",null,"Название задачи"]
[null,null,null,null,null,1,{"$f":"Служеб!$AP$4","v":"Тактич"},null,null,null,{"$f":"IFERROR(VLOOKUP($H112,Служеб!$AR$4:$AS$26,2),0)","v":0},null,null,null,null,null,null,null,null,null,null,null,null,null,null,1,null,null,null,{"$f":"IFERROR(VLOOKUP($AB112,Служеб!$AR$4:$AS$26,2),0)","v":0}]
[null,null,null,null,null,2,{"$f":"Служеб!$AP$5","v":"Тактич"},null,null,null,{"$f":"IFERROR(VLOOKUP($H113,Служеб!$AR$4:$AS$26,2),0)","v":0},null,null,null,null,null,null,null,null,null,null,null,null,null,null,2,null,null,null,{"$f":"IFERROR(VLOOKUP($AB113,Служеб!$AR$4:$AS$26,2),0)","v":0}]
[null,null,null,null,null,3,{"$f":"Служеб!$AP$6","v":"Стратег"},null,null,null,{"$f":"IFERROR(VLOOKUP($H114,Служеб!$AR$4:$AS$26,2),0)","v":0},null,null,null,null,null,null,null,null,null,null,null,null,null,null,3,null,null,null,{"$f":"IFERROR(VLOOKUP($AB114,Служеб!$AR$4:$AS$26,2),0)","v":0}]
[null,null,null,null,null,null,null,null,null,null,null,null,null,null,null,null,null,null,null,null,null,null,null,null,null,4,null,null,null,{"$f":"IFERROR(VLOOKUP($AB115,Служеб!$AR$4:$AS$26,2),0)","v":0}]
[null,null,null,"Играем задачу:",null,"№ задачи","Название задачи",null,null,null,null,null,null,null,null,null,null,null,null,null,null,null,null,null,null,5,null,null,null,{"$f":"IFERROR(VLOOKUP($AB116,Служеб!$AR$4:$AS$26,2),0)","v":0}]
[null,"ЧЕТВЕРТЫЙ",null,null,null,null,{"$f":"IFERROR(VLOOKUP($F$117,Служеб!$AR$4:$AS$26,2),0)","v":0}]
[null,null,null,null,null,null,null,null,null,null,null,null,null,null,null,null,null,null,null,null,null,null,null,null,null,"Штрафы за отказ сверх установленной нормы"]
[null,null,null,null,null,null,null,null,null,null,null,null,null,null,null,null,null,null,null,null,null,null,null,null,null,"№ отказа",null,null,null,0,null,"Коэффициент",null,null,null,{"$f":"VLOOKUP($AD$119,Служеб!$AN$15:$AO$27,2)","v":1}]
[]
[null,null,null,"Оценка выступлений"]
[]
[null,"ЧЕТВЕРТЫЙ",null,"Роль","ФИ участника",null,"Жюри",{"$f":"IFERROR(VLOOKUP(Титул!$E$16,Жюри!$D$2:$E$250,2,FALSE),0)","v":0},{"$f":"IFERROR(VLOOKUP(Титул!$E$17,Жюри!$D$2:$E$250,2,FALSE),0)","v":0},{"$f":"IFERROR(VLOOKUP(Титул!$E$18,Жюри!$D$2:$E$250,2,FALSE),0)","v":0},{"$f":"IFERROR(VLOOKUP(Титул!$E$19,Жюри!$D$2:$E$250,2,FALSE),0)","v":0},{"$f":"IFERROR(VLOOKUP(Титул!$E$20,Жюри!$D$2:$E$250,2,FALSE),0)","v":0},{"$f":"IFERROR(VLOOKUP(Титул!$E$21,Жюри!$D$2:$E$250,2,FALSE),0)","v":0},{"$f":"IFERROR(VLOOKUP(Титул!$E$22,Жюри!$D$2:$E$250,2,FALSE),0)","v":0},{"$f":"IFERROR(VLOOKUP(Титул!$E$23,Жюри!$D$2:$E$250,2,FALSE),0)","v":0},{"$f":"IFERROR(VLOOKUP(Титул!$E$24,Жюри!$D$2:$E$250,2,FALSE),0)","v":0},{"$f":"IFERROR(VLOOKUP(Титул!$E$25,Жюри!$D$2:$E$250,2,FALSE),0)","v":0},{"$f":"IFERROR(VLOOKUP(Титул!$E$26,Жюри!$D$2:$E$250,2,FALSE),0)","v":0},{"$f":"IFERROR(VLOOKUP(Титул!$E$27,Жюри!$D$2:$E$250,2,FALSE),0)","v":0},{"$f":"IFERROR(VLOOKUP(Титул!$E$28,Жюри!$D$2:$E$250,2,FALSE),0)","v":0},{"$f":"IFERROR(VLOOKUP(Титул!$E$29,Жюри!$D$2:$E$85,2,FALSE),0)","v":0},{"$f":"IFERROR(VLOOKUP(Титул!$E$30,Жюри!$D$2:$E$85,2,FALSE),0)","v":0},{"$f":"IFERROR(VLOOKUP(Титул!$E$31,Жюри!$D$2:$E$85,2,FALSE),0)","v":0},{"$f":"IFERROR(VLOOKUP(Титул!$E$32,Жюри!$D$2:$E$85,2,FALSE),0)","v":0},{"$f":"IFERROR(VLOOKUP(Титул!$E$33,Жюри!$D$2:$E$85,2,FALSE),0)","v":0},{"$f":"IFERROR(VLOOKUP(Титул!$E$16,Жюри!$D$2:$E$250,2,FALSE),0)","v":0},{"$f":"IFERROR(VLOOKUP(Титул!$E$17,Жюри!$D$2:$E$250,2,FALSE),0)","v":0},{"$f":"IFERROR(VLOOKUP(Титул!$E$18,Жюри!$D$2:$E$250,2,FALSE),0)","v":0},{"$f":"IFERROR(VLOOKUP(Титул!$E$19,Жюри!$D$2:$E$250,2,FALSE),0)","v":0},{"$f":"IFERROR(VLOOKUP(Титул!$E$20,Жюри!$D$2:$E$250,2,FALSE),0)","v":0},{"$f":"IFERROR(VLOOKUP(Титул!$E$21,Жюри!$D$2:$E$250,2,FALSE),0)","v":0},{"$f":"IFERROR(VLOOKUP(Титул!$E$22,Жюри!$D$2:$E$250,2,FALSE),0)","v":0},{"$f":"IFERROR(VLOOKUP(Титул!$E$23,Жюри!$D$2:$E$250,2,FALSE),0)","v":0},{"$f":"IFERROR(VLOOKUP(Титул!$E$24,Жюри!$D$2:$E$250,2,FALSE),0)","v":0},{"$f":"IFERROR(VLOOKUP(Титул!$E$25,Жюри!$D$2:$E$250,2,FALSE),0)","v":0},{"$f":"IFERROR(VLOOKUP(Титул!$E$26,Жюри!$D$2:$E$250,2,FALSE),0)","v":0},{"$f":"IFERROR(VLOOKUP(Титул!$E$27,Жюри!$D$2:$E$250,2,FALSE),0)","v":0},{"$f":"IFERROR(VLOOKUP(Титул!$E$28,Жюри!$D$2:$E$250,2,FALSE),0)","v":0},{"$f":"IFERROR(VLOOKUP(Титул!$E$29,Жюри!$D$2:$E$85,2,FALSE),0)","v":0},{"$f":"IFERROR(VLOOKUP(Титул!$E$30,Жюри!$D$2:$E$85,2,FALSE),0)","v":0},{"$f":"IFERROR(VLOOKUP(Титул!$E$31,Жюри!$D$2:$E$85,2,FALSE),0)","v":0},{"$f":"IFERROR(VLOOKUP(Титул!$E$32,Жюри!$D$2:$E$85,2,FALSE),0)","v":0},{"$f":"IFERROR(VLOOKUP(Титул!$E$33,Жюри!$D$2:$E$85,2,FALSE),0)","v":0},{"$f":"IFERROR(VLOOKUP(Титул!$E$16,Жюри!$D$2:$E$85,2,FALSE),0)","v":0},{"$f":"IFERROR(VLOOKUP(Титул!$E$17,Жюри!$D$2:$E$85,2,FALSE),0)","v":0},{"$f":"IFERROR(VLOOKUP(Титул!$E$18,Жюри!$D$2:$E$85,2,FALSE),0)","v":0},{"$f":"IFERROR(VLOOKUP(Титул!$E$19,Жюри!$D$2:$E$85,2,FALSE),0)","v":0},{"$f":"IFERROR(VLOOKUP(Титул!$E$20,Жюри!$D$2:$E$85,2,FALSE),0)","v":0},{"$f":"IFERROR(VLOOKUP(Титул!$E$21,Жюри!$D$2:$E$85,2,FALSE),0)","v":0},{"$f":"IFERROR(VLOOKUP(Титул!$E$22,Жюри!$D$2:$E$85,2,FALSE),0)","v":0},{"$f":"IFERROR(VLOOKUP(Титул!$E$23,Жюри!$D$2:$E$85,2,FALSE),0)","v":0},{"$f":"IFERROR(VLOOKUP(Титул!$E$24,Жюри!$D$2:$E$85,2,FALSE),0)","v":0},{"$f":"IFERROR(VLOOKUP(Титул!$E$25,Жюри!$D$2:$E$85,2,FALSE),0)","v":0},{"$f":"IFERROR(VLOOKUP(Титул!$E$26,Жюри!$D$2:$E$85,2,FALSE),0)","v":0},{"$f":"IFERROR(VLOOKUP(Титул!$E$27,Жюри!$D$2:$E$85,2,FALSE),0)","v":0},{"$f":"IFERROR(VLOOKUP(Титул!$E$28,Жюри!$D$2:$E$85,2,FALSE),0)","v":0},{"$f":"IFERROR(VLOOKUP(Титул!$E$29,Жюри!$D$2:$E$85,2,FALSE),0)","v":0},{"$f":"IFERROR(VLOOKUP(Титул!$E$30,Жюри!$D$2:$E$85,2,FALSE),0)","v":0},{"$f":"IFERROR(VLOOKUP(Титул!$E$31,Жюри!$D$2:$E$85,2,FALSE),0)","v":0},{"$f":"IFERROR(VLOOKUP(Титул!$E$32,Жюри!$D$2:$E$85,2,FALSE),0)","v":0},{"$f":"IFERROR(VLOOKUP(Титул!$E$33,Жюри!$D$2:$E$85,2,FALSE),0)","v":0},{"$f":"IFERROR(VLOOKUP(Титул!$E$16,Жюри!$D$2:$E$85,2,FALSE),0)","v":0},{"$f":"IFERROR(VLOOKUP(Титул!$E$17,Жюри!$D$2:$E$85,2,FALSE),0)","v":0},{"$f":"IFERROR(VLOOKUP(Титул!$E$18,Жюри!$D$2:$E$85,2,FALSE),0)","v":0},{"$f":"IFERROR(VLOOKUP(Титул!$E$19,Жюри!$D$2:$E$85,2,FALSE),0)","v":0},{"$f":"IFERROR(VLOOKUP(Титул!$E$20,Жюри!$D$2:$E$85,2,FALSE),0)","v":0},{"$f":"IFERROR(VLOOKUP(Титул!$E$21,Жюри!$D$2:$E$85,2,FALSE),0)","v":0},{"$f":"IFERROR(VLOOKUP(Титул!$E$22,Жюри!$D$2:$E$85,2,FALSE),0)","v":0},{"$f":"IFERROR(VLOOKUP(Титул!$E$23,Жюри!$D$2:$E$85,2,FALSE),0)","v":0},{"$f":"IFERROR(VLOOKUP(Титул!$E$24,Жюри!$D$2:$E$85,2,FALSE),0)","v":0},{"$f":"IFERROR(VLOOKUP(Титул!$E$25,Жюри!$D$2:$E$85,2,FALSE),0)","v":0},{"$f":"IFERROR(VLOOKUP(Титул!$E$26,Жюри!$D$2:$E$85,2,FALSE),0)","v":0},{"$f":"IFERROR(VLOOKUP(Титул!$E$27,Жюри!$D$2:$E$85,2,FALSE),0)","v":0},{"$f":"IFERROR(VLOOKUP(Титул!$E$28,Жюри!$D$2:$E$85,2,FALSE),0)","v":0},{"$f":"IFERROR(VLOOKUP(Титул!$E$29,Жюри!$D$2:$E$85,2,FALSE),0)","v":0},{"$f":"IFERROR(VLOOKUP(Титул!$E$30,Жюри!$D$2:$E$85,2,FALSE),0)","v":0},{"$f":"IFERROR(VLOOKUP(Титул!$E$31,Жюри!$D$2:$E$85,2,FALSE),0)","v":0},{"$f":"IFERROR(VLOOKUP(Титул!$E$32,Жюри!$D$2:$E$85,2,FALSE),0)","v":0},{"$f":"IFERROR(VLOOKUP(Титул!$E$33,Жюри!$D$2:$E$85,2,FALSE),0)","v":0},"Кол-во пустых","Отбрасыв снизу оценок (правила)","Отбрасыв сверху оценок (правила)","Отбрасыв снизу оценок (с учетом пустых)","Отбрасыв снизу в баллах","Отбрасыв сверху в баллах","Число значений \"ноль\" снизу","Число значений \"ноль\" сверху","Отброшено снизу лишних оценок","Отброшено сверху лишних оценок","Нужно добавить к сумме снизу","Нужно добавить к сумме сверху","однородные оценки",{"$f":"IFERROR(VLOOKUP(Титул!$E$16,Жюри!$D$2:$E$85,2),0)","v":0},{"$f":"IFERROR(VLOOKUP(Титул!$E$17,Жюри!$D$2:$E$85,2),0)","v":0},{"$f":"IFERROR(VLOOKUP(Титул!$E$18,Жюри!$D$2:$E$85,2),0)","v":0},{"$f":"IFERROR(VLOOKUP(Титул!$E$19,Жюри!$D$2:$E$85,2),0)","v":0},{"$f":"IFERROR(VLOOKUP(Титул!$E$20,Жюри!$D$2:$E$85,2),0)","v":0},{"$f":"IFERROR(VLOOKUP(Титул!$E$21,Жюри!$D$2:$E$85,2),0)","v":0},{"$f":"IFERROR(VLOOKUP(Титул!$E$22,Жюри!$D$2:$E$85,2),0)","v":0},{"$f":"IFERROR(VLOOKUP(Титул!$E$23,Жюри!$D$2:$E$85,2),0)","v":0},{"$f":"IFERROR(VLOOKUP(Титул!$E$24,Жюри!$D$2:$E$85,2),0)","v":0},{"$f":"IFERROR(VLOOKUP(Титул!$E$25,Жюри!$D$2:$E$85,2),0)","v":0},{"$f":"IFERROR(VLOOKUP(Титул!$E$26,Жюри!$D$2:$E$85,2),0)","v":0},{"$f":"IFERROR(VLOOKUP(Титул!$E$27,Жюри!$D$2:$E$85,2),0)","v":0},{"$f":"IFERROR(VLOOKUP(Титул!$E$28,Жюри!$D$2:$E$85,2),0)","v":0},{"$f":"IFERROR(VLOOKUP(Титул!$E$29,Жюри!$D$2:$E$85,2),0)","v":0},{"$f":"IFERROR(VLOOKUP(Титул!$E$30,Жюри!$D$2:$E$85,2),0)","v":0},{"$f":"IFERROR(VLOOKUP(Титул!$E$31,Жюри!$D$2:$E$85,2),0)","v":0},{"$f":"IFERROR(VLOOKUP(Титул!$E$32,Жюри!$D$2:$E$85,2),0)","v":0},{"$f":"IFERROR(VLOOKUP(Титул!$E$33,Жюри!$D$2:$E$85,2),0)","v":0},null,null,"Рассчитывается по таблице \"Сведение отброшенных снизу и сверху воедино\"","Рассчитывается из предыдущей колонки с учетом \"Нужно добавить к сумме\" снизу и сверху","Среднее по категории","Коэффициент","Умножено на коэффициент","Сумма за раунд"]
[null,null,null,null,null,null,"Категория","Оценки членов жюри",null,null,null,null,null,null,null,null,null,null,null,null,null,null,null,null,null,"Перевод оценок в баллы",null,null,null,null,null,null,null,null,null,null,null,null,null,null,null,null,null,"Отбрасывание крайних оценок снизу",null,null,null,null,null,null,null,null,null,null,null,null,null,null,null,null,null,"Отбрасывание крайних оценок сверху",null,null,null,null,null,null,null,null,null,null,null,null,null,null,null,null,null,null,null,null,null,null,null,null,null,null,null,null,null,null,"Сведение отброшеных снизу и сверху воедино для подсчета суммы",null,null,null,null,null,null,null,null,null,null,null,null,null,null,null,null,null,"кол-во жюри","кол-во оценок","Сумма сводная","Сумма реальная"]
[null,"ЧЕТВЕРТЫЙ",null,"Докладчик",null,null,"1. Содерж. часть",null,null,null,null,null,null,null,null,null,null,null,null,null,null,null,null,null,null,{"$f":"VLOOKUP(H125,Служеб!$AC$4:$AD$13,2)","v":0},{"$f":"VLOOKUP(I125,Служеб!$AC$4:$AD$13,2)","v":0},{"$f":"VLOOKUP(J125,Служеб!$AC$4:$AD$13,2)","v":0},{"$f":"VLOOKUP(K125,Служеб!$AC$4:$AD$13,2)","v":0},{"$f":"VLOOKUP(L125,Служеб!$AC$4:$AD$13,2)","v":0},{"$f":"VLOOKUP(M125,Служеб!$AC$4:$AD$13,2)","v":0},{"$f":"VLOOKUP(N125,Служеб!$AC$4:$AD$13,2)","v":0},{"$f":"VLOOKUP(O125,Служеб!$AC$4:$AD$13,2)","v":0},{"$f":"VLOOKUP(P125,Служеб!$AC$4:$AD$13,2)","v":0},{"$f":"VLOOKUP(Q125,Служеб!$AC$4:$AD$13,2)","v":0},{"$f":"VLOOKUP(R125,Служеб!$AC$4:$AD$13,2)","v":0},{"$f":"VLOOKUP(S125,Служеб!$AC$4:$AD$13,2)","v":0},{"$f":"VLOOKUP(T125,Служеб!$AC$4:$AD$13,2)","v":0},{"$f":"VLOOKUP(U125,Служеб!$AC$4:$AD$13,2)","v":0},{"$f":"VLOOKUP(V125,Служеб!$AC$4:$AD$13,2)","v":0},{"$f":"VLOOKUP(W125,Служеб!$AC$4:$AD$13,2)","v":0},{"$f":"VLOOKUP(X125,Служеб!$AC$4:$AD$13,2)","v":0},{"$f":"VLOOKUP(Y125,Служеб!$AC$4:$AD$13,2)","v":0},{"$f":"IF(Z125>$CF125,Z125,0)","v":0},0,0,0,0,0,0,0,0,0,{"$f":"IF(AJ125>$CF125,AJ125,0)","v":0},0,0,0,0,0,0,0,{"$f":"IF(Z125<$CG125,Z125,0)","v":0},0,0,0,0,0,0,0,0,0,{"$f":"IF(AJ125<$CG125,AJ125,0)","v":0},0,0,0,0,0,0,0,{"$f":"COUNTIFS($Z125:$AQ125,0)","v":18},{"$f":"VLOOKUP($DG125,Служеб!$AG$4:$AI$21,2)","v":{"$error":"#N/A"}},{"$f":"VLOOKUP($DG125,Служеб!$AG$4:$AI$21,3)","v":{"$error":"#N/A"}},{"$f":"CC125+CB125","v":{"$error":"#N/A"}},{"$f":"IFERROR(SMALL($Z125:$AQ125,$CE125),-10)","v":-10},{"$f":"IFERROR(LARGE($Z125:$AQ125,$CD125),110)","v":110},{"$f":"COUNTIFS($AR125:$BI125,0)","v":18},{"$f":"COUNTIFS($BJ125:$CA125,0)","v":18},{"$f":"CH125-CB125-CC125","v":{"$error":"#N/A"}},{"$f":"CI125-CB125-CD125","v":{"$error":"#N/A"}},{"$f":"CJ125*CF125","v":{"$error":"#N/A"}},{"$error":"#N/A"},{"$f":"IF(CF125=CG125,1,0)","v":0},{"$f":"IF(AR125=BJ125,Z125,0)","v":0},0,0,0,0,0,0,0,0,0,{"$f":"IF(BB125=BT125,AJ125,0)","v":0},0,0,0,0,0,0,0,{"$f":"Титул!$F$15","v":0},{"$f":"DG125-CC125-CD125","v":{"$error":"#N/A"}},{"$f":"SUM($CO125:$DF125)","v":0},{"$f":"IF(CN125=1,(CF125*DH125),DI125+CL125+CM125)","v":{"$error":"#N/A"}},{"$f":"DJ125/DH125","v":{"$error":"#N/A"}},{"$f":"Служеб!$AL$4","v":1.5},{"$f":"DK125*DL125","v":{"$error":"#N/A"}},{"$f":"(DM125+DM126+DM127)*$AJ$119","v":{"$error":"#N/A"}},null,{"$f":"D125","v":"Докладчик"},{"$f":"DN125","v":{"$error":"#N/A"}},{"$f":"DQ125/AJ119","v":{"$error":"#N/A"}}]
[null,null,null,null,null,null,"2. Умение докл.",null,null,null,null,null,null,null,null,null,null,null,null,null,null,null,null,null,null,{"$f":"VLOOKUP(H126,Служеб!$AC$4:$AD$13,2)","v":0},{"$f":"VLOOKUP(I126,Служеб!$AC$4:$AD$13,2)","v":0},{"$f":"VLOOKUP(J126,Служеб!$AC$4:$AD$13,2)","v":0},{"$f":"VLOOKUP(K126,Служеб!$AC$4:$AD$13,2)","v":0},{"$f":"VLOOKUP(L126,Служеб!$AC$4:$AD$13,2)","v":0},{"$f":"VLOOKUP(M126,Служеб!$AC$4:$AD$13,2)","v":0},{"$f":"VLOOKUP(N126,Служеб!$AC$4:$AD$13,2)","v":0},{"$f":"VLOOKUP(O126,Служеб!$AC$4:$AD$13,2)","v":0},{"$f":"VLOOKUP(P126,Служеб!$AC$4:$AD$13,2)","v":0},{"$f":"VLOOKUP(Q126,Служеб!$AC$4:$AD$13,2)","v":0},{"$f":"VLOOKUP(R126,Служеб!$AC$4:$AD$13,2)","v":0},{"$f":"VLOOKUP(S126,Служеб!$AC$4:$AD$13,2)","v":0},{"$f":"VLOOKUP(T126,Служеб!$AC$4:$AD$13,2)","v":0},{"$f":"VLOOKUP(U126,Служеб!$AC$4:$AD$13,2)","v":0},{"$f":"VLOOKUP(V126,Служеб!$AC$4:$AD$13,2)","v":0},{"$f":"VLOOKUP(W126,Служеб!$AC$4:$AD$13,2)","v":0},{"$f":"VLOOKUP(X126,Служеб!$AC$4:$AD$13,2)","v":0},{"$f":"VLOOKUP(Y126,Служеб!$AC$4:$AD$13,2)","v":0},0,0,0,0,0,0,0,0,0,0,0,0,0,0,0,0,0,0,0,0,0,0,0,0,0,0,0,0,0,0,0,0,0,0,0,0,{"$f":"COUNTIFS($Z126:$AQ126,0)","v":18},{"$f":"VLOOKUP($DG126,Служеб!$AG$4:$AI$21,2)","v":{"$error":"#N/A"}},{"$f":"VLOOKUP($DG126,Служеб!$AG$4:$AI$21,3)","v":{"$error":"#N/A"}},{"$f":"CC126+CB126","v":{"$error":"#N/A"}},{"$f":"IFERROR(SMALL($Z126:$AQ126,$CE126),-10)","v":-10},{"$f":"IFERROR(LARGE($Z126:$AQ126,$CD126),110)","v":110},{"$f":"COUNTIFS($AR126:$BI126,0)","v":18},{"$f":"COUNTIFS($BJ126:$CA126,0)","v":18},{"$f":"CH126-CB126-CC126","v":{"$error":"#N/A"}},{"$f":"CI126-CB126-CD126","v":{"$error":"#N/A"}},{"$error":"#N/A"},{"$error":"#N/A"},0,0,0,0,0,0,0,0,0,0,0,0,0,0,0,0,0,0,0,{"$f":"Титул!$F$15","v":0},{"$f":"DG126-CC126-CD126","v":{"$error":"#N/A"}},{"$f":"SUM($CO126:$DF126)","v":0},{"$error":"#N/A"},{"$f":"DJ126/DH126","v":{"$error":"#N/A"}},{"$f":"Служеб!$AL$5","v":0.7},{"$f":"DK126*DL126","v":{"$error":"#N/A"}},null,null,"Наблюдатель",0]
[null,null,null,null,null,null,"3. Полемика",null,null,null,null,null,null,null,null,null,null,null,null,null,null,null,null,null,null,{"$f":"VLOOKUP(H127,Служеб!$AC$4:$AD$13,2)","v":0},{"$f":"VLOOKUP(I127,Служеб!$AC$4:$AD$13,2)","v":0},{"$f":"VLOOKUP(J127,Служеб!$AC$4:$AD$13,2)","v":0},{"$f":"VLOOKUP(K127,Служеб!$AC$4:$AD$13,2)","v":0},{"$f":"VLOOKUP(L127,Служеб!$AC$4:$AD$13,2)","v":0},{"$f":"VLOOKUP(M127,Служеб!$AC$4:$AD$13,2)","v":0},{"$f":"VLOOKUP(N127,Служеб!$AC$4:$AD$13,2)","v":0},{"$f":"VLOOKUP(O127,Служеб!$AC$4:$AD$13,2)","v":0},{"$f":"VLOOKUP(P127,Служеб!$AC$4:$AD$13,2)","v":0},{"$f":"VLOOKUP(Q127,Служеб!$AC$4:$AD$13,2)","v":0},{"$f":"VLOOKUP(R127,Служеб!$AC$4:$AD$13,2)","v":0},{"$f":"VLOOKUP(S127,Служеб!$AC$4:$AD$13,2)","v":0},{"$f":"VLOOKUP(T127,Служеб!$AC$4:$AD$13,2)","v":0},{"$f":"VLOOKUP(U127,Служеб!$AC$4:$AD$13,2)","v":0},{"$f":"VLOOKUP(V127,Служеб!$AC$4:$AD$13,2)","v":0},{"$f":"VLOOKUP(W127,Служеб!$AC$4:$AD$13,2)","v":0},{"$f":"VLOOKUP(X127,Служеб!$AC$4:$AD$13,2)","v":0},{"$f":"VLOOKUP(Y127,Служеб!$AC$4:$AD$13,2)","v":0},0,0,0,0,0,0,0,0,0,0,0,0,0,0,0,0,0,0,0,0,0,0,0,0,0,0,0,0,0,0,0,0,0,0,0,0,{"$f":"COUNTIFS($Z127:$AQ127,0)","v":18},{"$f":"VLOOKUP($DG127,Служеб!$AG$4:$AI$21,2)","v":{"$error":"#N/A"}},{"$f":"VLOOKUP($DG127,Служеб!$AG$4:$AI$21,3)","v":{"$error":"#N/A"}},{"$f":"CC127+CB127","v":{"$error":"#N/A"}},{"$f":"IFERROR(SMALL($Z127:$AQ127,$CE127),-10)","v":-10},{"$f":"IFERROR(LARGE($Z127:$AQ127,$CD127),110)","v":110},{"$f":"COUNTIFS($AR127:$BI127,0)","v":18},{"$f":"COUNTIFS($BJ127:$CA127,0)","v":18},{"$f":"CH127-CB127-CC127","v":{"$error":"#N/A"}},{"$f":"CI127-CB127-CD127","v":{"$error":"#N/A"}},{"$error":"#N/A"},{"$error":"#N/A"},{"$f":"IF(CF127=CG127,1,0)","v":0},0,0,0,0,0,0,0,0,0,0,0,0,0,0,0,0,0,0,{"$f":"Титул!$F$15","v":0},{"$f":"DG127-CC127-CD127","v":{"$error":"#N/A"}},{"$f":"SUM($CO127:$DF127)","v":0},{"$f":"IF(CN127=1,(CF127*DH127),DI127+CL127+CM127)","v":{"$error":"#N/A"}},{"$f":"DJ127/DH127","v":{"$error":"#N/A"}},{"$f":"Служеб!$AL$6","v":0.8},{"$f":"DK127*DL127","v":{"$error":"#N/A"}},null,null,{"$f":"D129","v":"Оппонент"},{"$f":"DN129","v":{"$error":"#N/A"}}]
[null,null,null,null,null,null,null,null,null,null,null,null,null,null,null,null,null,null,null,null,null,null,null,null,null,null,null,null,null,null,null,null,null,null,null,null,null,null,null,null,null,null,null,null,null,null,null,null,null,null,null,null,null,null,null,null,null,null,null,null,null,null,null,null,null,null,null,null,null,null,null,null,null,null,null,null,null,null,null,null,null,null,null,null,null,null,null,null,null,null,null,null,null,null,null,null,null,null,null,null,null,null,null,null,null,null,null,null,null,null,null,null,null,null,null,null,null,null,null,{"$f":"D132","v":"Рецензент"},{"$f":"DN132","v":{"$error":"#N/A"}}]
[null,null,null,"Оппонент",null,null,"1. Анализ докл.",null,null,null,null,null,null,null,null,null,null,null,null,null,null,null,null,null,null,{"$f":"VLOOKUP(H129,Служеб!$AC$4:$AD$13,2)","v":0},{"$f":"VLOOKUP(I129,Служеб!$AC$4:$AD$13,2)","v":0},{"$f":"VLOOKUP(J129,Служеб!$AC$4:$AD$13,2)","v":0},{"$f":"VLOOKUP(K129,Служеб!$AC$4:$AD$13,2)","v":0},{"$f":"VLOOKUP(L129,Служеб!$AC$4:$AD$13,2)","v":0},{"$f":"VLOOKUP(M129,Служеб!$AC$4:$AD$13,2)","v":0},{"$f":"VLOOKUP(N129,Служеб!$AC$4:$AD$13,2)","v":0},{"$f":"VLOOKUP(O129,Служеб!$AC$4:$AD$13,2)","v":0},{"$f":"VLOOKUP(P129,Служеб!$AC$4:$AD$13,2)","v":0},{"$f":"VLOOKUP(Q129,Служеб!$AC$4:$AD$13,2)","v":0},{"$f":"VLOOKUP(R129,Служеб!$AC$4:$AD$13,2)","v":0},{"$f":"VLOOKUP(S129,Служеб!$AC$4:$AD$13,2)","v":0},{"$f":"VLOOKUP(T129,Служеб!$AC$4:$AD$13,2)","v":0},{"$f":"VLOOKUP(U129,Служеб!$AC$4:$AD$13,2)","v":0},{"$f":"VLOOKUP(V129,Служеб!$AC$4:$AD$13,2)","v":0},{"$f":"VLOOKUP(W129,Служеб!$AC$4:$AD$13,2)","v":0},{"$f":"VLOOKUP(X129,Служеб!$AC$4:$AD$13,2)","v":0},{"$f":"VLOOKUP(Y129,Служеб!$AC$4:$AD$13,2)","v":0},{"$f":"IF(Z129>$CF129,Z129,0)","v":0},0,0,0,0,0,0,0,0,0,{"$f":"IF(AJ129>$CF129,AJ129,0)","v":0},0,0,0,0,0,0,0,{"$f":"IF(Z129<$CG129,Z129,0)","v":0},0,0,0,0,0,0,0,0,0,{"$f":"IF(AJ129<$CG129,AJ129,0)","v":0},0,0,0,0,0,0,0,{"$f":"COUNTIFS($Z129:$AQ129,0)","v":18},{"$f":"VLOOKUP($DG129,Служеб!$AG$4:$AI$21,2)","v":{"$error":"#N/A"}},{"$f":"VLOOKUP($DG129,Служеб!$AG$4:$AI$21,3)","v":{"$error":"#N/A"}},{"$f":"CC129+CB129","v":{"$error":"#N/A"}},{"$f":"IFERROR(SMALL($Z129:$AQ129,$CE129),-10)","v":-10},{"$f":"IFERROR(LARGE($Z129:$AQ129,$CD129),110)","v":110},{"$f":"COUNTIFS($AR129:$BI129,0)","v":18},{"$f":"COUNTIFS($BJ129:$CA129,0)","v":18},{"$f":"CH129-CB129-CC129","v":{"$error":"#N/A"}},{"$f":"CI129-CB129-CD129","v":{"$error":"#N/A"}},{"$f":"CJ129*CF129","v":{"$error":"#N/A"}},{"$f":"CK129*CG129","v":{"$error":"#N/A"}},{"$f":"IF(CF129=CG129,1,0)","v":0},{"$f":"IF(AR129=BJ129,Z129,0)","v":0},0,0,0,0,0,0,0,0,0,{"$f":"IF(BB129=BT129,AJ129,0)","v":0},0,0,0,0,0,0,0,{"$f":"Титул!$F$15","v":0},{"$f":"DG129-CC129-CD129","v":{"$error":"#N/A"}},{"$f":"SUM($CO129:$DF129)","v":0},{"$error":"#N/A"},{"$f":"DJ129/DH129","v":{"$error":"#N/A"}},{"$f":"Служеб!$AL$7","v":1.2},{"$f":"DK129*DL129","v":{"$error":"#N/A"}},{"$f":"DM129+DM130","v":{"$error":"#N/A"}}]
[null,null,null,null,null,null,"2. Полемика",null,null,null,null,null,null,null,null,null,null,null,null,null,null,null,null,null,null,{"$f":"VLOOKUP(H130,Служеб!$AC$4:$AD$13,2)","v":0},{"$f":"VLOOKUP(I130,Служеб!$AC$4:$AD$13,2)","v":0},{"$f":"VLOOKUP(J130,Служеб!$AC$4:$AD$13,2)","v":0},{"$f":"VLOOKUP(K130,Служеб!$AC$4:$AD$13,2)","v":0},{"$f":"VLOOKUP(L130,Служеб!$AC$4:$AD$13,2)","v":0},{"$f":"VLOOKUP(M130,Служеб!$AC$4:$AD$13,2)","v":0},{"$f":"VLOOKUP(N130,Служеб!$AC$4:$AD$13,2)","v":0},{"$f":"VLOOKUP(O130,Служеб!$AC$4:$AD$13,2)","v":0},{"$f":"VLOOKUP(P130,Служеб!$AC$4:$AD$13,2)","v":0},{"$f":"VLOOKUP(Q130,Служеб!$AC$4:$AD$13,2)","v":0},{"$f":"VLOOKUP(R130,Служеб!$AC$4:$AD$13,2)","v":0},{"$f":"VLOOKUP(S130,Служеб!$AC$4:$AD$13,2)","v":0},{"$f":"VLOOKUP(T130,Служеб!$AC$4:$AD$13,2)","v":0},{"$f":"VLOOKUP(U130,Служеб!$AC$4:$AD$13,2)","v":0},{"$f":"VLOOKUP(V130,Служеб!$AC$4:$AD$13,2)","v":0},{"$f":"VLOOKUP(W130,Служеб!$AC$4:$AD$13,2)","v":0},{"$f":"VLOOKUP(X130,Служеб!$AC$4:$AD$13,2)","v":0},{"$f":"VLOOKUP(Y130,Служеб!$AC$4:$AD$13,2)","v":0},0,0,0,0,0,0,0,0,0,0,0,0,0,0,0,0,0,0,0,0,0,0,0,0,0,0,0,0,0,0,0,0,0,0,0,0,{"$f":"COUNTIFS($Z130:$AQ130,0)","v":18},{"$f":"VLOOKUP($DG130,Служеб!$AG$4:$AI$21,2)","v":{"$error":"#N/A"}},{"$f":"VLOOKUP($DG130,Служеб!$AG$4:$AI$21,3)","v":{"$error":"#N/A"}},{"$f":"CC130+CB130","v":{"$error":"#N/A"}},{"$f":"IFERROR(SMALL($Z130:$AQ130,$CE130),-10)","v":-10},{"$f":"IFERROR(LARGE($Z130:$AQ130,$CD130),110)","v":110},{"$f":"COUNTIFS($AR130:$BI130,0)","v":18},{"$f":"COUNTIFS($BJ130:$CA130,0)","v":18},{"$f":"CH130-CB130-CC130","v":{"$error":"#N/A"}},{"$f":"CI130-CB130-CD130","v":{"$error":"#N/A"}},{"$f":"CJ130*CF130","v":{"$error":"#N/A"}},{"$f":"CK130*CG130","v":{"$error":"#N/A"}},0,0,0,0,0,0,0,0,0,0,0,0,0,0,0,0,0,0,0,{"$f":"Титул!$F$15","v":0},{"$f":"DG130-CC130-CD130","v":{"$error":"#N/A"}},{"$f":"SUM($CO130:$DF130)","v":0},{"$error":"#N/A"},{"$f":"DJ130/DH130","v":{"$error":"#N/A"}},{"$f":"Служеб!$AL$8","v":0.8},{"$f":"DK130*DL130","v":{"$error":"#N/A"}}]
[null,"ЧЕТВЕРТЫЙ"]
[null,null,null,"Рецензент",null,null,"1. Рецензия",null,null,null,null,null,null,null,null,null,null,null,null,null,null,null,null,null,null,{"$f":"VLOOKUP(H132,Служеб!$AC$4:$AD$13,2)","v":0},{"$f":"VLOOKUP(I132,Служеб!$AC$4:$AD$13,2)","v":0},{"$f":"VLOOKUP(J132,Служеб!$AC$4:$AD$13,2)","v":0},{"$f":"VLOOKUP(K132,Служеб!$AC$4:$AD$13,2)","v":0},{"$f":"VLOOKUP(L132,Служеб!$AC$4:$AD$13,2)","v":0},{"$f":"VLOOKUP(M132,Служеб!$AC$4:$AD$13,2)","v":0},{"$f":"VLOOKUP(N132,Служеб!$AC$4:$AD$13,2)","v":0},{"$f":"VLOOKUP(O132,Служеб!$AC$4:$AD$13,2)","v":0},{"$f":"VLOOKUP(P132,Служеб!$AC$4:$AD$13,2)","v":0},{"$f":"VLOOKUP(Q132,Служеб!$AC$4:$AD$13,2)","v":0},{"$f":"VLOOKUP(R132,Служеб!$AC$4:$AD$13,2)","v":0},{"$f":"VLOOKUP(S132,Служеб!$AC$4:$AD$13,2)","v":0},{"$f":"VLOOKUP(T132,Служеб!$AC$4:$AD$13,2)","v":0},{"$f":"VLOOKUP(U132,Служеб!$AC$4:$AD$13,2)","v":0},{"$f":"VLOOKUP(V132,Служеб!$AC$4:$AD$13,2)","v":0},{"$f":"VLOOKUP(W132,Служеб!$AC$4:$AD$13,2)","v":0},{"$f":"VLOOKUP(X132,Служеб!$AC$4:$AD$13,2)","v":0},{"$f":"VLOOKUP(Y132,Служеб!$AC$4:$AD$13,2)","v":0},{"$f":"IF(Z132>$CF132,Z132,0)","v":0},0,0,0,0,0,0,0,0,0,0,0,0,0,0,0,0,0,{"$f":"IF(Z132<$CG132,Z132,0)","v":0},0,0,0,0,0,0,0,0,0,0,0,0,0,0,0,0,0,{"$f":"COUNTIFS($Z132:$AQ132,0)","v":18},{"$f":"VLOOKUP($DG132,Служеб!$AG$4:$AI$21,2)","v":{"$error":"#N/A"}},{"$f":"VLOOKUP($DG132,Служеб!$AG$4:$AI$21,3)","v":{"$error":"#N/A"}},{"$f":"CC132+CB132","v":{"$error":"#N/A"}},{"$f":"IFERROR(SMALL($Z132:$AQ132,$CE132),-10)","v":-10},{"$f":"IFERROR(LARGE($Z132:$AQ132,$CD132),110)","v":110},{"$f":"COUNTIFS($AR132:$BI132,0)","v":18},{"$f":"COUNTIFS($BJ132:$CA132,0)","v":18},{"$f":"CH132-CB132-CC132","v":{"$error":"#N/A"}},{"$f":"CI132-CB132-CD132","v":{"$error":"#N/A"}},{"$f":"CJ132*CF132","v":{"$error":"#N/A"}},{"$f":"CK132*CG132","v":{"$error":"#N/A"}},0,{"$f":"IF(AR132=BJ132,Z132,0)","v":0},0,0,0,0,0,0,0,0,0,0,0,0,0,0,0,0,0,{"$f":"Титул!$F$15","v":0},{"$f":"DG132-CC132-CD132","v":{"$error":"#N/A"}},{"$f":"SUM($CO132:$DF132)","v":0},{"$error":"#N/A"},{"$f":"DJ132/DH132","v":{"$error":"#N/A"}},{"$f":"Служеб!$AL$9","v":1},{"$f":"DK132*DL132","v":{"$error":"#N/A"}},{"$f":"DM132","v":{"$error":"#N/A"}}]

{"sheet":"Итоги","index":2,"n_rows":45,"n_cols":28,"rows_kept":45,"cut":false,"hidden":false,"merged":[[43,14,43,16],[35,5,35,10],[36,5,36,10],[41,14,41,16],[42,14,42,16],[37,5,37,10],[38,5,38,10],[37,14,37,16],[38,14,38,16],[37,11,37,13],[38,11,38,13],[39,11,39,13],[40,11,40,13],[41,5,41,10],[3,22,3,23],[3,24,3,25],[32,14,32,16],[32,5,32,10],[12,5,12,7],[12,8,12,10],[12,11,12,13],[12,14,12,16],[6,5,6,16],[7,5,7,16],[8,5,8,16],[9,5,9,16],[5,5,5,16],[25,5,25,7],[25,8,25,10],[25,11,25,13],[44,14,44,16],[1,3,1,16],[3,3,3,4],[3,10,3,16],[26,5,26,7],[27,5,27,7],[26,8,26,10],[27,8,27,10],[26,11,26,13],[27,11,27,13],[28,11,28,13],[29,11,29,13],[33,5,33,10],[34,5,34,10],[28,5,28,7],[29,5,29,7],[31,2,31,3],[25,26,25,27],[27,26,27,27],[39,14,39,16],[40,14,40,16],[39,5,39,10],[40,5,40,10],[33,14,33,16],[34,14,34,16],[35,14,35,16],[36,14,36,16],[28,8,28,10],[29,8,29,10],[32,11,32,13],[33,11,33,13],[34,11,34,13],[3,7,3,8],[44,5,44,10],[41,11,41,13],[42,11,42,13],[43,11,43,13],[44,11,44,13],[42,5,42,10],[43,5,43,10],[35,11,35,13],[36,11,36,13]]}
[]
[null,null,"Турнир:",{"$f":"Титул!E2","v":0}]
[]
[null,null,"Номер боя",{"$f":"Титул!E5","v":0},null,null,null,"Дата",null,null,{"$f":"Титул!E4","v":"00:00:00"},null,null,null,null,null,null,null,null,null,null,null,"Аудитория",null,{"$f":"Титул!E6","v":0}]
[]
[null,null,"Команды","№","Название","Школа",null,null,null,null,null,null,null,null,null,null,null,null,null,null,null,null,null,null,null,"Жюри","№","Фамилия Имя"]
[null,null,null,1,{"$f":"Титул!E47","v":0},{"$f":"IFERROR(VLOOKUP(E7,Участники!$A$2:$B$19,2),0)","v":0},null,null,null,null,null,null,null,null,null,null,null,null,null,null,null,null,null,null,null,null,1,{"$f":"Титул!E16","v":0}]
[null,null,null,2,{"$f":"Титул!E48","v":0},{"$f":"IFERROR(VLOOKUP(E8,Участники!$A$2:$B$19,2),0)","v":0},null,null,null,null,null,null,null,null,null,null,null,null,null,null,null,null,null,null,null,null,2,{"$f":"Титул!E17","v":0}]
[null,null,null,3,{"$f":"Титул!E49","v":0},{"$f":"IFERROR(VLOOKUP(E9,Участники!$A$2:$B$19,2),0)","v":0},null,null,null,null,null,null,null,null,null,null,null,null,null,null,null,null,null,null,null,null,3,{"$f":"Титул!E18","v":0}]
[null,null,null,4,{"$f":"Титул!E50","v":0},{"$f":"IFERROR(VLOOKUP(E10,Участники!$A$2:$B$19,2),0)","v":0},null,null,null,null,null,null,null,null,null,null,null,null,null,null,null,null,null,null,null,null,4,{"$f":"Титул!E19","v":0}]
[null,null,null,null,null,null,null,null,null,null,null,null,null,null,null,null,null,null,null,null,null,null,null,null,null,null,5,{"$f":"Титул!E20","v":0}]
[null,null,null,null,null,null,null,null,null,null,null,null,null,null,null,null,null,null,null,null,null,null,null,null,null,null,6,{"$f":"Титул!E21","v":0}]
[null,null,"Результаты","№","Команда","Раунд 1",null,null,"Раунд 2",null,null,"Раунд 3",null,null,"Раунд 4",null,null,"Сумма","Сортировка","Порядок","Разница",null,"Место","Рг. балл",null,null,7,{"$f":"Титул!E22","v":0}]
[null,null,null,1,{"$f":"E7","v":0},{"$f":"Титул!F47","v":"Д"},{"$f":"IF(F14=\"Д\",\"Докладчик\",IF(F14=\"О\",\"Оппонент\",IF(F14=\"Р\",\"Рецензент\",IF(F14=\"Н\",\"Наблюдатель\",\"нет\"))))","v":"Докладчик"},{"$f":"VLOOKUP(G14,Протокол!$DP$23:$DQ$26,2)","v":{"$error":"#N/A"}},{"$f":"Титул!G47","v":"Н"},{"$f":"IF(I14=\"Д\",\"Докладчик\",IF(I14=\"О\",\"Оппонент\",IF(I14=\"Р\",\"Рецензент\",IF(I14=\"Н\",\"Наблюдатель\",\"нет\"))))","v":"Наблюдатель"},{"$f":"VLOOKUP(J14,Протокол!$DP$57:$DQ$60,2)","v":0},{"$f":"Титул!H47","v":"Р"},{"$f":"IF(L14=\"Д\",\"Докладчик\",IF(L14=\"О\",\"Оппонент\",IF(L14=\"Р\",\"Рецензент\",IF(L14=\"Н\",\"Наблюдатель\",\"нет\"))))","v":"Рецензент"},{"$f":"VLOOKUP(M14,Протокол!$DP$91:$DQ$94,2)","v":{"$error":"#N/A"}},{"$f":"Титул!I47","v":"О"},{"$f":"IF(O14=\"Д\",\"Докладчик\",IF(O14=\"О\",\"Оппонент\",IF(O14=\"Р\",\"Рецензент\",IF(O14=\"Н\",\"Наблюдатель\",\"нет\"))))","v":"Оппонент"},{"$f":"VLOOKUP(P14,Протокол!$DP$125:$DQ$128,2)","v":{"$error":"#N/A"}},{"$f":"ROUND(H14+K14+N14+Q14,0)","v":{"$error":"#N/A"}},{"$f":"LARGE($R$14:$R$17,1)","v":{"$error":"#N/A"}},1,null,{"$f":"T14","v":1},{"$f":"IF(R14=S14,V14,IF(R14=S15,V15,IF(R14=S16,V16,IF(R14=S17,V17,\"no\"))))","v":{"$error":"#N/A"}},{"$f":"IF(W14=1,IF(R14<150,2,IF(R14<210,3,IF(R14<270,4,IF(R14<330,5,IF(R14<420,6,IF(R14<510,7,8)))))),IF(W14=2,IF(R14<150,1,IF(R14<210,2,IF(R14<270,3,IF(R14<330,4,IF(R14<420,5,IF(R14<510,6,7)))))),IF(R14<150,0,IF(R14<210,1,IF(R14<270,2,IF(R14<330,3,IF(R14<420,4,IF(R14<510,5,6))))))))","v":{"$error":"#N/A"}},null,null,8,{"$f":"Титул!E23","v":0}]
[null,null,null,2,{"$f":"E8","v":0},{"$f":"Титул!F48","v":"О"},{"$f":"IF(F15=\"Д\",\"Докладчик\",IF(F15=\"О\",\"Оппонент\",IF(F15=\"Р\",\"Рецензент\",IF(F15=\"Н\",\"Наблюдатель\",\"нет\"))))","v":"Оппонент"},{"$f":"VLOOKUP(G15,Протокол!$DP$23:$DQ$26,2)","v":{"$error":"#N/A"}},{"$f":"Титул!G48","v":"Д"},{"$f":"IF(I15=\"Д\",\"Докладчик\",IF(I15=\"О\",\"Оппонент\",IF(I15=\"Р\",\"Рецензент\",IF(I15=\"Н\",\"Наблюдатель\",\"нет\"))))","v":"Докладчик"},{"$f":"VLOOKUP(J15,Протокол!$DP$57:$DQ$60,2)","v":{"$error":"#N/A"}},{"$f":"Титул!H48","v":"Н"},{"$f":"IF(L15=\"Д\",\"Докладчик\",IF(L15=\"О\",\"Оппонент\",IF(L15=\"Р\",\"Рецензент\",IF(L15=\"Н\",\"Наблюдатель\",\"нет\"))))","v":"Наблюдатель"},{"$f":"VLOOKUP(M15,Протокол!$DP$91:$DQ$94,2)","v":0},{"$f":"Титул!I48","v":"Р"},{"$f":"IF(O15=\"Д\",\"Докладчик\",IF(O15=\"О\",\"Оппонент\",IF(O15=\"Р\",\"Рецензент\",IF(O15=\"Н\",\"Наблюдатель\",\"нет\"))))","v":"Рецензент"},{"$f":"VLOOKUP(P15,Протокол!$DP$125:$DQ$128,2)","v":{"$error":"#N/A"}},{"$f":"ROUND(H15+K15+N15+Q15,0)","v":{"$error":"#N/A"}},{"$f":"LARGE($R$14:$R$17,2)","v":{"$error":"#N/A"}},2,{"$f":"S14-S15","v":{"$error":"#N/A"}},{"$f":"IF(U15<=20,V14,V14+1)","v":{"$error":"#N/A"}},{"$f":"IF(R15=S14,V14,IF(R15=S15,V15,IF(R15=S16,V16,IF(R15=S17,V17,\"no\"))))","v":{"$error":"#N/A"}},{"$f":"IF(W15=1,IF(R15<150,2,IF(R15<210,3,IF(R15<270,4,IF(R15<330,5,IF(R15<420,6,IF(R15<510,7,8)))))),IF(W15=2,IF(R15<150,1,IF(R15<210,2,IF(R15<270,3,IF(R15<330,4,IF(R15<420,5,IF(R15<510,6,7)))))),IF(R15<150,0,IF(R15<210,1,IF(R15<270,2,IF(R15<330,3,IF(R15<420,4,IF(R15<510,5,6))))))))","v":{"$error":"#N/A"}},null,null,9,{"$f":"Титул!E24","v":0}]
[null,null,null,3,{"$f":"E9","v":0},{"$f":"Титул!F49","v":"Р"},{"$f":"IF(F16=\"Д\",\"Докладчик\",IF(F16=\"О\",\"Оппонент\",IF(F16=\"Р\",\"Рецензент\",IF(F16=\"Н\",\"Наблюдатель\",\"нет\"))))","v":"Рецензент"},{"$f":"VLOOKUP(G16,Протокол!$DP$23:$DQ$26,2)","v":{"$error":"#N/A"}},{"$f":"Титул!G49","v":"О"},{"$f":"IF(I16=\"Д\",\"Докладчик\",IF(I16=\"О\",\"Оппонент\",IF(I16=\"Р\",\"Рецензент\",IF(I16=\"Н\",\"Наблюдатель\",\"нет\"))))","v":"Оппонент"},{"$f":"VLOOKUP(J16,Протокол!$DP$57:$DQ$60,2)","v":{"$error":"#N/A"}},{"$f":"Титул!H49","v":"Д"},{"$f":"IF(L16=\"Д\",\"Докладчик\",IF(L16=\"О\",\"Оппонент\",IF(L16=\"Р\",\"Рецензент\",IF(L16=\"Н\",\"Наблюдатель\",\"нет\"))))","v":"Докладчик"},{"$f":"VLOOKUP(M16,Протокол!$DP$91:$DQ$94,2)","v":{"$error":"#N/A"}},{"$f":"Титул!I49","v":"Н"},{"$f":"IF(O16=\"Д\",\"Докладчик\",IF(O16=\"О\",\"Оппонент\",IF(O16=\"Р\",\"Рецензент\",IF(O16=\"Н\",\"Наблюдатель\",\"нет\"))))","v":"Наблюдатель"},{"$f":"VLOOKUP(P16,Протокол!$DP$125:$DQ$128,2)","v":0},{"$f":"ROUND(H16+K16+N16+Q16,0)","v":{"$error":"#N/A"}},{"$f":"LARGE($R$14:$R$17,3)","v":{"$error":"#N/A"}},3,{"$f":"S15-S16","v":{"$error":"#N/A"}},{"$f":"IF(U16<=20,V15,V15+1)","v":{"$error":"#N/A"}},{"$f":"IF(R16=S14,V14,IF(R16=S15,V15,IF(R16=S16,V16,IF(R16=S17,V17,\"no\"))))","v":{"$error":"#N/A"}},{"$f":"IF(W16=1,IF(R16<150,2,IF(R16<210,3,IF(R16<270,4,IF(R16<330,5,IF(R16<420,6,IF(R16<510,7,8)))))),IF(W16=2,IF(R16<150,1,IF(R16<210,2,IF(R16<270,3,IF(R16<330,4,IF(R16<420,5,IF(R16<510,6,7)))))),IF(R16<150,0,IF(R16<210,1,IF(R16<270,2,IF(R16<330,3,IF(R16<420,4,IF(R16<510,5,6))))))))","v":{"$error":"#N/A"}},null,null,10,{"$f":"Титул!E25","v":0}]
[null,null,null,4,{"$f":"E10","v":0},{"$f":"Титул!F50","v":"Н"},{"$f":"IF(F17=\"Д\",\"Докладчик\",IF(F17=\"О\",\"Оппонент\",IF(F17=\"Р\",\"Рецензент\",IF(F17=\"Н\",\"Наблюдатель\",\"нет\"))))","v":"Наблюдатель"},{"$f":"VLOOKUP(G17,Протокол!$DP$23:$DQ$26,2)","v":0},{"$f":"Титул!G50","v":"Р"},{"$f":"IF(I17=\"Д\",\"Докладчик\",IF(I17=\"О\",\"Оппонент\",IF(I17=\"Р\",\"Рецензент\",IF(I17=\"Н\",\"Наблюдатель\",\"нет\"))))","v":"Рецензент"},{"$f":"VLOOKUP(J17,Протокол!$DP$57:$DQ$60,2)","v":{"$error":"#N/A"}},{"$f":"Титул!H50","v":"О"},{"$f":"IF(L17=\"Д\",\"Докладчик\",IF(L17=\"О\",\"Оппонент\",IF(L17=\"Р\",\"Рецензент\",IF(L17=\"Н\",\"Наблюдатель\",\"нет\"))))","v":"Оппонент"},{"$f":"VLOOKUP(M17,Протокол!$DP$91:$DQ$94,2)","v":{"$error":"#N/A"}},{"$f":"Титул!I50","v":"Д"},{"$f":"IF(O17=\"Д\",\"Докладчик\",IF(O17=\"О\",\"Оппонент\",IF(O17=\"Р\",\"Рецензент\",IF(O17=\"Н\",\"Наблюдатель\",\"нет\"))))","v":"Докладчик"},{"$f":"VLOOKUP(P17,Протокол!$DP$125:$DQ$128,2)","v":{"$error":"#N/A"}},{"$f":"ROUND(H17+K17+N17+Q17,0)","v":{"$error":"#N/A"}},{"$f":"LARGE($R$14:$R$17,4)","v":{"$error":"#N/A"}},4,{"$f":"S16-S17","v":{"$error":"#N/A"}},{"$f":"IF(U17<=20,V16,V16+1)","v":{"$error":"#N/A"}},{"$f":"IF(R17=S14,V14,IF(R17=S15,V15,IF(R17=S16,V16,IF(R17=S17,V17,\"no\"))))","v":{"$error":"#N/A"}},{"$f":"IF(W17=1,IF(R17<150,2,IF(R17<210,3,IF(R17<270,4,IF(R17<330,5,IF(R17<420,6,IF(R17<510,7,8)))))),IF(W17=2,IF(R17<150,1,IF(R17<210,2,IF(R17<270,3,IF(R17<330,4,IF(R17<420,5,IF(R17<510,6,7)))))),IF(R17<150,0,IF(R17<210,1,IF(R17<270,2,IF(R17<330,3,IF(R17<420,4,IF(R17<510,5,6))))))))","v":{"$error":"#N/A"}},null,null,11,{"$f":"Титул!E26","v":0}]
[null,null,null,null,null,null,null,null,null,null,null,null,null,null,null,null,null,null,null,null,null,null,null,null,null,null,12,{"$f":"Титул!E27","v":0}]
[null,null,null,null,null,null,null,null,null,null,null,null,null,null,null,null,null,null,null,null,null,null,null,null,null,null,13,{"$f":"Титул!E28","v":0}]
[null,null,null,null,null,null,null,null,null,null,null,null,null,null,null,null,null,null,null,null,null,null,null,null,null,null,14,{"$f":"Титул!E29","v":0}]
[null,null,null,null,null,null,null,null,null,null,null,null,null,null,null,null,null,null,"Тактич",{"$f":"U21+V21","v":2},{"$f":"IF(Служеб!AP4=\"Тактич\",1,0)","v":1},{"$f":"IF(Служеб!AP5=\"Тактич\",1,0)","v":1},null,null,null,null,15,{"$f":"Титул!E30","v":0}]
[null,null,null,null,null,null,null,null,null,null,null,null,null,null,null,null,null,null,"Стратег",{"$f":"U22+V22","v":1},{"$f":"IF(Служеб!AP5=\"Стратег\",1,0)","v":0},{"$f":"IF(Служеб!AP6=\"Стратег\",1,0)","v":1},null,null,null,null,16,{"$f":"Титул!E31","v":0}]
[null,null,null,null,null,null,null,null,null,null,null,null,null,null,null,null,null,null,null,null,null,null,null,null,null,null,17,{"$f":"Титул!E32","v":0}]
[null,null,null,null,null,null,null,null,null,null,null,null,null,null,null,null,null,null,null,null,null,null,null,null,null,null,18,{"$f":"Титул!E33","v":0}]
[]
[null,null,"Задачи","№","Команда","Доклад",null,null,"Оппон.",null,null,"Рецензия",null,null,"Такт",null,"Страт","Вечные","Раунд 1","Раунд 2","Раунд 3","Раунд 4",null,null,null,"Ведущий",{"$f":"Титул!D35","v":0}]
[null,null,null,1,{"$f":"E7","v":0},{"$f":"IF($G14=\"Докладчик\",$S27,IF($J14=\"Докладчик\",$T27,IF($M14=\"Докладчик\",$U27,IF($P14=\"Докладчик\",$V27,\"no\"))))","v":0},null,null,{"$f":"IF($G14=\"Оппонент\",$S27,IF($J14=\"Оппонент\",$T27,IF($M14=\"Оппонент\",$U27,IF($P14=\"Оппонент\",$V27,\"no\"))))","v":0},null,null,{"$f":"IF($G14=\"Рецензент\",$S27,IF($J14=\"Рецензент\",$T27,IF($M14=\"Рецензент\",$U27,IF($P14=\"Рецензент\",$V27,\"no\"))))","v":0},null,null,{"$f":"IF($T$21=2,IF($E27=$S$31,$S$32&\"; \"&$S$33,IF($E27=$T$31,$T$32&\"; \"&$T$33,IF($E27=$U$31,$U$32&\"; \"&$U$33,IF($E27=$V$31,$V$32&\"; \"&$V$33,\"no\")))),IF($E27=$S$31,$S$32,IF($E27=$T$31,$T$32,IF($E27=$U$31,$U$32,IF($E27=$V$31,$V$32,\"no2\")))))","v":"0; 0"},null,{"$f":"IF($T$22=1,IF($U$22=1,IF($E27=$S$31,$S$33,IF($E27=$T$31,$T$33,IF($E27=$U$31,$U$33,IF($E27=$V$31,$V$33,\"no1\")))),IF($E27=$S$31,$S$34,IF($E27=$T$31,$T$34,IF($E27=$U$31,$U$34,IF($E27=$V$31,$V$34,\"no2\"))))),0)","v":0},{"$f":"IF($E27=$S$31,$S$35&\"; \"&$S$36&\"; \"&$S$37&\"; \"&$S$38&\"; \"&$S$39,IF($E27=$T$31,$T$35&\"; \"&$T$36&\"; \"&$T$37&\"; \"&$T$38&\"; \"&$T$39,IF($E27=$U$31,$U$35&\"; \"&$U$36&\"; \"&$U$37&\"; \"&$U$38&\"; \"&$U$39,IF($E27=$V$31,$V$35&\"; \"&$V$36&\"; \"&$V$37&\"; \"&$V$38&\"; \"&$V$39,\"no\"))))","v":"0; 0; 0; 0; 0"},{"$f":"Протокол!$F$15","v":0},{"$f":"Протокол!$F$49","v":0},{"$f":"Протокол!$F$83","v":0},{"$f":"Протокол!$F$117","v":0}]
[null,null,null,2,{"$f":"E8","v":0},{"$f":"IF($G15=\"Докладчик\",$S28,IF($J15=\"Докладчик\",$T28,IF($M15=\"Докладчик\",$U28,IF($P15=\"Докладчик\",$V28,\"no\"))))","v":0},null,null,{"$f":"IF($G15=\"Оппонент\",$S28,IF($J15=\"Оппонент\",$T28,IF($M15=\"Оппонент\",$U28,IF($P15=\"Оппонент\",$V28,\"no\"))))","v":0},null,null,{"$f":"IF($G15=\"Рецензент\",$S28,IF($J15=\"Рецензент\",$T28,IF($M15=\"Рецензент\",$U28,IF($P15=\"Рецензент\",$V28,\"no\"))))","v":0},null,null,{"$f":"IF($T$21=2,IF($E28=$S$31,$S$32&\"; \"&$S$33,IF($E28=$T$31,$T$32&\"; \"&$T$33,IF($E28=$U$31,$U$32&\"; \"&$U$33,IF($E28=$V$31,$V$32&\"; \"&$V$33,\"no\")))),IF($E28=$S$31,$S$32,IF($E28=$T$31,$T$32,IF($E28=$U$31,$U$32,IF($E28=$V$31,$V$32,\"no2\")))))","v":"0; 0"},null,{"$f":"IF($T$22=1,IF($U$22=1,IF($E28=$S$31,$S$33,IF($E28=$T$31,$T$33,IF($E28=$U$31,$U$33,IF($E28=$V$31,$V$33,\"no1\")))),IF($E28=$S$31,$S$34,IF($E28=$T$31,$T$34,IF($E28=$U$31,$U$34,IF($E28=$V$31,$V$34,\"no2\"))))),0)","v":0},{"$f":"IF($E28=$S$31,$S$35&\"; \"&$S$36&\"; \"&$S$37&\"; \"&$S$38&\"; \"&$S$39,IF($E28=$T$31,$T$35&\"; \"&$T$36&\"; \"&$T$37&\"; \"&$T$38&\"; \"&$T$39,IF($E28=$U$31,$U$35&\"; \"&$U$36&\"; \"&$U$37&\"; \"&$U$38&\"; \"&$U$39,IF($E28=$V$31,$V$35&\"; \"&$V$36&\"; \"&$V$37&\"; \"&$V$38&\"; \"&$V$39,\"no\"))))","v":"0; 0; 0; 0; 0"},{"$f":"Протокол!$F$15","v":0},{"$f":"Протокол!$F$49","v":0},{"$f":"Протокол!$F$83","v":0},{"$f":"Протокол!$F$117","v":0},null,null,null,"Секретарь",{"$f":"Титул!D37","v":0}]
[null,null,null,3,{"$f":"E9","v":0},{"$f":"IF($G16=\"Докладчик\",$S29,IF($J16=\"Докладчик\",$T29,IF($M16=\"Докладчик\",$U29,IF($P16=\"Докладчик\",$V29,\"no\"))))","v":0},null,null,{"$f":"IF($G16=\"Оппонент\",$S29,IF($J16=\"Оппонент\",$T29,IF($M16=\"Оппонент\",$U29,IF($P16=\"Оппонент\",$V29,\"no\"))))","v":0},null,null,{"$f":"IF($G16=\"Рецензент\",$S29,IF($J16=\"Рецензент\",$T29,IF($M16=\"Рецензент\",$U29,IF($P16=\"Рецензент\",$V29,\"no\"))))","v":0},null,null,{"$f":"IF($T$21=2,IF($E29=$S$31,$S$32&\"; \"&$S$33,IF($E29=$T$31,$T$32&\"; \"&$T$33,IF($E29=$U$31,$U$32&\"; \"&$U$33,IF($E29=$V$31,$V$32&\"; \"&$V$33,\"no\")))),IF($E29=$S$31,$S$32,IF($E29=$T$31,$T$32,IF($E29=$U$31,$U$32,IF($E29=$V$31,$V$32,\"no2\")))))","v":"0; 0"},null,{"$f":"IF($T$22=1,IF($U$22=1,IF($E29=$S$31,$S$33,IF($E29=$T$31,$T$33,IF($E29=$U$31,$U$33,IF($E29=$V$31,$V$33,\"no1\")))),IF($E29=$S$31,$S$34,IF($E29=$T$31,$T$34,IF($E29=$U$31,$U$34,IF($E29=$V$31,$V$34,\"no2\"))))),0)","v":0},{"$f":"IF($E29=$S$31,$S$35&\"; \"&$S$36&\"; \"&$S$37&\"; \"&$S$38&\"; \"&$S$39,IF($E29=$T$31,$T$35&\"; \"&$T$36&\"; \"&$T$37&\"; \"&$T$38&\"; \"&$T$39,IF($E29=$U$31,$U$35&\"; \"&$U$36&\"; \"&$U$37&\"; \"&$U$38&\"; \"&$U$39,IF($E29=$V$31,$V$35&\"; \"&$V$36&\"; \"&$V$37&\"; \"&$V$38&\"; \"&$V$39,\"no\"))))","v":"0; 0; 0; 0; 0"},{"$f":"Протокол!$F$15","v":0},{"$f":"Протокол!$F$49","v":0},{"$f":"Протокол!$F$83","v":0},{"$f":"Протокол!$F$117","v":0}]
[null,null,null,4,{"$f":"E10","v":0},{"$f":"IF($G17=\"Докладчик\",$S30,IF($J17=\"Докладчик\",$T30,IF($M17=\"Докладчик\",$U30,IF($P17=\"Докладчик\",$V30,\"no\"))))","v":0},null,null,{"$f":"IF($G17=\"Оппонент\",$S30,IF($J17=\"Оппонент\",$T30,IF($M17=\"Оппонент\",$U30,IF($P17=\"Оппонент\",$V30,\"no\"))))","v":0},null,null,{"$f":"IF($G17=\"Рецензент\",$S30,IF($J17=\"Рецензент\",$T30,IF($M17=\"Рецензент\",$U30,IF($P17=\"Рецензент\",$V30,\"no\"))))","v":0},null,null,{"$f":"IF($T$21=2,IF($E30=$S$31,$S$32&\"; \"&$S$33,IF($E30=$T$31,$T$32&\"; \"&$T$33,IF($E30=$U$31,$U$32&\"; \"&$U$33,IF($E30=$V$31,$V$32&\"; \"&$V$33,\"no\")))),IF($E30=$S$31,$S$32,IF($E30=$T$31,$T$32,IF($E30=$U$31,$U$32,IF($E30=$V$31,$V$32,\"no2\")))))","v":"0; 0"},null,{"$f":"IF($T$22=1,IF($U$22=1,IF($E30=$S$31,$S$33,IF($E30=$T$31,$T$33,IF($E30=$U$31,$U$33,IF($E30=$V$31,$V$33,\"no1\")))),IF($E30=$S$31,$S$34,IF($E30=$T$31,$T$34,IF($E30=$U$31,$U$34,IF($E30=$V$31,$V$34,\"no2\"))))),0)","v":0},{"$f":"IF($E30=$S$31,$S$35&\"; \"&$S$36&\"; \"&$S$37&\"; \"&$S$38&\"; \"&$S$39,IF($E30=$T$31,$T$35&\"; \"&$T$36&\"; \"&$T$37&\"; \"&$T$38&\"; \"&$T$39,IF($E30=$U$31,$U$35&\"; \"&$U$36&\"; \"&$U$37&\"; \"&$U$38&\"; \"&$U$39,IF($E30=$V$31,$V$35&\"; \"&$V$36&\"; \"&$V$37&\"; \"&$V$38&\"; \"&$V$39,\"no\"))))","v":"0; 0; 0; 0; 0"},{"$f":"Протокол!$F$15","v":0},{"$f":"Протокол!$F$49","v":0},{"$f":"Протокол!$F$83","v":0},{"$f":"Протокол!$F$117","v":0}]
[null,null,null,null,null,null,null,null,null,null,null,null,null,null,null,null,null,null,{"$f":"Протокол!E4","v":0},{"$f":"Протокол!E38","v":0},{"$f":"Протокол!E72","v":0},{"$f":"Протокол!E106","v":0}]
[null,null,"Личное первенство",null,null,null,null,null,null,null,null,null,null,null,null,null,null,null,{"$f":"Протокол!H10","v":0},{"$f":"Протокол!H44","v":0},{"$f":"Протокол!H78","v":0},{"$f":"Протокол!H112","v":0}]
[null,null,null,"№","Команда","ФИ участника",null,null,null,null,null,"Задача",null,null,"Баллы",null,null,null,{"$f":"Протокол!H11","v":0},{"$f":"Протокол!H45","v":0},{"$f":"Протокол!H79","v":0},{"$f":"Протокол!H113","v":0}]
[null,null,"Доклады",1,{"$f":"Протокол!E4","v":0},{"$f":"Протокол!E23","v":0},null,null,null,null,null,{"$f":"Протокол!F15","v":0},null,null,{"$f":"Протокол!DR23","v":{"$error":"#N/A"}},null,null,null,{"$f":"Протокол!H12","v":0},{"$f":"Протокол!H46","v":0},{"$f":"Протокол!H80","v":0},{"$f":"Протокол!H114","v":0}]
[null,null,null,2,{"$f":"Протокол!E38","v":0},{"$f":"Протокол!E57","v":0},null,null,null,null,null,{"$f":"Протокол!F49","v":0},null,null,{"$f":"Протокол!DR57","v":{"$error":"#N/A"}},null,null,null,{"$f":"Протокол!AB10","v":0},{"$f":"Протокол!AB44","v":0},{"$f":"Протокол!AB78","v":0},{"$f":"Протокол!AB112","v":0}]
[null,null,null,3,{"$f":"Протокол!E72","v":0},{"$f":"Протокол!E91","v":0},null,null,null,null,null,{"$f":"Протокол!F83","v":0},null,null,{"$f":"Протокол!DR91","v":{"$error":"#N/A"}},null,null,null,{"$f":"Протокол!AB11","v":0},{"$f":"Протокол!AB45","v":0},{"$f":"Протокол!AB79","v":0},{"$f":"Протокол!AB113","v":0}]
[null,null,null,4,{"$f":"Протокол!E106","v":0},{"$f":"Протокол!E125","v":0},null,null,null,null,null,{"$f":"Протокол!F117","v":0},null,null,{"$f":"Протокол!DR125","v":{"$error":"#N/A"}},null,null,null,{"$f":"Протокол!AB12","v":0},{"$f":"Протокол!AB46","v":0},{"$f":"Протокол!AB80","v":0},{"$f":"Протокол!AB114","v":0}]
[null,null,"Оппонирования",1,{"$f":"Протокол!E5","v":0},{"$f":"Протокол!E27","v":0},null,null,null,null,null,{"$f":"Протокол!F15","v":0},null,null,{"$f":"Протокол!DN27","v":{"$error":"#N/A"}},null,null,null,{"$f":"Протокол!AB13","v":0},{"$f":"Протокол!AB47","v":0},{"$f":"Протокол!AB81","v":0},{"$f":"Протокол!AB115","v":0}]
[null,null,null,2,{"$f":"Протокол!E39","v":0},{"$f":"Протокол!E61","v":0},null,null,null,null,null,{"$f":"Протокол!F49","v":0},null,null,{"$f":"Протокол!DN61","v":{"$error":"#N/A"}},null,null,null,{"$f":"Протокол!AB14","v":0},{"$f":"Протокол!AB48","v":0},{"$f":"Протокол!AB82","v":0},{"$f":"Протокол!AB116","v":0}]
[null,null,null,3,{"$f":"Протокол!E73","v":0},{"$f":"Протокол!E95","v":0},null,null,null,null,null,{"$f":"Протокол!F83","v":0},null,null,{"$f":"Протокол!DN95","v":{"$error":"#N/A"}}]
[null,null,null,4,{"$f":"Протокол!E107","v":0},{"$f":"Протокол!E129","v":0},null,null,null,null,null,{"$f":"Протокол!F117","v":0},null,null,{"$f":"Протокол!DN129","v":{"$error":"#N/A"}}]
[null,null,"Рецензии",1,{"$f":"Протокол!E6","v":0},{"$f":"Протокол!E30","v":0},null,null,null,null,null,{"$f":"Протокол!F15","v":0},null,null,{"$f":"Протокол!DN30","v":{"$error":"#N/A"}}]
[null,null,null,2,{"$f":"Протокол!E40","v":0},{"$f":"Протокол!E64","v":0},null,null,null,null,null,{"$f":"Протокол!F49","v":0},null,null,{"$f":"Протокол!DN64","v":{"$error":"#N/A"}}]
[null,null,null,3,{"$f":"Протокол!E74","v":0},{"$f":"Протокол!E98","v":0},null,null,null,null,null,{"$f":"Протокол!F83","v":0},null,null,{"$f":"Протокол!DN98","v":{"$error":"#N/A"}}]
[null,null,null,4,{"$f":"Протокол!E108","v":0},{"$f":"Протокол!E132","v":0},null,null,null,null,null,{"$f":"Протокол!F117","v":0},null,null,{"$f":"Протокол!DN132","v":{"$error":"#N/A"}}]

{"sheet":"Сверка","index":3,"n_rows":34,"n_cols":11,"rows_kept":34,"cut":false,"hidden":false,"merged":[[17,9,17,10],[13,5,13,7],[13,8,13,10],[14,5,14,10],[15,5,15,10],[16,9,16,10],[9,5,9,10],[10,5,10,6],[10,7,10,8],[10,9,10,10],[11,5,11,6],[11,7,11,8],[11,9,11,10],[10,1,15,1],[16,1,21,1],[16,5,16,6],[19,5,19,7],[17,5,17,6],[17,7,17,8],[18,5,18,7],[18,8,18,10],[16,7,16,8],[19,8,19,10],[20,5,20,10],[21,5,21,10],[12,5,12,7],[12,8,12,10],[10,2,11,2],[16,2,17,2],[22,1,27,1],[22,5,22,6],[22,7,22,8],[22,9,22,10],[23,5,23,6],[23,7,23,8],[23,9,23,10],[24,5,24,7],[24,8,24,10],[22,2,23,2],[28,1,33,1],[28,5,28,6],[28,7,28,8],[28,9,28,10],[29,5,29,6],[32,5,32,10],[33,5,33,10],[30,5,30,7],[30,8,30,10],[31,5,31,7],[31,8,31,10],[28,2,29,2],[29,7,29,8],[29,9,29,10],[25,5,25,7],[25,8,25,10],[26,5,26,10],[27,5,27,10],[7,5,7,7],[3,3,3,10],[1,3,1,4],[1,1,1,2],[3,1,3,2],[5,1,5,2],[7,1,7,2],[5,8,5,9],[5,5,5,7]]}
[]
[null,"Название файла",null,{"$f":"MID(CELL(\"имяфайла\"),SEARCH(\"[\",CELL(\"имяфайла\"))+1,SEARCH(\"]\",CELL(\"имяфайла\"))-SEARCH(\"[\",CELL(\"имяфайла\"))-1)","v":"Протокол_Регион2018_1бой_впишиаудиторию.xlsm"}]
[]
[null,"Турнир",null,{"$f":"Титул!E2","v":0}]
[]
[null,"Дата",null,{"$f":"Титул!E4","v":"00:00:00"},"Номер боя",{"$f":"Титул!E5","v":0},null,null,"Аудитория",null,{"$f":"Титул!E6","v":0}]
[]
[null,"Член Жюри",null,null,"Всего Жюри",{"$f":"Титул!F15","v":0}]
[]
[null,null,"Задача","Команда","ФИ участника","Оценки"]
[null,"1-ое действие",{"$f":"Мехм!B2","v":0},{"$f":"Мехм!D2","v":0},{"$f":"Мехм!E2","v":0},{"$f":"HLOOKUP($D$8,Мехм!$F$1:$W$13,2,FALSE)","v":0},null,{"$f":"HLOOKUP($D$8,Мехм!$X$1:$AO$13,2,FALSE)","v":0},null,{"$f":"HLOOKUP($D$8,Мехм!$AP$1:$BG$13,2,FALSE)","v":0}]
[null,null,null,{"$f":"\"Коэффициент: \"&Протокол!AJ17","v":"Коэффициент: 1"},null,{"$f":"HYPERLINK(HLOOKUP($D$8,Мехм!$BM$1:$CD$13,2,FALSE),\"Ред\")","v":"Ред"},null,{"$f":"HYPERLINK(HLOOKUP($D$8,Мехм!$CF$1:$CW$13,2,FALSE),\"Ред\")","v":"Ред"},null,{"$f":"HYPERLINK(HLOOKUP($D$8,Мехм!$CY$1:$DP$13,2,FALSE),\"Ред\")","v":"Ред"}]
[null,null,"Отказы:",{"$f":"Мехм!D3","v":0},{"$f":"Мехм!E3","v":0},{"$f":"HLOOKUP($D$8,Мехм!$F$1:$W$13,3,FALSE)","v":0},null,null,{"$f":"HLOOKUP($D$8,Мехм!$X$1:$AO$13,3,FALSE)","v":0}]
[null,null,{"$f":"\"В: \"&Протокол!AB10&\", \"&Протокол!AB11&\", \"&Протокол!AB12&\", \"&Протокол!AB13&\", \"&Протокол!AB14","v":"В: , , , , "},null,null,{"$f":"HYPERLINK(HLOOKUP($D$8,Мехм!$BM$1:$CD$13,3,FALSE),\"Ред\")","v":"Ред"},null,null,{"$f":"HYPERLINK(HLOOKUP($D$8,Мехм!$CF$1:$CW$13,3,FALSE),\"Ред\")","v":"Ред"}]
[null,null,{"$f":"\"Такт: \"&Протокол!H10&\", \"&Протокол!H11","v":"Такт: , "},{"$f":"Мехм!D4","v":0},{"$f":"Мехм!E4","v":0},{"$f":"HLOOKUP($D$8,Мехм!$F$1:$W$13,4,FALSE)","v":0}]
[null,null,{"$f":"\"Страт: \"&Протокол!H12","v":"Страт: "},null,null,{"$f":"HYPERLINK(HLOOKUP($D$8,Мехм!$BM$1:$CD$13,4,FALSE),\"Ред\")","v":"Ред"}]
[null,"2-ое действие",{"$f":"Мехм!B5","v":0},{"$f":"Мехм!D5","v":0},{"$f":"Мехм!E5","v":0},{"$f":"HLOOKUP($D$8,Мехм!$F$1:$W$13,5,FALSE)","v":0},null,{"$f":"HLOOKUP($D$8,Мехм!$X$1:$AO$13,5,FALSE)","v":0},null,{"$f":"HLOOKUP($D$8,Мехм!$AP$1:$BG$13,5,FALSE)","v":0}]
[null,null,null,{"$f":"\"Коэффициент: \"&Протокол!AJ51","v":"Коэффициент: 1"},null,{"$f":"HYPERLINK(HLOOKUP($D$8,Мехм!$BM$1:$CD$13,5,FALSE),\"Ред\")","v":"Ред"},null,{"$f":"HYPERLINK(HLOOKUP($D$8,Мехм!$CF$1:$CW$13,5,FALSE),\"Ред\")","v":"Ред"},null,{"$f":"HYPERLINK(HLOOKUP($D$8,Мехм!$CY$1:$DP$13,5,FALSE),\"Ред\")","v":"Ред"}]
[null,null,"Отказы:",{"$f":"Мехм!D6","v":0},{"$f":"Мехм!E6","v":0},{"$f":"HLOOKUP($D$8,Мехм!$F$1:$W$13,6,FALSE)","v":0},null,null,{"$f":"HLOOKUP($D$8,Мехм!$X$1:$AO$13,6,FALSE)","v":0}]
[null,null,{"$f":"\"В: \"&Протокол!AB44&\", \"&Протокол!AB45&\", \"&Протокол!AB46&\", \"&Протокол!AB47&\", \"&Протокол!AB48","v":"В: , , , , "},null,null,{"$f":"HYPERLINK(HLOOKUP($D$8,Мехм!$BM$1:$CD$13,6,FALSE),\"Ред\")","v":"Ред"},null,null,{"$f":"HYPERLINK(HLOOKUP($D$8,Мехм!$CF$1:$CW$13,6,FALSE),\"Ред\")","v":"Ред"}]
[null,null,{"$f":"\"Такт: \"&Протокол!H44&\", \"&Протокол!H45","v":"Такт: , "},{"$f":"Мехм!D7","v":0},{"$f":"Мехм!E7","v":0},{"$f":"HLOOKUP($D$8,Мехм!$F$1:$W$13,7,FALSE)","v":0}]
[null,null,{"$f":"\"Страт: \"&Протокол!H46","v":"Страт: "},null,null,{"$f":"HYPERLINK(HLOOKUP($D$8,Мехм!$BM$1:$CD$13,7,FALSE),\"Ред\")","v":"Ред"}]
[null,"3-е действие",{"$f":"Мехм!B8","v":0},{"$f":"Мехм!D8","v":0},{"$f":"Мехм!E8","v":0},{"$f":"HLOOKUP($D$8,Мехм!$F$1:$W$13,8,FALSE)","v":0},null,{"$f":"HLOOKUP($D$8,Мехм!$X$1:$AO$13,8,FALSE)","v":0},null,{"$f":"HLOOKUP($D$8,Мехм!$AP$1:$BG$13,8,FALSE)","v":0}]
[null,null,null,{"$f":"\"Коэффициент: \"&Протокол!AJ85","v":"Коэффициент: 1"},null,{"$f":"HYPERLINK(HLOOKUP($D$8,Мехм!$BM$1:$CD$13,8,FALSE),\"Ред\")","v":"Ред"},null,{"$f":"HYPERLINK(HLOOKUP($D$8,Мехм!$CF$1:$CW$13,8,FALSE),\"Ред\")","v":"Ред"},null,{"$f":"HYPERLINK(HLOOKUP($D$8,Мехм!$CY$1:$DP$13,8,FALSE),\"Ред\")","v":"Ред"}]
[null,null,"Отказы:",{"$f":"Мехм!D9","v":0},{"$f":"Мехм!E9","v":0},{"$f":"HLOOKUP($D$8,Мехм!$F$1:$W$13,9,FALSE)","v":0},null,null,{"$f":"HLOOKUP($D$8,Мехм!$X$1:$AO$13,9,FALSE)","v":0}]
[null,null,{"$f":"\"В: \"&Протокол!AB78&\", \"&Протокол!AB79&\", \"&Протокол!AB80&\", \"&Протокол!AB81&\", \"&Протокол!AB82","v":"В: , , , , "},null,null,{"$f":"HYPERLINK(HLOOKUP($D$8,Мехм!$BM$1:$CD$13,9,FALSE),\"Ред\")","v":"Ред"},null,null,{"$f":"HYPERLINK(HLOOKUP($D$8,Мехм!$CF$1:$CW$13,9,FALSE),\"Ред\")","v":"Ред"}]
[null,null,{"$f":"\"Такт: \"&Протокол!H78&\", \"&Протокол!H79","v":"Такт: , "},{"$f":"Мехм!D10","v":0},{"$f":"Мехм!E10","v":0},{"$f":"HLOOKUP($D$8,Мехм!$F$1:$W$13,10,FALSE)","v":0}]
[null,null,{"$f":"\"Страт: \"&Протокол!H80","v":"Страт: "},null,null,{"$f":"HYPERLINK(HLOOKUP($D$8,Мехм!$BM$1:$CD$13,10,FALSE),\"Ред\")","v":"Ред"}]
[null,"4-ое действие",{"$f":"Мехм!B11","v":0},{"$f":"Мехм!D11","v":0},{"$f":"Мехм!E11","v":0},{"$f":"HLOOKUP($D$8,Мехм!$F$1:$W$13,11,FALSE)","v":0},null,{"$f":"HLOOKUP($D$8,Мехм!$X$1:$AO$13,11,FALSE)","v":0},null,{"$f":"HLOOKUP($D$8,Мехм!$AP$1:$BG$13,11,FALSE)","v":0}]
[null,null,null,{"$f":"\"Коэффициент: \"&Протокол!AJ119","v":"Коэффициент: 1"},null,{"$f":"HYPERLINK(HLOOKUP($D$8,Мехм!$BM$1:$CD$13,11,FALSE),\"Ред\")","v":"Ред"},null,{"$f":"HYPERLINK(HLOOKUP($D$8,Мехм!$CF$1:$CW$13,11,FALSE),\"Ред\")","v":"Ред"},null,{"$f":"HYPERLINK(HLOOKUP($D$8,Мехм!$CY$1:$DP$13,11,FALSE),\"Ред\")","v":"Ред"}]
[null,null,"Отказы:",{"$f":"Мехм!D12","v":0},{"$f":"Мехм!E12","v":0},{"$f":"HLOOKUP($D$8,Мехм!$F$1:$W$13,12,FALSE)","v":0},null,null,{"$f":"HLOOKUP($D$8,Мехм!$X$1:$AO$13,12,FALSE)","v":0}]
[null,null,{"$f":"\"В: \"&Протокол!AB112&\", \"&Протокол!AB113&\", \"&Протокол!AB114&\", \"&Протокол!AB115&\", \"&Протокол!AB116","v":"В: , , , , "},null,null,{"$f":"HYPERLINK(HLOOKUP($D$8,Мехм!$BM$1:$CD$13,12,FALSE),\"Ред\")","v":"Ред"},null,null,{"$f":"HYPERLINK(HLOOKUP($D$8,Мехм!$CF$1:$CW$13,12,FALSE),\"Ред\")","v":"Ред"}]
[null,null,{"$f":"\"Такт: \"&Протокол!H112&\", \"&Протокол!H113","v":"Такт: , "},{"$f":"Мехм!D13","v":0},{"$f":"Мехм!E13","v":0},{"$f":"HLOOKUP($D$8,Мехм!$F$1:$W$13,13,FALSE)","v":0}]
[null,null,{"$f":"\"Страт: \"&Протокол!H114","v":"Страт: "},null,null,{"$f":"HYPERLINK(HLOOKUP($D$8,Мехм!$BM$1:$CD$13,13,FALSE),\"Ред\")","v":"Ред"}]

{"sheet":"Участники","index":4,"n_rows":8,"n_cols":45,"rows_kept":8,"cut":false,"hidden":false,"merged":[]}
["Команда","Номер школы","Школа_назв","Фамилия 1","Имя 1","Отчество1","Класс 1","Школа 1","Фамилия 2","Имя 2","Отчество2","Класс 2","Школа 2","Фамилия 3","Имя 3","Отчество3","Класс 3","Школа 3","Фамилия 4","Имя 4","Отчество4","Класс 4","Школа 4","Фамилия 5","Имя 5","Отчество5","Класс 5","Школа 5","Фамилия рук_1","Имя рук_1","Отч рук_1","Школа рук_1","Фамилия рук_2","Имя рук_2","Отч рук_2","Школа рук_2","Фамилия рук_3","Имя рук_3","Отч рук_3","Школа","Балл","Лига","ID","Статус","Тип команды"]
["Адмирабилис","Сборная школ 67 и Интеллектуал","ГБОУ школа 67, школа \"Интеллектуал\"","Гуркина","Анастасия","Дмитриевна","10","ГБОУ школа 67","Петрушкова","Таисия","Игоревна","10","Школа \"Интеллектуал\"","Шехова ","Софья","Алексеевна","10","ГБОУ школа 67","Меньшикова","Татьяна","Максимовна","10","ГБОУ школа 67","","","","","","Бусыгин","Сергей","Андреевич","Факультет биоинженерии и биоинформатики МГУ имени М.В.Ломоносова","","","","","","","","",13,"Высшая лига («Сеньоры»)","2667","ДОПУЩЕНА К УЧАСТИЮ","sb"]
["Биоцентр","Школа 641 имени С. Есенина","ГБОУ Школа № 641 имени С. Есенина","Ервандян","Аракел","Степанович","9","","Строгалин","Дмитрий","Сергеевич","9","","Данилина","Дарья","Игоревна","8","","Кирьянова","Софья","Алексеевна","8","","Минаева","Олеся","Рафиковна","9","","Рожкова","Анастасия","Владимировна","ГБОУ Школа № 641 имени С. Есенина","","","","","","","","",12,"Первая лига («Юниоры»)","2625","ДОПУЩЕНА К УЧАСТИЮ","ob"]
["БиоШкола Пилигрим G1","Институт БиоЗнаний","АНО «Институт передачи биологических знаний» г. Обнинск","Трифонова","Юлия","Сергеевна","10","ГБОУ 179","Кауров","Ричард","Олегович","11","ГАОУ «Лицей Иннополис» г. Казани","Куракина","Екатерина ","Николаевна","8","МБОУ СОШ 4 г. Серпухова","Коржевский","Андрей","Викторович","9","МБОУ 68 г. Рязани","Александрова","Арина","Всволодовна","9","ГБОУ 1253 ","Миронов","Иннокентий","Дмитриевич","АНО «Институт передачи биологических знаний» г. Обнинск","","","","","","","","",18,"Высшая лига («Сеньоры»)","2629","ДОПУЩЕНА К УЧАСТИЮ","sb"]
["Ломая Ламарка","ЦО 38 Тула","МБОУ ЦО № 38 Тула","Баскакова","Юлия ","Сергеевна","9","","Дьяконова","София","Александровна","9","","Гостеева","Ева","Александровна","9","","Шишков","Семен","Сергеевич","9","","","","","","","Ястребова","Светлана","Борисовна","МБОУ ЦО 38","","","","","","","","",13,"Первая лига («Юниоры»)","2611","ДОПУЩЕНА К УЧАСТИЮ","ob"]
["Сунь-Цзы","СУНЦ МГУ","Специализированный учебно-научный центр (факультет) – школа-интернат имени А.Н.Колмогорова Московского государственного университета имени М.В.Ломоносова","Винников","Ренат","Сергеевич","10","","Токарева","Анастасия","Викторовна","10","","Асташкина","Ульяна","Олеговна","10","","Завьялов","Александр ","Евгеньевич","10","","Никонов","Михаил","Андреевич","10","","Попов ","Алексей","Алексеевич","Факультет биоинженерии и биоинформатики Московского государственного университета имени М.В.Ломоносова","","","","","","","","",17,"Высшая лига («Сеньоры»)","2668","ДОПУЩЕНА К УЧАСТИЮ","ob"]
["Чумная палочка","Школа 1505","ГБОУ школа № 1505 \"Преображенская\"","Коновалова","Алевтина","Александровна","10","","Фурманова","Яна","Олеговна","10","","Пинская","Лина","Марковна","10","","Пашинцева","Анастасия","Валерьевна","10","","Бурьянова","Лукерья","Сергеевна","10","","Воробьева","Екатерина","Андреевна","ГБОУ школа № 1505 \"Преображенская\"","","","","","","","","",16,"Первая лига («Юниоры»)","2627","ДОПУЩЕНА К УЧАСТИЮ","ob"]
["Шестикантропы","Школа 218","ГБОУ Школа №218 города Москвы","Терляков","Станислав","Юрьевич","10","","Заикина","Полина","Владимировна","10","","Кислицына","Василиса","Вадимовна","9","","Серенко","Мария","Вячеславовна","10","","Рябова","Анна","Дмитриевна","10","","Бабенко","Евгений","Борисович","ГБОУ Школа №218 города Москвы","Гараев","Азат","Камилович","Биологический факультет МГУ имени М.В. Ломоносова","","","","",19,"Высшая лига («Сеньоры»)","2581","ДОПУЩЕНА К УЧАСТИЮ","ob"]

{"sheet":"Жюри","index":5,"n_rows":151,"n_cols":10,"rows_kept":151,"cut":false,"hidden":false,"merged":[]}
["Фамилия","Имя","Отчество","ФИО","Фамилия ИО","Новички","Фамилия","Имя","Отчество","ФИО"]
["Агапов","Алексей","Александрович",{"$f":"A2&\" \"&B2&\" \"&C2","v":"Агапов Алексей Александрович"},{"$f":"A2&\" \"&(LEFT(B2,1))&\".\"&LEFT(C2,1)&\".\"","v":"Агапов А.А."},1]
["Акутин","Иван","Алексеевич",{"$f":"A3&\" \"&B3&\" \"&C3","v":"Акутин Иван Алексеевич"},{"$f":"A3&\" \"&(LEFT(B3,1))&\".\"&LEFT(C3,1)&\".\"","v":"Акутин И.А."},2]
["Алкин","Никита","Александрович","Алкин Никита Александрович","Алкин Н.А.",3]
["Арасланова","Карина","Рустамовна","Арасланова Карина Рустамовна","Арасланова К.Р.",4]
["Арушанян","Самвел","Каренович","Арушанян Самвел Каренович","Арушанян С.К.",5]
["Асеев","Виктор","Васильевич","Асеев Виктор Васильевич","Асеев В.В.",6]
["Афонин","Данил","Сергеевич","Афонин Данил Сергеевич","Афонин Д.С.",7]
["Венчакова","Олеся","Святославовна","Венчакова Олеся Святославовна","Венчакова О.С.",8]
["Власова","Александра","Андреевна","Власова Александра Андреевна","Власова А.А.",9]
["Вольхин","Илья","Александрович","Вольхин Илья Александрович","Вольхин И.А.",10]
["Воронцов","Тимофей","Павлович","Воронцов Тимофей Павлович","Воронцов Т.П.",11]
["Вьюшков","Владимир","Сергеевич","Вьюшков Владимир Сергеевич","Вьюшков В.С.",12]
["Гаврилов","Борис","Андреевич","Гаврилов Борис Андреевич","Гаврилов Б.А.",13,null,null,null,{"$f":"G14&\" \"&H14&\" \"&I14","v":"  "}]
["Ганеева","Ирина","Алексеевна","Ганеева Ирина Алексеевна","Ганеева И.А.",14,null,null,null,{"$f":"G15&\" \"&H15&\" \"&I15","v":"  "}]
["Гараев","Азат","Камилович","Гараев Азат Камилович","Гараев А.К.",15,null,null,null,{"$f":"G16&\" \"&H16&\" \"&I16","v":"  "}]
["Гафуров","Азамат","Рамилевич","Гафуров Азамат Рамилевич","Гафуров А.Р.",16,null,null,null,{"$f":"G17&\" \"&H17&\" \"&I17","v":"  "}]
["Гительзон","Георгий","Иосифович","Гительзон Георгий Иосифович","Гительзон Г.И.",17,null,null,null,{"$f":"G18&\" \"&H18&\" \"&I18","v":"  "}]
["Григорьев","Андрей","Петрович","Григорьев Андрей Петрович","Григорьев А.П.",null,{"$f":"Титул!$L$18","v":0},{"$f":"Титул!$L$19","v":0},{"$f":"Титул!$L$20","v":0},{"$f":"G19&\" \"&H19&\" \"&I19","v":"0 0 0"}]
["Ердяков","Алексей","Константинович","Ердяков Алексей Константинович","Ердяков А.К."]
["Закиров","Амир","Наилевич","Закиров Амир Наилевич","Закиров А.Н."]
["Калинина","Марина","Александровна","Калинина Марина Александровна","Калинина М.А."]
["Калиниченко","Андрей","Леонидович","Калиниченко Андрей Леонидович","Калиниченко А.Л."]
["Катруха","Вероника","Алексеевна","Катруха Вероника Алексеевна","Катруха В.А."]
["Князева","Анастасия","Сергеевна","Князева Анастасия Сергеевна","Князева А.С."]
["Колупаева","Юлия","Михайловна","Колупаева Юлия Михайловна","Колупаева Ю.М."]
["Комаров","Павел","Андреевич","Комаров Павел Андреевич","Комаров П.А."]
["Костюк","Александр","Игоревич","Костюк Александр Игоревич","Костюк А.И."]
["Кропочева","Екатерина","Вадимовна","Кропочева Екатерина Вадимовна","Кропочева Е.В."]
["Кузин","Иван","Александрович","Кузин Иван Александрович","Кузин И.А."]
["Кузьмин","Денис","Владимирович","Кузьмин Денис Владимирович","Кузьмин Д.В."]
["Кусакина","Ксения","Алексеевна","Кусакина Ксения Алексеевна","Кусакина К.А."]
["Ломов","Николай","Андреевич","Ломов Николай Андреевич","Ломов Н.А."]
["Лосева","Тамара","Валерьевна","Лосева Тамара Валерьевна","Лосева Т.В."]
["Лубова","Ксения","Игоревна","Лубова Ксения Игоревна","Лубова К.И."]
["Лукьянов","Дмитрий","Александрович","Лукьянов Дмитрий Александрович","Лукьянов Д.А."]
["Миронов","Иннокентий","Дмитриевич","Миронов Иннокентий Дмитриевич","Миронов И.Д."]
["Образцова","Анна","Сергеевна","Образцова Анна Сергеевна","Образцова А.С."]
["Огиенко","Анастасия","Дмитриевна","Огиенко Анастасия Дмитриевна","Огиенко А.Д."]
["Олина","Анна","Викторовна","Олина Анна Викторовна","Олина А.В."]
["Пашковская","Татьяна","Анатольевна","Пашковская Татьяна Анатольевна","Пашковская Т.А."]
["Перевощикова","Кристина","Юрьевна","Перевощикова Кристина Юрьевна","Перевощикова К.Ю."]
["Петренко","Анастасия","Павловна","Петренко Анастасия Павловна","Петренко А.П."]
["Петров","Егор","Андреевич","Петров Егор Андреевич","Петров Е.А."]
["Попов","Алексей","Алексеевич","Попов Алексей Алексеевич","Попов А.А."]
["Потанина","Дарья","Михайловна","Потанина Дарья Михайловна","Потанина Д.М."]
["Пупов","Данил ","Владимирович","Пупов Данил  Владимирович","Пупов Д.В."]
["Раевский","Роман","Игоревич","Раевский Роман Игоревич","Раевский Р.И."]
["Русин","Диана","Ивановна","Русин Диана Ивановна","Русин Д.И."]
["Салютина","Мария","Васильевна","Салютина Мария Васильевна","Салютина М.В."]
["Селифанова","Мария","Витальевна","Селифанова Мария Витальевна","Селифанова М.В."]
["Сладков","Клим","Дмитриевич","Сладков Клим Дмитриевич","Сладков К.Д."]
["Слонимский","Юрий","Борисович","Слонимский Юрий Борисович","Слонимский Ю.Б."]
["Соловей","Дмитрий","Алексеевич","Соловей Дмитрий Алексеевич","Соловей Д.А."]
["Стафеев","Юрий","Сергеевич","Стафеев Юрий Сергеевич","Стафеев Ю.С."]
["Стрелкова","Мария","Александровна","Стрелкова Мария Александровна","Стрелкова М.А."]
["Строкач","Никита","Николаевич","Строкач Никита Николаевич","Строкач Н.Н."]
["Терешин","Михаил","Николаевич","Терешин Михаил Николаевич","Терешин М.Н."]
["Тулявко","Влада","Евгеньевна","Тулявко Влада Евгеньевна","Тулявко В.Е."]
["Уграицкая","Василиса","Маратовна","Уграицкая Василиса Маратовна","Уграицкая В.М."]
["Федотов","Федор","Алексеевич","Федотов Федор Алексеевич","Федотов Ф.А."]
["Филимонова","Алла","Вячеславовна","Филимонова Алла Вячеславовна","Филимонова А.В."]
["Холькина","Арина","Алексеевна","Холькина Арина Алексеевна","Холькина А.А."]
["Черникова","Арина","Германовна","Черникова Арина Германовна","Черникова А.Г."]
["Чуб","Владимир","Викторович","Чуб Владимир Викторович","Чуб В.В."]
["Шарова","Елена","Ивановна","Шарова Елена Ивановна","Шарова Е.И."]
["Шилов","Евгений","Сергеевич",{"$f":"A67&\" \"&B67&\" \"&C67","v":"Шилов Евгений Сергеевич"},{"$f":"A67&\" \"&(LEFT(B67,1))&\".\"&LEFT(C67,1)&\".\"","v":"Шилов Е.С."}]
["Шилова","Ольга","Николаевна","Шилова Ольга Николаевна","Шилова О.Н."]
[null,null,null,{"$f":"A69&\" \"&B69&\" \"&C69","v":"  "},{"$f":"A69&\" \"&(LEFT(B69,1))&\".\"&LEFT(C69,1)&\".\"","v":" .."}]
[null,null,null,"  "," .."]
[null,null,null,"  "," .."]
[null,null,null,"  "," .."]
[null,null,null,"  "," .."]
[null,null,null,"  "," .."]
[null,null,null,"  "," .."]
[null,null,null,"  "," .."]
[null,null,null,"  "," .."]
[null,null,null,"  "," .."]
[null,null,null,"  "," .."]
[null,null,null,"  "," .."]
[null,null,null,"  "," .."]
[null,null,null,"  "," .."]
[null,null,null,"  "," .."]
[null,null,null,"  "," .."]
[null,null,null,"  "," .."]
[null,null,null,"  "," .."]
[null,null,null,"  "," .."]
[null,null,null,"  "," .."]
[null,null,null,"  "," .."]
[null,null,null,"  "," .."]
[null,null,null,"  "," .."]
[null,null,null,"  "," .."]
[null,null,null,"  "," .."]
[null,null,null,"  "," .."]
[null,null,null,"  "," .."]
[null,null,null,"  "," .."]
[null,null,null,"  "," .."]
[null,null,null,"  "," .."]
[null,null,null,"  "," .."]
[null,null,null,"  "," .."]
[null,null,null,"  "," .."]
[null,null,null,"  "," .."]
[null,null,null,"  "," .."]
[null,null,null,"  "," .."]
[null,null,null,"  "," .."]
[null,null,null,"  "," .."]
[null,null,null,"  "," .."]
[null,null,null,"  "," .."]
[null,null,null,"  "," .."]
[null,null,null,"  "," .."]
[null,null,null,"  "," .."]
[null,null,null,"  "," .."]
[null,null,null,"  "," .."]
[null,null,null,"  "," .."]
[null,null,null,"  "," .."]
[null,null,null,"  "," .."]
[null,null,null,"  "," .."]
[null,null,null,"  "," .."]
[null,null,null,"  "," .."]
[null,null,null,"  "," .."]
[null,null,null,"  "," .."]
[null,null,null,"  "," .."]
[null,null,null,"  "," .."]
[null,null,null,"  "," .."]
[null,null,null,"  "," .."]
[null,null,null,"  "," .."]
[null,null,null,"  "," .."]
[null,null,null,"  "," .."]
[null,null,null,"  "," .."]
[null,null,null,"  "," .."]
[null,null,null,{"$f":"A131&\" \"&B131&\" \"&C131","v":"  "},{"$f":"A131&\" \"&(LEFT(B131,1))&\".\"&LEFT(C131,1)&\".\"","v":" .."}]
[null,null,null,"  "," .."]
[null,null,null,"  "," .."]
[null,null,null,"  "," .."]
[null,null,null,"  "," .."]
[null,null,null,"  "," .."]
[null,null,null,"  "," .."]
[null,null,null,"  "," .."]
[null,null,null,{"$f":"A139&\" \"&B139&\" \"&C139","v":"  "},{"$f":"A139&\" \"&(LEFT(B139,1))&\".\"&LEFT(C139,1)&\".\"","v":" .."}]
[null,null,null,"  "," .."]
[null,null,null,"  "," .."]
[null,null,null,"  "," .."]
[null,null,null,"  "," .."]
[null,null,null,"  "," .."]
[null,null,null,"  "," .."]
[null,null,null,"  "," .."]
[null,null,null,"  "," .."]
[null,null,null,"  "," .."]
[null,null,null,"  "," .."]
[null,null,null,"  "," .."]
[null,null,null,"  "," .."]

{"sheet":"Мехм","index":6,"n_rows":14,"n_cols":120,"rows_kept":14,"cut":false,"hidden":true,"merged":[]}
[null,"Задача","Роль","Команда","ФИ участника",{"$f":"Протокол!H21","v":0},{"$f":"Протокол!I21","v":0},{"$f":"Протокол!J21","v":0},{"$f":"Протокол!K21","v":0},{"$f":"Протокол!L21","v":0},{"$f":"Протокол!M21","v":0},{"$f":"Протокол!N21","v":0},{"$f":"Протокол!O21","v":0},{"$f":"Протокол!P21","v":0},{"$f":"Протокол!Q21","v":0},{"$f":"Протокол!R21","v":0},{"$f":"Протокол!S21","v":0},{"$f":"Протокол!T21","v":0},{"$f":"Протокол!U21","v":0},{"$f":"Протокол!V21","v":0},{"$f":"Протокол!W21","v":0},{"$f":"Протокол!X21","v":0},{"$f":"Протокол!Y21","v":0},{"$f":"Протокол!H21","v":0},{"$f":"Протокол!I21","v":0},{"$f":"Протокол!J21","v":0},{"$f":"Протокол!K21","v":0},{"$f":"Протокол!L21","v":0},{"$f":"Протокол!M21","v":0},{"$f":"Протокол!N21","v":0},{"$f":"Протокол!O21","v":0},{"$f":"Протокол!P21","v":0},{"$f":"Протокол!Q21","v":0},{"$f":"Протокол!R21","v":0},{"$f":"Протокол!S21","v":0},{"$f":"Протокол!T21","v":0},{"$f":"Протокол!U21","v":0},{"$f":"Протокол!V21","v":0},{"$f":"Протокол!W21","v":0},{"$f":"Протокол!X21","v":0},{"$f":"Протокол!Y21","v":0},{"$f":"Протокол!H21","v":0},{"$f":"Протокол!I21","v":0},{"$f":"Протокол!J21","v":0},{"$f":"Протокол!K21","v":0},{"$f":"Протокол!L21","v":0},{"$f":"Протокол!M21","v":0},{"$f":"Протокол!N21","v":0},{"$f":"Протокол!O21","v":0},{"$f":"Протокол!P21","v":0},{"$f":"Протокол!Q21","v":0},{"$f":"Протокол!R21","v":0},{"$f":"Протокол!S21","v":0},{"$f":"Протокол!T21","v":0},{"$f":"Протокол!U21","v":0},{"$f":"Протокол!V21","v":0},{"$f":"Протокол!W21","v":0},{"$f":"Протокол!X21","v":0},{"$f":"Протокол!Y21","v":0},"Задача","Роль","Команда","ФИ участника",null,{"$f":"Протокол!H21","v":0},{"$f":"Протокол!I21","v":0},{"$f":"Протокол!J21","v":0},{"$f":"Протокол!K21","v":0},{"$f":"Протокол!L21","v":0},{"$f":"Протокол!M21","v":0},{"$f":"Протокол!N21","v":0},{"$f":"Протокол!O21","v":0},{"$f":"Протокол!P21","v":0},{"$f":"Протокол!Q21","v":0},{"$f":"Протокол!R21","v":0},{"$f":"Протокол!S21","v":0},{"$f":"Протокол!T21","v":0},{"$f":"Протокол!U21","v":0},{"$f":"Протокол!V21","v":0},{"$f":"Протокол!W21","v":0},{"$f":"Протокол!X21","v":0},{"$f":"Протокол!Y21","v":0},null,{"$f":"Протокол!H21","v":0},{"$f":"Протокол!I21","v":0},{"$f":"Протокол!J21","v":0},{"$f":"Протокол!K21","v":0},{"$f":"Протокол!L21","v":0},{"$f":"Протокол!M21","v":0},{"$f":"Протокол!N21","v":0},{"$f":"Протокол!O21","v":0},{"$f":"Протокол!P21","v":0},{"$f":"Протокол!Q21","v":0},{"$f":"Протокол!R21","v":0},{"$f":"Протокол!S21","v":0},{"$f":"Протокол!T21","v":0},{"$f":"Протокол!U21","v":0},{"$f":"Протокол!V21","v":0},{"$f":"Протокол!W21","v":0},{"$f":"Протокол!X21","v":0},{"$f":"Протокол!Y21","v":0},null,{"$f":"Протокол!H21","v":0},{"$f":"Протокол!I21","v":0},{"$f":"Протокол!J21","v":0},{"$f":"Протокол!K21","v":0},{"$f":"Протокол!L21","v":0},{"$f":"Протокол!M21","v":0},{"$f":"Протокол!N21","v":0},{"$f":"Протокол!O21","v":0},{"$f":"Протокол!P21","v":0},{"$f":"Протокол!Q21","v":0},{"$f":"Протокол!R21","v":0},{"$f":"Протокол!S21","v":0},{"$f":"Протокол!T21","v":0},{"$f":"Протокол!U21","v":0},{"$f":"Протокол!V21","v":0},{"$f":"Протокол!W21","v":0},{"$f":"Протокол!X21","v":0},{"$f":"Протокол!Y21","v":0}]
[null,{"$f":"Протокол!F15","v":0},{"$f":"Протокол!D23","v":"Докладчик"},{"$f":"Протокол!E4","v":0},{"$f":"Протокол!E23","v":0},{"$f":"Протокол!H23","v":0},{"$f":"Протокол!I23","v":0},{"$f":"Протокол!J23","v":0},{"$f":"Протокол!K23","v":0},{"$f":"Протокол!L23","v":0},{"$f":"Протокол!M23","v":0},{"$f":"Протокол!N23","v":0},{"$f":"Протокол!O23","v":0},{"$f":"Протокол!P23","v":0},{"$f":"Протокол!Q23","v":0},{"$f":"Протокол!R23","v":0},{"$f":"Протокол!S23","v":0},{"$f":"Протокол!T23","v":0},{"$f":"Протокол!U23","v":0},{"$f":"Протокол!V23","v":0},{"$f":"Протокол!W23","v":0},{"$f":"Протокол!X23","v":0},{"$f":"Протокол!Y23","v":0},{"$f":"Протокол!H24","v":0},{"$f":"Протокол!I24","v":0},{"$f":"Протокол!J24","v":0},{"$f":"Протокол!K24","v":0},{"$f":"Протокол!L24","v":0},{"$f":"Протокол!M24","v":0},{"$f":"Протокол!N24","v":0},{"$f":"Протокол!O24","v":0},{"$f":"Протокол!P24","v":0},{"$f":"Протокол!Q24","v":0},{"$f":"Протокол!R24","v":0},{"$f":"Протокол!S24","v":0},{"$f":"Протокол!T24","v":0},{"$f":"Протокол!U24","v":0},{"$f":"Протокол!V24","v":0},{"$f":"Протокол!W24","v":0},{"$f":"Протокол!X24","v":0},{"$f":"Протокол!Y24","v":0},{"$f":"Протокол!H25","v":0},{"$f":"Протокол!I25","v":0},{"$f":"Протокол!J25","v":0},{"$f":"Протокол!K25","v":0},{"$f":"Протокол!L25","v":0},{"$f":"Протокол!M25","v":0},{"$f":"Протокол!N25","v":0},{"$f":"Протокол!O25","v":0},{"$f":"Протокол!P25","v":0},{"$f":"Протокол!Q25","v":0},{"$f":"Протокол!R25","v":0},{"$f":"Протокол!S25","v":0},{"$f":"Протокол!T25","v":0},{"$f":"Протокол!U25","v":0},{"$f":"Протокол!V25","v":0},{"$f":"Протокол!W25","v":0},{"$f":"Протокол!X25","v":0},{"$f":"Протокол!Y25","v":0},null,null,null,null,{"$f":"ROW(Протокол!H23)","v":23},{"$f":"\"[\"&Служеб!$BK$4&\"]\"&ADDRESS($BL$2,BM$14,1,,Служеб!$BM$4)","v":"[Протокол_Регион2018_1бой_впишиаудиторию.xlsm]Протокол!$H$23"},{"$f":"\"[\"&Служеб!$BK$4&\"]\"&ADDRESS($BL$2,BN$14,1,,Служеб!$BM$4)","v":"[Протокол_Регион2018_1бой_впишиаудиторию.xlsm]Протокол!$I$23"},{"$f":"\"[\"&Служеб!$BK$4&\"]\"&ADDRESS($BL$2,BO$14,1,,Служеб!$BM$4)","v":"[Протокол_Регион2018_1бой_впишиаудиторию.xlsm]Протокол!$J$23"},{"$f":"\"[\"&Служеб!$BK$4&\"]\"&ADDRESS($BL$2,BP$14,1,,Служеб!$BM$4)","v":"[Протокол_Регион2018_1бой_впишиаудиторию.xlsm]Протокол!$K$23"},{"$f":"\"[\"&Служеб!$BK$4&\"]\"&ADDRESS($BL$2,BQ$14,1,,Служеб!$BM$4)","v":"[Протокол_Регион2018_1бой_впишиаудиторию.xlsm]Протокол!$L$23"},{"$f":"\"[\"&Служеб!$BK$4&\"]\"&ADDRESS($BL$2,BR$14,1,,Служеб!$BM$4)","v":"[Протокол_Регион2018_1бой_впишиаудиторию.xlsm]Протокол!$M$23"},{"$f":"\"[\"&Служеб!$BK$4&\"]\"&ADDRESS($BL$2,BS$14,1,,Служеб!$BM$4)","v":"[Протокол_Регион2018_1бой_впишиаудиторию.xlsm]Протокол!$N$23"},{"$f":"\"[\"&Служеб!$BK$4&\"]\"&ADDRESS($BL$2,BT$14,1,,Служеб!$BM$4)","v":"[Протокол_Регион2018_1бой_впишиаудиторию.xlsm]Протокол!$O$23"},{"$f":"\"[\"&Служеб!$BK$4&\"]\"&ADDRESS($BL$2,BU$14,1,,Служеб!$BM$4)","v":"[Протокол_Регион2018_1бой_впишиаудиторию.xlsm]Протокол!$P$23"},{"$f":"\"[\"&Служеб!$BK$4&\"]\"&ADDRESS($BL$2,BV$14,1,,Служеб!$BM$4)","v":"[Протокол_Регион2018_1бой_впишиаудиторию.xlsm]Протокол!$Q$23"},{"$f":"\"[\"&Служеб!$BK$4&\"]\"&ADDRESS($BL$2,BW$14,1,,Служеб!$BM$4)","v":"[Протокол_Регион2018_1бой_впишиаудиторию.xlsm]Протокол!$R$23"},{"$f":"\"[\"&Служеб!$BK$4&\"]\"&ADDRESS($BL$2,BX$14,1,,Служеб!$BM$4)","v":"[Протокол_Регион2018_1бой_впишиаудиторию.xlsm]Протокол!$S$23"},{"$f":"\"[\"&Служеб!$BK$4&\"]\"&ADDRESS($BL$2,BY$14,1,,Служеб!$BM$4)","v":"[Протокол_Регион2018_1бой_впишиаудиторию.xlsm]Протокол!$T$23"},{"$f":"\"[\"&Служеб!$BK$4&\"]\"&ADDRESS($BL$2,BZ$14,1,,Служеб!$BM$4)","v":"[Протокол_Регион2018_1бой_впишиаудиторию.xlsm]Протокол!$U$23"},{"$f":"\"[\"&Служеб!$BK$4&\"]\"&ADDRESS($BL$2,CA$14,1,,Служеб!$BM$4)","v":"[Протокол_Регион2018_1бой_впишиаудиторию.xlsm]Протокол!$V$23"},{"$f":"\"[\"&Служеб!$BK$4&\"]\"&ADDRESS($BL$2,CB$14,1,,Служеб!$BM$4)","v":"[Протокол_Регион2018_1бой_впишиаудиторию.xlsm]Протокол!$W$23"},{"$f":"\"[\"&Служеб!$BK$4&\"]\"&ADDRESS($BL$2,CC$14,1,,Служеб!$BM$4)","v":"[Протокол_Регион2018_1бой_впишиаудиторию.xlsm]Протокол!$X$23"},{"$f":"\"[\"&Служеб!$BK$4&\"]\"&ADDRESS($BL$2,CD$14,1,,Служеб!$BM$4)","v":"[Протокол_Регион2018_1бой_впишиаудиторию.xlsm]Протокол!$Y$23"},{"$f":"ROW(Протокол!H24)","v":24},{"$f":"\"[\"&Служеб!$BK$4&\"]\"&ADDRESS($CE$2,CF$14,1,,Служеб!$BM$4)","v":"[Протокол_Регион2018_1бой_впишиаудиторию.xlsm]Протокол!$H$24"},{"$f":"\"[\"&Служеб!$BK$4&\"]\"&ADDRESS($CE$2,CG$14,1,,Служеб!$BM$4)","v":"[Протокол_Регион2018_1бой_впишиаудиторию.xlsm]Протокол!$I$24"},{"$f":"\"[\"&Служеб!$BK$4&\"]\"&ADDRESS($CE$2,CH$14,1,,Служеб!$BM$4)","v":"[Протокол_Регион2018_1бой_впишиаудиторию.xlsm]Протокол!$J$24"},{"$f":"\"[\"&Служеб!$BK$4&\"]\"&ADDRESS($CE$2,CI$14,1,,Служеб!$BM$4)","v":"[Протокол_Регион2018_1бой_впишиаудиторию.xlsm]Протокол!$K$24"},{"$f":"\"[\"&Служеб!$BK$4&\"]\"&ADDRESS($CE$2,CJ$14,1,,Служеб!$BM$4)","v":"[Протокол_Регион2018_1бой_впишиаудиторию.xlsm]Протокол!$L$24"},{"$f":"\"[\"&Служеб!$BK$4&\"]\"&ADDRESS($CE$2,CK$14,1,,Служеб!$BM$4)","v":"[Протокол_Регион2018_1бой_впишиаудиторию.xlsm]Протокол!$M$24"},{"$f":"\"[\"&Служеб!$BK$4&\"]\"&ADDRESS($CE$2,CL$14,1,,Служеб!$BM$4)","v":"[Протокол_Регион2018_1бой_впишиаудиторию.xlsm]Протокол!$N$24"},{"$f":"\"[\"&Служеб!$BK$4&\"]\"&ADDRESS($CE$2,CM$14,1,,Служеб!$BM$4)","v":"[Протокол_Регион2018_1бой_впишиаудиторию.xlsm]Протокол!$O$24"},{"$f":"\"[\"&Служеб!$BK$4&\"]\"&ADDRESS($CE$2,CN$14,1,,Служеб!$BM$4)","v":"[Протокол_Регион2018_1бой_впишиаудиторию.xlsm]Протокол!$P$24"},{"$f":"\"[\"&Служеб!$BK$4&\"]\"&ADDRESS($CE$2,CO$14,1,,Служеб!$BM$4)","v":"[Протокол_Регион2018_1бой_впишиаудиторию.xlsm]Протокол!$Q$24"},{"$f":"\"[\"&Служеб!$BK$4&\"]\"&ADDRESS($CE$2,CP$14,1,,Служеб!$BM$4)","v":"[Протокол_Регион2018_1бой_впишиаудиторию.xlsm]Протокол!$R$24"},{"$f":"\"[\"&Служеб!$BK$4&\"]\"&ADDRESS($CE$2,CQ$14,1,,Служеб!$BM$4)","v":"[Протокол_Регион2018_1бой_впишиаудиторию.xlsm]Протокол!$S$24"},{"$f":"\"[\"&Служеб!$BK$4&\"]\"&ADDRESS($CE$2,CR$14,1,,Служеб!$BM$4)","v":"[Протокол_Регион2018_1бой_впишиаудиторию.xlsm]Протокол!$T$24"},{"$f":"\"[\"&Служеб!$BK$4&\"]\"&ADDRESS($CE$2,CS$14,1,,Служеб!$BM$4)","v":"[Протокол_Регион2018_1бой_впишиаудиторию.xlsm]Протокол!$U$24"},{"$f":"\"[\"&Служеб!$BK$4&\"]\"&ADDRESS($CE$2,CT$14,1,,Служеб!$BM$4)","v":"[Протокол_Регион2018_1бой_впишиаудиторию.xlsm]Протокол!$V$24"},{"$f":"\"[\"&Служеб!$BK$4&\"]\"&ADDRESS($CE$2,CU$14,1,,Служеб!$BM$4)","v":"[Протокол_Регион2018_1бой_впишиаудиторию.xlsm]Протокол!$W$24"},{"$f":"\"[\"&Служеб!$BK$4&\"]\"&ADDRESS($CE$2,CV$14,1,,Служеб!$BM$4)","v":"[Протокол_Регион2018_1бой_впишиаудиторию.xlsm]Протокол!$X$24"},{"$f":"\"[\"&Служеб!$BK$4&\"]\"&ADDRESS($CE$2,CW$14,1,,Служеб!$BM$4)","v":"[Протокол_Регион2018_1бой_впишиаудиторию.xlsm]Протокол!$Y$24"},{"$f":"ROW(Протокол!H25)","v":25},{"$f":"\"[\"&Служеб!$BK$4&\"]\"&ADDRESS($CX$2,CY$14,1,,Служеб!$BM$4)","v":"[Протокол_Регион2018_1бой_впишиаудиторию.xlsm]Протокол!$H$25"},{"$f":"\"[\"&Служеб!$BK$4&\"]\"&ADDRESS($CX$2,CZ$14,1,,Служеб!$BM$4)","v":"[Протокол_Регион2018_1бой_впишиаудиторию.xlsm]Протокол!$I$25"},{"$f":"\"[\"&Служеб!$BK$4&\"]\"&ADDRESS($CX$2,DA$14,1,,Служеб!$BM$4)","v":"[Протокол_Регион2018_1бой_впишиаудиторию.xlsm]Протокол!$J$25"},{"$f":"\"[\"&Служеб!$BK$4&\"]\"&ADDRESS($CX$2,DB$14,1,,Служеб!$BM$4)","v":"[Протокол_Регион2018_1бой_впишиаудиторию.xlsm]Протокол!$K$25"},{"$f":"\"[\"&Служеб!$BK$4&\"]\"&ADDRESS($CX$2,DC$14,1,,Служеб!$BM$4)","v":"[Протокол_Регион2018_1бой_впишиаудиторию.xlsm]Протокол!$L$25"},{"$f":"\"[\"&Служеб!$BK$4&\"]\"&ADDRESS($CX$2,DD$14,1,,Служеб!$BM$4)","v":"[Протокол_Регион2018_1бой_впишиаудиторию.xlsm]Протокол!$M$25"},{"$f":"\"[\"&Служеб!$BK$4&\"]\"&ADDRESS($CX$2,DE$14,1,,Служеб!$BM$4)","v":"[Протокол_Регион2018_1бой_впишиаудиторию.xlsm]Протокол!$N$25"},{"$f":"\"[\"&Служеб!$BK$4&\"]\"&ADDRESS($CX$2,DF$14,1,,Служеб!$BM$4)","v":"[Протокол_Регион2018_1бой_впишиаудиторию.xlsm]Протокол!$O$25"},{"$f":"\"[\"&Служеб!$BK$4&\"]\"&ADDRESS($CX$2,DG$14,1,,Служеб!$BM$4)","v":"[Протокол_Регион2018_1бой_впишиаудиторию.xlsm]Протокол!$P$25"},{"$f":"\"[\"&Служеб!$BK$4&\"]\"&ADDRESS($CX$2,DH$14,1,,Служеб!$BM$4)","v":"[Протокол_Регион2018_1бой_впишиаудиторию.xlsm]Протокол!$Q$25"},{"$f":"\"[\"&Служеб!$BK$4&\"]\"&ADDRESS($CX$2,DI$14,1,,Служеб!$BM$4)","v":"[Протокол_Регион2018_1бой_впишиаудиторию.xlsm]Протокол!$R$25"},{"$f":"\"[\"&Служеб!$BK$4&\"]\"&ADDRESS($CX$2,DJ$14,1,,Служеб!$BM$4)","v":"[Протокол_Регион2018_1бой_впишиаудиторию.xlsm]Протокол!$S$25"},{"$f":"\"[\"&Служеб!$BK$4&\"]\"&ADDRESS($CX$2,DK$14,1,,Служеб!$BM$4)","v":"[Протокол_Регион2018_1бой_впишиаудиторию.xlsm]Протокол!$T$25"},{"$f":"\"[\"&Служеб!$BK$4&\"]\"&ADDRESS($CX$2,DL$14,1,,Служеб!$BM$4)","v":"[Протокол_Регион2018_1бой_впишиаудиторию.xlsm]Протокол!$U$25"},{"$f":"\"[\"&Служеб!$BK$4&\"]\"&ADDRESS($CX$2,DM$14,1,,Служеб!$BM$4)","v":"[Протокол_Регион2018_1бой_впишиаудиторию.xlsm]Протокол!$V$25"},{"$f":"\"[\"&Служеб!$BK$4&\"]\"&ADDRESS($CX$2,DN$14,1,,Служеб!$BM$4)","v":"[Протокол_Регион2018_1бой_впишиаудиторию.xlsm]Протокол!$W$25"},{"$f":"\"[\"&Служеб!$BK$4&\"]\"&ADDRESS($CX$2,DO$14,1,,Служеб!$BM$4)","v":"[Протокол_Регион2018_1бой_впишиаудиторию.xlsm]Протокол!$X$25"},{"$f":"\"[\"&Служеб!$BK$4&\"]\"&ADDRESS($CX$2,DP$14,1,,Служеб!$BM$4)","v":"[Протокол_Регион2018_1бой_впишиаудиторию.xlsm]Протокол!$Y$25"}]
[null,{"$f":"Протокол!F15","v":0},{"$f":"Протокол!D27","v":"Оппонент"},{"$f":"Протокол!E5","v":0},{"$f":"Протокол!E27","v":0},{"$f":"Протокол!H27","v":0},{"$f":"Протокол!I27","v":0},{"$f":"Протокол!J27","v":0},{"$f":"Протокол!K27","v":0},{"$f":"Протокол!L27","v":0},{"$f":"Протокол!M27","v":0},{"$f":"Протокол!N27","v":0},{"$f":"Протокол!O27","v":0},{"$f":"Протокол!P27","v":0},{"$f":"Протокол!Q27","v":0},{"$f":"Протокол!R27","v":0},{"$f":"Протокол!S27","v":0},{"$f":"Протокол!T27","v":0},{"$f":"Протокол!U27","v":0},{"$f":"Протокол!V27","v":0},{"$f":"Протокол!W27","v":0},{"$f":"Протокол!X27","v":0},{"$f":"Протокол!Y27","v":0},{"$f":"Протокол!H28","v":0},{"$f":"Протокол!I28","v":0},{"$f":"Протокол!J28","v":0},{"$f":"Протокол!K28","v":0},{"$f":"Протокол!L28","v":0},{"$f":"Протокол!M28","v":0},{"$f":"Протокол!N28","v":0},{"$f":"Протокол!O28","v":0},{"$f":"Протокол!P28","v":0},{"$f":"Протокол!Q28","v":0},{"$f":"Протокол!R28","v":0},{"$f":"Протокол!S28","v":0},{"$f":"Протокол!T28","v":0},{"$f":"Протокол!U28","v":0},{"$f":"Протокол!V28","v":0},{"$f":"Протокол!W28","v":0},{"$f":"Протокол!X28","v":0},{"$f":"Протокол!Y28","v":0},null,null,null,null,null,null,null,null,null,null,null,null,null,null,null,null,null,null,null,null,null,null,{"$f":"ROW(Протокол!H27)","v":27},{"$f":"\"[\"&Служеб!$BK$4&\"]\"&ADDRESS($BL$3,BM$14,1,,Служеб!$BM$4)","v":"[Протокол_Регион2018_1бой_впишиаудиторию.xlsm]Протокол!$H$27"},{"$f":"\"[\"&Служеб!$BK$4&\"]\"&ADDRESS($BL$3,BN$14,1,,Служеб!$BM$4)","v":"[Протокол_Регион2018_1бой_впишиаудиторию.xlsm]Протокол!$I$27"},{"$f":"\"[\"&Служеб!$BK$4&\"]\"&ADDRESS($BL$3,BO$14,1,,Служеб!$BM$4)","v":"[Протокол_Регион2018_1бой_впишиаудиторию.xlsm]Протокол!$J$27"},{"$f":"\"[\"&Служеб!$BK$4&\"]\"&ADDRESS($BL$3,BP$14,1,,Служеб!$BM$4)","v":"[Протокол_Регион2018_1бой_впишиаудиторию.xlsm]Протокол!$K$27"},{"$f":"\"[\"&Служеб!$BK$4&\"]\"&ADDRESS($BL$3,BQ$14,1,,Служеб!$BM$4)","v":"[Протокол_Регион2018_1бой_впишиаудиторию.xlsm]Протокол!$L$27"},{"$f":"\"[\"&Служеб!$BK$4&\"]\"&ADDRESS($BL$3,BR$14,1,,Служеб!$BM$4)","v":"[Протокол_Регион2018_1бой_впишиаудиторию.xlsm]Протокол!$M$27"},{"$f":"\"[\"&Служеб!$BK$4&\"]\"&ADDRESS($BL$3,BS$14,1,,Служеб!$BM$4)","v":"[Протокол_Регион2018_1бой_впишиаудиторию.xlsm]Протокол!$N$27"},{"$f":"\"[\"&Служеб!$BK$4&\"]\"&ADDRESS($BL$3,BT$14,1,,Служеб!$BM$4)","v":"[Протокол_Регион2018_1бой_впишиаудиторию.xlsm]Протокол!$O$27"},{"$f":"\"[\"&Служеб!$BK$4&\"]\"&ADDRESS($BL$3,BU$14,1,,Служеб!$BM$4)","v":"[Протокол_Регион2018_1бой_впишиаудиторию.xlsm]Протокол!$P$27"},{"$f":"\"[\"&Служеб!$BK$4&\"]\"&ADDRESS($BL$3,BV$14,1,,Служеб!$BM$4)","v":"[Протокол_Регион2018_1бой_впишиаудиторию.xlsm]Протокол!$Q$27"},{"$f":"\"[\"&Служеб!$BK$4&\"]\"&ADDRESS($BL$3,BW$14,1,,Служеб!$BM$4)","v":"[Протокол_Регион2018_1бой_впишиаудиторию.xlsm]Протокол!$R$27"},{"$f":"\"[\"&Служеб!$BK$4&\"]\"&ADDRESS($BL$3,BX$14,1,,Служеб!$BM$4)","v":"[Протокол_Регион2018_1бой_впишиаудиторию.xlsm]Протокол!$S$27"},{"$f":"\"[\"&Служеб!$BK$4&\"]\"&ADDRESS($BL$3,BY$14,1,,Служеб!$BM$4)","v":"[Протокол_Регион2018_1бой_впишиаудиторию.xlsm]Протокол!$T$27"},{"$f":"\"[\"&Служеб!$BK$4&\"]\"&ADDRESS($BL$3,BZ$14,1,,Служеб!$BM$4)","v":"[Протокол_Регион2018_1бой_впишиаудиторию.xlsm]Протокол!$U$27"},{"$f":"\"[\"&Служеб!$BK$4&\"]\"&ADDRESS($BL$3,CA$14,1,,Служеб!$BM$4)","v":"[Протокол_Регион2018_1бой_впишиаудиторию.xlsm]Протокол!$V$27"},{"$f":"\"[\"&Служеб!$BK$4&\"]\"&ADDRESS($BL$3,CB$14,1,,Служеб!$BM$4)","v":"[Протокол_Регион2018_1бой_впишиаудиторию.xlsm]Протокол!$W$27"},{"$f":"\"[\"&Служеб!$BK$4&\"]\"&ADDRESS($BL$3,CC$14,1,,Служеб!$BM$4)","v":"[Протокол_Регион2018_1бой_впишиаудиторию.xlsm]Протокол!$X$27"},{"$f":"\"[\"&Служеб!$BK$4&\"]\"&ADDRESS($BL$3,CD$14,1,,Служеб!$BM$4)","v":"[Протокол_Регион2018_1бой_впишиаудиторию.xlsm]Протокол!$Y$27"},{"$f":"ROW(Протокол!H28)","v":28},{"$f":"\"[\"&Служеб!$BK$4&\"]\"&ADDRESS($CE$3,CF$14,1,,Служеб!$BM$4)","v":"[Протокол_Регион2018_1бой_впишиаудиторию.xlsm]Протокол!$H$28"},{"$f":"\"[\"&Служеб!$BK$4&\"]\"&ADDRESS($CE$3,CG$14,1,,Служеб!$BM$4)","v":"[Протокол_Регион2018_1бой_впишиаудиторию.xlsm]Протокол!$I$28"},{"$f":"\"[\"&Служеб!$BK$4&\"]\"&ADDRESS($CE$3,CH$14,1,,Служеб!$BM$4)","v":"[Протокол_Регион2018_1бой_впишиаудиторию.xlsm]Протокол!$J$28"},{"$f":"\"[\"&Служеб!$BK$4&\"]\"&ADDRESS($CE$3,CI$14,1,,Служеб!$BM$4)","v":"[Протокол_Регион2018_1бой_впишиаудиторию.xlsm]Протокол!$K$28"},{"$f":"\"[\"&Служеб!$BK$4&\"]\"&ADDRESS($CE$3,CJ$14,1,,Служеб!$BM$4)","v":"[Протокол_Регион2018_1бой_впишиаудиторию.xlsm]Протокол!$L$28"},{"$f":"\"[\"&Служеб!$BK$4&\"]\"&ADDRESS($CE$3,CK$14,1,,Служеб!$BM$4)","v":"[Протокол_Регион2018_1бой_впишиаудиторию.xlsm]Протокол!$M$28"},{"$f":"\"[\"&Служеб!$BK$4&\"]\"&ADDRESS($CE$3,CL$14,1,,Служеб!$BM$4)","v":"[Протокол_Регион2018_1бой_впишиаудиторию.xlsm]Протокол!$N$28"},{"$f":"\"[\"&Служеб!$BK$4&\"]\"&ADDRESS($CE$3,CM$14,1,,Служеб!$BM$4)","v":"[Протокол_Регион2018_1бой_впишиаудиторию.xlsm]Протокол!$O$28"},{"$f":"\"[\"&Служеб!$BK$4&\"]\"&ADDRESS($CE$3,CN$14,1,,Служеб!$BM$4)","v":"[Протокол_Регион2018_1бой_впишиаудиторию.xlsm]Протокол!$P$28"},{"$f":"\"[\"&Служеб!$BK$4&\"]\"&ADDRESS($CE$3,CO$14,1,,Служеб!$BM$4)","v":"[Протокол_Регион2018_1бой_впишиаудиторию.xlsm]Протокол!$Q$28"},{"$f":"\"[\"&Служеб!$BK$4&\"]\"&ADDRESS($CE$3,CP$14,1,,Служеб!$BM$4)","v":"[Протокол_Регион2018_1бой_впишиаудиторию.xlsm]Протокол!$R$28"},{"$f":"\"[\"&Служеб!$BK$4&\"]\"&ADDRESS($CE$3,CQ$14,1,,Служеб!$BM$4)","v":"[Протокол_Регион2018_1бой_впишиаудиторию.xlsm]Протокол!$S$28"},{"$f":"\"[\"&Служеб!$BK$4&\"]\"&ADDRESS($CE$3,CR$14,1,,Служеб!$BM$4)","v":"[Протокол_Регион2018_1бой_впишиаудиторию.xlsm]Протокол!$T$28"},{"$f":"\"[\"&Служеб!$BK$4&\"]\"&ADDRESS($CE$3,CS$14,1,,Служеб!$BM$4)","v":"[Протокол_Регион2018_1бой_впишиаудиторию.xlsm]Протокол!$U$28"},{"$f":"\"[\"&Служеб!$BK$4&\"]\"&ADDRESS($CE$3,CT$14,1,,Служеб!$BM$4)","v":"[Протокол_Регион2018_1бой_впишиаудиторию.xlsm]Протокол!$V$28"},{"$f":"\"[\"&Служеб!$BK$4&\"]\"&ADDRESS($CE$3,CU$14,1,,Служеб!$BM$4)","v":"[Протокол_Регион2018_1бой_впишиаудиторию.xlsm]Протокол!$W$28"},{"$f":"\"[\"&Служеб!$BK$4&\"]\"&ADDRESS($CE$3,CV$14,1,,Служеб!$BM$4)","v":"[Протокол_Регион2018_1бой_впишиаудиторию.xlsm]Протокол!$X$28"},{"$f":"\"[\"&Служеб!$BK$4&\"]\"&ADDRESS($CE$3,CW$14,1,,Служеб!$BM$4)","v":"[Протокол_Регион2018_1бой_впишиаудиторию.xlsm]Протокол!$Y$28"}]
[null,{"$f":"Протокол!F15","v":0},{"$f":"Протокол!D30","v":"Рецензент"},{"$f":"Протокол!E6","v":0},{"$f":"Протокол!E30","v":0},{"$f":"Протокол!H30","v":0},{"$f":"Протокол!I30","v":0},{"$f":"Протокол!J30","v":0},{"$f":"Протокол!K30","v":0},{"$f":"Протокол!L30","v":0},{"$f":"Протокол!M30","v":0},{"$f":"Протокол!N30","v":0},{"$f":"Протокол!O30","v":0},{"$f":"Протокол!P30","v":0},{"$f":"Протокол!Q30","v":0},{"$f":"Протокол!R30","v":0},{"$f":"Протокол!S30","v":0},{"$f":"Протокол!T30","v":0},{"$f":"Протокол!U30","v":0},{"$f":"Протокол!V30","v":0},{"$f":"Протокол!W30","v":0},{"$f":"Протокол!X30","v":0},{"$f":"Протокол!Y30","v":0},null,null,null,null,null,null,null,null,null,null,null,null,null,null,null,null,null,null,null,null,null,null,null,null,null,null,null,null,null,null,null,null,null,null,null,null,null,null,null,null,{"$f":"ROW(Протокол!H30)","v":30},{"$f":"\"[\"&Служеб!$BK$4&\"]\"&ADDRESS($BL$4,BM$14,1,,Служеб!$BM$4)","v":"[Протокол_Регион2018_1бой_впишиаудиторию.xlsm]Протокол!$H$30"},{"$f":"\"[\"&Служеб!$BK$4&\"]\"&ADDRESS($BL$4,BN$14,1,,Служеб!$BM$4)","v":"[Протокол_Регион2018_1бой_впишиаудиторию.xlsm]Протокол!$I$30"},{"$f":"\"[\"&Служеб!$BK$4&\"]\"&ADDRESS($BL$4,BO$14,1,,Служеб!$BM$4)","v":"[Протокол_Регион2018_1бой_впишиаудиторию.xlsm]Протокол!$J$30"},{"$f":"\"[\"&Служеб!$BK$4&\"]\"&ADDRESS($BL$4,BP$14,1,,Служеб!$BM$4)","v":"[Протокол_Регион2018_1бой_впишиаудиторию.xlsm]Протокол!$K$30"},{"$f":"\"[\"&Служеб!$BK$4&\"]\"&ADDRESS($BL$4,BQ$14,1,,Служеб!$BM$4)","v":"[Протокол_Регион2018_1бой_впишиаудиторию.xlsm]Протокол!$L$30"},{"$f":"\"[\"&Служеб!$BK$4&\"]\"&ADDRESS($BL$4,BR$14,1,,Служеб!$BM$4)","v":"[Протокол_Регион2018_1бой_впишиаудиторию.xlsm]Протокол!$M$30"},{"$f":"\"[\"&Служеб!$BK$4&\"]\"&ADDRESS($BL$4,BS$14,1,,Служеб!$BM$4)","v":"[Протокол_Регион2018_1бой_впишиаудиторию.xlsm]Протокол!$N$30"},{"$f":"\"[\"&Служеб!$BK$4&\"]\"&ADDRESS($BL$4,BT$14,1,,Служеб!$BM$4)","v":"[Протокол_Регион2018_1бой_впишиаудиторию.xlsm]Протокол!$O$30"},{"$f":"\"[\"&Служеб!$BK$4&\"]\"&ADDRESS($BL$4,BU$14,1,,Служеб!$BM$4)","v":"[Протокол_Регион2018_1бой_впишиаудиторию.xlsm]Протокол!$P$30"},{"$f":"\"[\"&Служеб!$BK$4&\"]\"&ADDRESS($BL$4,BV$14,1,,Служеб!$BM$4)","v":"[Протокол_Регион2018_1бой_впишиаудиторию.xlsm]Протокол!$Q$30"},{"$f":"\"[\"&Служеб!$BK$4&\"]\"&ADDRESS($BL$4,BW$14,1,,Служеб!$BM$4)","v":"[Протокол_Регион2018_1бой_впишиаудиторию.xlsm]Протокол!$R$30"},{"$f":"\"[\"&Служеб!$BK$4&\"]\"&ADDRESS($BL$4,BX$14,1,,Служеб!$BM$4)","v":"[Протокол_Регион2018_1бой_впишиаудиторию.xlsm]Протокол!$S$30"},{"$f":"\"[\"&Служеб!$BK$4&\"]\"&ADDRESS($BL$4,BY$14,1,,Служеб!$BM$4)","v":"[Протокол_Регион2018_1бой_впишиаудиторию.xlsm]Протокол!$T$30"},{"$f":"\"[\"&Служеб!$BK$4&\"]\"&ADDRESS($BL$4,BZ$14,1,,Служеб!$BM$4)","v":"[Протокол_Регион2018_1бой_впишиаудиторию.xlsm]Протокол!$U$30"},{"$f":"\"[\"&Служеб!$BK$4&\"]\"&ADDRESS($BL$4,CA$14,1,,Служеб!$BM$4)","v":"[Протокол_Регион2018_1бой_впишиаудиторию.xlsm]Протокол!$V$30"},{"$f":"\"[\"&Служеб!$BK$4&\"]\"&ADDRESS($BL$4,CB$14,1,,Служеб!$BM$4)","v":"[Протокол_Регион2018_1бой_впишиаудиторию.xlsm]Протокол!$W$30"},{"$f":"\"[\"&Служеб!$BK$4&\"]\"&ADDRESS($BL$4,CC$14,1,,Служеб!$BM$4)","v":"[Протокол_Регион2018_1бой_впишиаудиторию.xlsm]Протокол!$X$30"},{"$f":"\"[\"&Служеб!$BK$4&\"]\"&ADDRESS($BL$4,CD$14,1,,Служеб!$BM$4)","v":"[Протокол_Регион2018_1бой_впишиаудиторию.xlsm]Протокол!$Y$30"}]
[null,{"$f":"Протокол!F49","v":0},{"$f":"Протокол!D57","v":"Докладчик"},{"$f":"Протокол!E38","v":0},{"$f":"Протокол!E57","v":0},{"$f":"Протокол!H57","v":0},{"$f":"Протокол!I57","v":0},{"$f":"Протокол!J57","v":0},{"$f":"Протокол!K57","v":0},{"$f":"Протокол!L57","v":0},{"$f":"Протокол!M57","v":0},{"$f":"Протокол!N57","v":0},{"$f":"Протокол!O57","v":0},{"$f":"Протокол!P57","v":0},{"$f":"Протокол!Q57","v":0},{"$f":"Протокол!R57","v":0},{"$f":"Протокол!S57","v":0},{"$f":"Протокол!T57","v":0},{"$f":"Протокол!U57","v":0},{"$f":"Протокол!V57","v":0},{"$f":"Протокол!W57","v":0},{"$f":"Протокол!X57","v":0},{"$f":"Протокол!Y57","v":0},{"$f":"Протокол!H58","v":0},{"$f":"Протокол!I58","v":0},{"$f":"Протокол!J58","v":0},{"$f":"Протокол!K58","v":0},{"$f":"Протокол!L58","v":0},{"$f":"Протокол!M58","v":0},{"$f":"Протокол!N58","v":0},{"$f":"Протокол!O58","v":0},{"$f":"Протокол!P58","v":0},{"$f":"Протокол!Q58","v":0},{"$f":"Протокол!R58","v":0},{"$f":"Протокол!S58","v":0},{"$f":"Протокол!T58","v":0},{"$f":"Протокол!U58","v":0},{"$f":"Протокол!V58","v":0},{"$f":"Протокол!W58","v":0},{"$f":"Протокол!X58","v":0},{"$f":"Протокол!Y58","v":0},{"$f":"Протокол!H59","v":0},{"$f":"Протокол!I59","v":0},{"$f":"Протокол!J59","v":0},{"$f":"Протокол!K59","v":0},{"$f":"Протокол!L59","v":0},{"$f":"Протокол!M59","v":0},{"$f":"Протокол!N59","v":0},{"$f":"Протокол!O59","v":0},{"$f":"Протокол!P59","v":0},{"$f":"Протокол!Q59","v":0},{"$f":"Протокол!R59","v":0},{"$f":"Протокол!S59","v":0},{"$f":"Протокол!T59","v":0},{"$f":"Протокол!U59","v":0},{"$f":"Протокол!V59","v":0},{"$f":"Протокол!W59","v":0},{"$f":"Протокол!X59","v":0},{"$f":"Протокол!Y59","v":0},null,null,null,null,{"$f":"ROW(Протокол!H57)","v":57},{"$f":"\"[\"&Служеб!$BK$4&\"]\"&ADDRESS($BL$5,BM$14,1,,Служеб!$BM$4)","v":"[Протокол_Регион2018_1бой_впишиаудиторию.xlsm]Протокол!$H$57"},{"$f":"\"[\"&Служеб!$BK$4&\"]\"&ADDRESS($BL$5,BN$14,1,,Служеб!$BM$4)","v":"[Протокол_Регион2018_1бой_впишиаудиторию.xlsm]Протокол!$I$57"},{"$f":"\"[\"&Служеб!$BK$4&\"]\"&ADDRESS($BL$5,BO$14,1,,Служеб!$BM$4)","v":"[Протокол_Регион2018_1бой_впишиаудиторию.xlsm]Протокол!$J$57"},{"$f":"\"[\"&Служеб!$BK$4&\"]\"&ADDRESS($BL$5,BP$14,1,,Служеб!$BM$4)","v":"[Протокол_Регион2018_1бой_впишиаудиторию.xlsm]Протокол!$K$57"},{"$f":"\"[\"&Служеб!$BK$4&\"]\"&ADDRESS($BL$5,BQ$14,1,,Служеб!$BM$4)","v":"[Протокол_Регион2018_1бой_впишиаудиторию.xlsm]Протокол!$L$57"},{"$f":"\"[\"&Служеб!$BK$4&\"]\"&ADDRESS($BL$5,BR$14,1,,Служеб!$BM$4)","v":"[Протокол_Регион2018_1бой_впишиаудиторию.xlsm]Протокол!$M$57"},{"$f":"\"[\"&Служеб!$BK$4&\"]\"&ADDRESS($BL$5,BS$14,1,,Служеб!$BM$4)","v":"[Протокол_Регион2018_1бой_впишиаудиторию.xlsm]Протокол!$N$57"},{"$f":"\"[\"&Служеб!$BK$4&\"]\"&ADDRESS($BL$5,BT$14,1,,Служеб!$BM$4)","v":"[Протокол_Регион2018_1бой_впишиаудиторию.xlsm]Протокол!$O$57"},{"$f":"\"[\"&Служеб!$BK$4&\"]\"&ADDRESS($BL$5,BU$14,1,,Служеб!$BM$4)","v":"[Протокол_Регион2018_1бой_впишиаудиторию.xlsm]Протокол!$P$57"},{"$f":"\"[\"&Служеб!$BK$4&\"]\"&ADDRESS($BL$5,BV$14,1,,Служеб!$BM$4)","v":"[Протокол_Регион2018_1бой_впишиаудиторию.xlsm]Протокол!$Q$57"},{"$f":"\"[\"&Служеб!$BK$4&\"]\"&ADDRESS($BL$5,BW$14,1,,Служеб!$BM$4)","v":"[Протокол_Регион2018_1бой_впишиаудиторию.xlsm]Протокол!$R$57"},{"$f":"\"[\"&Служеб!$BK$4&\"]\"&ADDRESS($BL$5,BX$14,1,,Служеб!$BM$4)","v":"[Протокол_Регион2018_1бой_впишиаудиторию.xlsm]Протокол!$S$57"},{"$f":"\"[\"&Служеб!$BK$4&\"]\"&ADDRESS($BL$5,BY$14,1,,Служеб!$BM$4)","v":"[Протокол_Регион2018_1бой_впишиаудиторию.xlsm]Протокол!$T$57"},{"$f":"\"[\"&Служеб!$BK$4&\"]\"&ADDRESS($BL$5,BZ$14,1,,Служеб!$BM$4)","v":"[Протокол_Регион2018_1бой_впишиаудиторию.xlsm]Протокол!$U$57"},{"$f":"\"[\"&Служеб!$BK$4&\"]\"&ADDRESS($BL$5,CA$14,1,,Служеб!$BM$4)","v":"[Протокол_Регион2018_1бой_впишиаудиторию.xlsm]Протокол!$V$57"},{"$f":"\"[\"&Служеб!$BK$4&\"]\"&ADDRESS($BL$5,CB$14,1,,Служеб!$BM$4)","v":"[Протокол_Регион2018_1бой_впишиаудиторию.xlsm]Протокол!$W$57"},{"$f":"\"[\"&Служеб!$BK$4&\"]\"&ADDRESS($BL$5,CC$14,1,,Служеб!$BM$4)","v":"[Протокол_Регион2018_1бой_впишиаудиторию.xlsm]Протокол!$X$57"},{"$f":"\"[\"&Служеб!$BK$4&\"]\"&ADDRESS($BL$5,CD$14,1,,Служеб!$BM$4)","v":"[Протокол_Регион2018_1бой_впишиаудиторию.xlsm]Протокол!$Y$57"},{"$f":"ROW(Протокол!H58)","v":58},{"$f":"\"[\"&Служеб!$BK$4&\"]\"&ADDRESS($CE$5,CF$14,1,,Служеб!$BM$4)","v":"[Протокол_Регион2018_1бой_впишиаудиторию.xlsm]Протокол!$H$58"},{"$f":"\"[\"&Служеб!$BK$4&\"]\"&ADDRESS($CE$5,CG$14,1,,Служеб!$BM$4)","v":"[Протокол_Регион2018_1бой_впишиаудиторию.xlsm]Протокол!$I$58"},{"$f":"\"[\"&Служеб!$BK$4&\"]\"&ADDRESS($CE$5,CH$14,1,,Служеб!$BM$4)","v":"[Протокол_Регион2018_1бой_впишиаудиторию.xlsm]Протокол!$J$58"},{"$f":"\"[\"&Служеб!$BK$4&\"]\"&ADDRESS($CE$5,CI$14,1,,Служеб!$BM$4)","v":"[Протокол_Регион2018_1бой_впишиаудиторию.xlsm]Протокол!$K$58"},{"$f":"\"[\"&Служеб!$BK$4&\"]\"&ADDRESS($CE$5,CJ$14,1,,Служеб!$BM$4)","v":"[Протокол_Регион2018_1бой_впишиаудиторию.xlsm]Протокол!$L$58"},{"$f":"\"[\"&Служеб!$BK$4&\"]\"&ADDRESS($CE$5,CK$14,1,,Служеб!$BM$4)","v":"[Протокол_Регион2018_1бой_впишиаудиторию.xlsm]Протокол!$M$58"},{"$f":"\"[\"&Служеб!$BK$4&\"]\"&ADDRESS($CE$5,CL$14,1,,Служеб!$BM$4)","v":"[Протокол_Регион2018_1бой_впишиаудиторию.xlsm]Протокол!$N$58"},{"$f":"\"[\"&Служеб!$BK$4&\"]\"&ADDRESS($CE$5,CM$14,1,,Служеб!$BM$4)","v":"[Протокол_Регион2018_1бой_впишиаудиторию.xlsm]Протокол!$O$58"},{"$f":"\"[\"&Служеб!$BK$4&\"]\"&ADDRESS($CE$5,CN$14,1,,Служеб!$BM$4)","v":"[Протокол_Регион2018_1бой_впишиаудиторию.xlsm]Протокол!$P$58"},{"$f":"\"[\"&Служеб!$BK$4&\"]\"&ADDRESS($CE$5,CO$14,1,,Служеб!$BM$4)","v":"[Протокол_Регион2018_1бой_впишиаудиторию.xlsm]Протокол!$Q$58"},{"$f":"\"[\"&Служеб!$BK$4&\"]\"&ADDRESS($CE$5,CP$14,1,,Служеб!$BM$4)","v":"[Протокол_Регион2018_1бой_впишиаудиторию.xlsm]Протокол!$R$58"},{"$f":"\"[\"&Служеб!$BK$4&\"]\"&ADDRESS($CE$5,CQ$14,1,,Служеб!$BM$4)","v":"[Протокол_Регион2018_1бой_впишиаудиторию.xlsm]Протокол!$S$58"},{"$f":"\"[\"&Служеб!$BK$4&\"]\"&ADDRESS($CE$5,CR$14,1,,Служеб!$BM$4)","v":"[Протокол_Регион2018_1бой_впишиаудиторию.xlsm]Протокол!$T$58"},{"$f":"\"[\"&Служеб!$BK$4&\"]\"&ADDRESS($CE$5,CS$14,1,,Служеб!$BM$4)","v":"[Протокол_Регион2018_1бой_впишиаудиторию.xlsm]Протокол!$U$58"},{"$f":"\"[\"&Служеб!$BK$4&\"]\"&ADDRESS($CE$5,CT$14,1,,Служеб!$BM$4)","v":"[Протокол_Регион2018_1бой_впишиаудиторию.xlsm]Протокол!$V$58"},{"$f":"\"[\"&Служеб!$BK$4&\"]\"&ADDRESS($CE$5,CU$14,1,,Служеб!$BM$4)","v":"[Протокол_Регион2018_1бой_впишиаудиторию.xlsm]Протокол!$W$58"},{"$f":"\"[\"&Служеб!$BK$4&\"]\"&ADDRESS($CE$5,CV$14,1,,Служеб!$BM$4)","v":"[Протокол_Регион2018_1бой_впишиаудиторию.xlsm]Протокол!$X$58"},{"$f":"\"[\"&Служеб!$BK$4&\"]\"&ADDRESS($CE$5,CW$14,1,,Служеб!$BM$4)","v":"[Протокол_Регион2018_1бой_впишиаудиторию.xlsm]Протокол!$Y$58"},{"$f":"ROW(Протокол!H59)","v":59},{"$f":"\"[\"&Служеб!$BK$4&\"]\"&ADDRESS($CX$5,CY$14,1,,Служеб!$BM$4)","v":"[Протокол_Регион2018_1бой_впишиаудиторию.xlsm]Протокол!$H$59"},{"$f":"\"[\"&Служеб!$BK$4&\"]\"&ADDRESS($CX$5,CZ$14,1,,Служеб!$BM$4)","v":"[Протокол_Регион2018_1бой_впишиаудиторию.xlsm]Протокол!$I$59"},{"$f":"\"[\"&Служеб!$BK$4&\"]\"&ADDRESS($CX$5,DA$14,1,,Служеб!$BM$4)","v":"[Протокол_Регион2018_1бой_впишиаудиторию.xlsm]Протокол!$J$59"},{"$f":"\"[\"&Служеб!$BK$4&\"]\"&ADDRESS($CX$5,DB$14,1,,Служеб!$BM$4)","v":"[Протокол_Регион2018_1бой_впишиаудиторию.xlsm]Протокол!$K$59"},{"$f":"\"[\"&Служеб!$BK$4&\"]\"&ADDRESS($CX$5,DC$14,1,,Служеб!$BM$4)","v":"[Протокол_Регион2018_1бой_впишиаудиторию.xlsm]Протокол!$L$59"},{"$f":"\"[\"&Служеб!$BK$4&\"]\"&ADDRESS($CX$5,DD$14,1,,Служеб!$BM$4)","v":"[Протокол_Регион2018_1бой_впишиаудиторию.xlsm]Протокол!$M$59"},{"$f":"\"[\"&Служеб!$BK$4&\"]\"&ADDRESS($CX$5,DE$14,1,,Служеб!$BM$4)","v":"[Протокол_Регион2018_1бой_впишиаудиторию.xlsm]Протокол!$N$59"},{"$f":"\"[\"&Служеб!$BK$4&\"]\"&ADDRESS($CX$5,DF$14,1,,Служеб!$BM$4)","v":"[Протокол_Регион2018_1бой_впишиаудиторию.xlsm]Протокол!$O$59"},{"$f":"\"[\"&Служеб!$BK$4&\"]\"&ADDRESS($CX$5,DG$14,1,,Служеб!$BM$4)","v":"[Протокол_Регион2018_1бой_впишиаудиторию.xlsm]Протокол!$P$59"},{"$f":"\"[\"&Служеб!$BK$4&\"]\"&ADDRESS($CX$5,DH$14,1,,Служеб!$BM$4)","v":"[Протокол_Регион2018_1бой_впишиаудиторию.xlsm]Протокол!$Q$59"},{"$f":"\"[\"&Служеб!$BK$4&\"]\"&ADDRESS($CX$5,DI$14,1,,Служеб!$BM$4)","v":"[Протокол_Регион2018_1бой_впишиаудиторию.xlsm]Протокол!$R$59"},{"$f":"\"[\"&Служеб!$BK$4&\"]\"&ADDRESS($CX$5,DJ$14,1,,Служеб!$BM$4)","v":"[Протокол_Регион2018_1бой_впишиаудиторию.xlsm]Протокол!$S$59"},{"$f":"\"[\"&Служеб!$BK$4&\"]\"&ADDRESS($CX$5,DK$14,1,,Служеб!$BM$4)","v":"[Протокол_Регион2018_1бой_впишиаудиторию.xlsm]Протокол!$T$59"},{"$f":"\"[\"&Служеб!$BK$4&\"]\"&ADDRESS($CX$5,DL$14,1,,Служеб!$BM$4)","v":"[Протокол_Регион2018_1бой_впишиаудиторию.xlsm]Протокол!$U$59"},{"$f":"\"[\"&Служеб!$BK$4&\"]\"&ADDRESS($CX$5,DM$14,1,,Служеб!$BM$4)","v":"[Протокол_Регион2018_1бой_впишиаудиторию.xlsm]Протокол!$V$59"},{"$f":"\"[\"&Служеб!$BK$4&\"]\"&ADDRESS($CX$5,DN$14,1,,Служеб!$BM$4)","v":"[Протокол_Регион2018_1бой_впишиаудиторию.xlsm]Протокол!$W$59"},{"$f":"\"[\"&Служеб!$BK$4&\"]\"&ADDRESS($CX$5,DO$14,1,,Служеб!$BM$4)","v":"[Протокол_Регион2018_1бой_впишиаудиторию.xlsm]Протокол!$X$59"},{"$f":"\"[\"&Служеб!$BK$4&\"]\"&ADDRESS($CX$5,DP$14,1,,Служеб!$BM$4)","v":"[Протокол_Регион2018_1бой_впишиаудиторию.xlsm]Протокол!$Y$59"}]
[null,{"$f":"Протокол!F49","v":0},{"$f":"Протокол!D61","v":"Оппонент"},{"$f":"Протокол!E39","v":0},{"$f":"Протокол!E61","v":0},{"$f":"Протокол!H61","v":0},{"$f":"Протокол!I61","v":0},{"$f":"Протокол!J61","v":0},{"$f":"Протокол!K61","v":0},{"$f":"Протокол!L61","v":0},{"$f":"Протокол!M61","v":0},{"$f":"Протокол!N61","v":0},{"$f":"Протокол!O61","v":0},{"$f":"Протокол!P61","v":0},{"$f":"Протокол!Q61","v":0},{"$f":"Протокол!R61","v":0},{"$f":"Протокол!S61","v":0},{"$f":"Протокол!T61","v":0},{"$f":"Протокол!U61","v":0},{"$f":"Протокол!V61","v":0},{"$f":"Протокол!W61","v":0},{"$f":"Протокол!X61","v":0},{"$f":"Протокол!Y61","v":0},{"$f":"Протокол!H62","v":0},{"$f":"Протокол!I62","v":0},{"$f":"Протокол!J62","v":0},{"$f":"Протокол!K62","v":0},{"$f":"Протокол!L62","v":0},{"$f":"Протокол!M62","v":0},{"$f":"Протокол!N62","v":0},{"$f":"Протокол!O62","v":0},{"$f":"Протокол!P62","v":0},{"$f":"Протокол!Q62","v":0},{"$f":"Протокол!R62","v":0},{"$f":"Протокол!S62","v":0},{"$f":"Протокол!T62","v":0},{"$f":"Протокол!U62","v":0},{"$f":"Протокол!V62","v":0},{"$f":"Протокол!W62","v":0},{"$f":"Протокол!X62","v":0},{"$f":"Протокол!Y62","v":0},null,null,null,null,null,null,null,null,null,null,null,null,null,null,null,null,null,null,null,null,null,null,{"$f":"ROW(Протокол!H61)","v":61},{"$f":"\"[\"&Служеб!$BK$4&\"]\"&ADDRESS($BL$6,BM$14,1,,Служеб!$BM$4)","v":"[Протокол_Регион2018_1бой_впишиаудиторию.xlsm]Протокол!$H$61"},{"$f":"\"[\"&Служеб!$BK$4&\"]\"&ADDRESS($BL$6,BN$14,1,,Служеб!$BM$4)","v":"[Протокол_Регион2018_1бой_впишиаудиторию.xlsm]Протокол!$I$61"},{"$f":"\"[\"&Служеб!$BK$4&\"]\"&ADDRESS($BL$6,BO$14,1,,Служеб!$BM$4)","v":"[Протокол_Регион2018_1бой_впишиаудиторию.xlsm]Протокол!$J$61"},{"$f":"\"[\"&Служеб!$BK$4&\"]\"&ADDRESS($BL$6,BP$14,1,,Служеб!$BM$4)","v":"[Протокол_Регион2018_1бой_впишиаудиторию.xlsm]Протокол!$K$61"},{"$f":"\"[\"&Служеб!$BK$4&\"]\"&ADDRESS($BL$6,BQ$14,1,,Служеб!$BM$4)","v":"[Протокол_Регион2018_1бой_впишиаудиторию.xlsm]Протокол!$L$61"},{"$f":"\"[\"&Служеб!$BK$4&\"]\"&ADDRESS($BL$6,BR$14,1,,Служеб!$BM$4)","v":"[Протокол_Регион2018_1бой_впишиаудиторию.xlsm]Протокол!$M$61"},{"$f":"\"[\"&Служеб!$BK$4&\"]\"&ADDRESS($BL$6,BS$14,1,,Служеб!$BM$4)","v":"[Протокол_Регион2018_1бой_впишиаудиторию.xlsm]Протокол!$N$61"},{"$f":"\"[\"&Служеб!$BK$4&\"]\"&ADDRESS($BL$6,BT$14,1,,Служеб!$BM$4)","v":"[Протокол_Регион2018_1бой_впишиаудиторию.xlsm]Протокол!$O$61"},{"$f":"\"[\"&Служеб!$BK$4&\"]\"&ADDRESS($BL$6,BU$14,1,,Служеб!$BM$4)","v":"[Протокол_Регион2018_1бой_впишиаудиторию.xlsm]Протокол!$P$61"},{"$f":"\"[\"&Служеб!$BK$4&\"]\"&ADDRESS($BL$6,BV$14,1,,Служеб!$BM$4)","v":"[Протокол_Регион2018_1бой_впишиаудиторию.xlsm]Протокол!$Q$61"},{"$f":"\"[\"&Служеб!$BK$4&\"]\"&ADDRESS($BL$6,BW$14,1,,Служеб!$BM$4)","v":"[Протокол_Регион2018_1бой_впишиаудиторию.xlsm]Протокол!$R$61"},{"$f":"\"[\"&Служеб!$BK$4&\"]\"&ADDRESS($BL$6,BX$14,1,,Служеб!$BM$4)","v":"[Протокол_Регион2018_1бой_впишиаудиторию.xlsm]Протокол!$S$61"},{"$f":"\"[\"&Служеб!$BK$4&\"]\"&ADDRESS($BL$6,BY$14,1,,Служеб!$BM$4)","v":"[Протокол_Регион2018_1бой_впишиаудиторию.xlsm]Протокол!$T$61"},{"$f":"\"[\"&Служеб!$BK$4&\"]\"&ADDRESS($BL$6,BZ$14,1,,Служеб!$BM$4)","v":"[Протокол_Регион2018_1бой_впишиаудиторию.xlsm]Протокол!$U$61"},{"$f":"\"[\"&Служеб!$BK$4&\"]\"&ADDRESS($BL$6,CA$14,1,,Служеб!$BM$4)","v":"[Протокол_Регион2018_1бой_впишиаудиторию.xlsm]Протокол!$V$61"},{"$f":"\"[\"&Служеб!$BK$4&\"]\"&ADDRESS($BL$6,CB$14,1,,Служеб!$BM$4)","v":"[Протокол_Регион2018_1бой_впишиаудиторию.xlsm]Протокол!$W$61"},{"$f":"\"[\"&Служеб!$BK$4&\"]\"&ADDRESS($BL$6,CC$14,1,,Служеб!$BM$4)","v":"[Протокол_Регион2018_1бой_впишиаудиторию.xlsm]Протокол!$X$61"},{"$f":"\"[\"&Служеб!$BK$4&\"]\"&ADDRESS($BL$6,CD$14,1,,Служеб!$BM$4)","v":"[Протокол_Регион2018_1бой_впишиаудиторию.xlsm]Протокол!$Y$61"},{"$f":"ROW(Протокол!H62)","v":62},{"$f":"\"[\"&Служеб!$BK$4&\"]\"&ADDRESS($CE$6,CF$14,1,,Служеб!$BM$4)","v":"[Протокол_Регион2018_1бой_впишиаудиторию.xlsm]Протокол!$H$62"},{"$f":"\"[\"&Служеб!$BK$4&\"]\"&ADDRESS($CE$6,CG$14,1,,Служеб!$BM$4)","v":"[Протокол_Регион2018_1бой_впишиаудиторию.xlsm]Протокол!$I$62"},{"$f":"\"[\"&Служеб!$BK$4&\"]\"&ADDRESS($CE$6,CH$14,1,,Служеб!$BM$4)","v":"[Протокол_Регион2018_1бой_впишиаудиторию.xlsm]Протокол!$J$62"},{"$f":"\"[\"&Служеб!$BK$4&\"]\"&ADDRESS($CE$6,CI$14,1,,Служеб!$BM$4)","v":"[Протокол_Регион2018_1бой_впишиаудиторию.xlsm]Протокол!$K$62"},{"$f":"\"[\"&Служеб!$BK$4&\"]\"&ADDRESS($CE$6,CJ$14,1,,Служеб!$BM$4)","v":"[Протокол_Регион2018_1бой_впишиаудиторию.xlsm]Протокол!$L$62"},{"$f":"\"[\"&Служеб!$BK$4&\"]\"&ADDRESS($CE$6,CK$14,1,,Служеб!$BM$4)","v":"[Протокол_Регион2018_1бой_впишиаудиторию.xlsm]Протокол!$M$62"},{"$f":"\"[\"&Служеб!$BK$4&\"]\"&ADDRESS($CE$6,CL$14,1,,Служеб!$BM$4)","v":"[Протокол_Регион2018_1бой_впишиаудиторию.xlsm]Протокол!$N$62"},{"$f":"\"[\"&Служеб!$BK$4&\"]\"&ADDRESS($CE$6,CM$14,1,,Служеб!$BM$4)","v":"[Протокол_Регион2018_1бой_впишиаудиторию.xlsm]Протокол!$O$62"},{"$f":"\"[\"&Служеб!$BK$4&\"]\"&ADDRESS($CE$6,CN$14,1,,Служеб!$BM$4)","v":"[Протокол_Регион2018_1бой_впишиаудиторию.xlsm]Протокол!$P$62"},{"$f":"\"[\"&Служеб!$BK$4&\"]\"&ADDRESS($CE$6,CO$14,1,,Служеб!$BM$4)","v":"[Протокол_Регион2018_1бой_впишиаудиторию.xlsm]Протокол!$Q$62"},{"$f":"\"[\"&Служеб!$BK$4&\"]\"&ADDRESS($CE$6,CP$14,1,,Служеб!$BM$4)","v":"[Протокол_Регион2018_1бой_впишиаудиторию.xlsm]Протокол!$R$62"},{"$f":"\"[\"&Служеб!$BK$4&\"]\"&ADDRESS($CE$6,CQ$14,1,,Служеб!$BM$4)","v":"[Протокол_Регион2018_1бой_впишиаудиторию.xlsm]Протокол!$S$62"},{"$f":"\"[\"&Служеб!$BK$4&\"]\"&ADDRESS($CE$6,CR$14,1,,Служеб!$BM$4)","v":"[Протокол_Регион2018_1бой_впишиаудиторию.xlsm]Протокол!$T$62"},{"$f":"\"[\"&Служеб!$BK$4&\"]\"&ADDRESS($CE$6,CS$14,1,,Служеб!$BM$4)","v":"[Протокол_Регион2018_1бой_впишиаудиторию.xlsm]Протокол!$U$62"},{"$f":"\"[\"&Служеб!$BK$4&\"]\"&ADDRESS($CE$6,CT$14,1,,Служеб!$BM$4)","v":"[Протокол_Регион2018_1бой_впишиаудиторию.xlsm]Протокол!$V$62"},{"$f":"\"[\"&Служеб!$BK$4&\"]\"&ADDRESS($CE$6,CU$14,1,,Служеб!$BM$4)","v":"[Протокол_Регион2018_1бой_впишиаудиторию.xlsm]Протокол!$W$62"},{"$f":"\"[\"&Служеб!$BK$4&\"]\"&ADDRESS($CE$6,CV$14,1,,Служеб!$BM$4)","v":"[Протокол_Регион2018_1бой_впишиаудиторию.xlsm]Протокол!$X$62"},{"$f":"\"[\"&Служеб!$BK$4&\"]\"&ADDRESS($CE$6,CW$14,1,,Служеб!$BM$4)","v":"[Протокол_Регион2018_1бой_впишиаудиторию.xlsm]Протокол!$Y$62"}]
[null,{"$f":"Протокол!F49","v":0},{"$f":"Протокол!D64","v":"Рецензент"},{"$f":"Протокол!E40","v":0},{"$f":"Протокол!E64","v":0},{"$f":"Протокол!H64","v":0},{"$f":"Протокол!I64","v":0},{"$f":"Протокол!J64","v":0},{"$f":"Протокол!K64","v":0},{"$f":"Протокол!L64","v":0},{"$f":"Протокол!M64","v":0},{"$f":"Протокол!N64","v":0},{"$f":"Протокол!O64","v":0},{"$f":"Протокол!P64","v":0},{"$f":"Протокол!Q64","v":0},{"$f":"Протокол!R64","v":0},{"$f":"Протокол!S64","v":0},{"$f":"Протокол!T64","v":0},{"$f":"Протокол!U64","v":0},{"$f":"Протокол!V64","v":0},{"$f":"Протокол!W64","v":0},{"$f":"Протокол!X64","v":0},{"$f":"Протокол!Y64","v":0},null,null,null,null,null,null,null,null,null,null,null,null,null,null,null,null,null,null,null,null,null,null,null,null,null,null,null,null,null,null,null,null,null,null,null,null,null,null,null,null,{"$f":"ROW(Протокол!H64)","v":64},{"$f":"\"[\"&Служеб!$BK$4&\"]\"&ADDRESS($BL$7,BM$14,1,,Служеб!$BM$4)","v":"[Протокол_Регион2018_1бой_впишиаудиторию.xlsm]Протокол!$H$64"},{"$f":"\"[\"&Служеб!$BK$4&\"]\"&ADDRESS($BL$7,BN$14,1,,Служеб!$BM$4)","v":"[Протокол_Регион2018_1бой_впишиаудиторию.xlsm]Протокол!$I$64"},{"$f":"\"[\"&Служеб!$BK$4&\"]\"&ADDRESS($BL$7,BO$14,1,,Служеб!$BM$4)","v":"[Протокол_Регион2018_1бой_впишиаудиторию.xlsm]Протокол!$J$64"},{"$f":"\"[\"&Служеб!$BK$4&\"]\"&ADDRESS($BL$7,BP$14,1,,Служеб!$BM$4)","v":"[Протокол_Регион2018_1бой_впишиаудиторию.xlsm]Протокол!$K$64"},{"$f":"\"[\"&Служеб!$BK$4&\"]\"&ADDRESS($BL$7,BQ$14,1,,Служеб!$BM$4)","v":"[Протокол_Регион2018_1бой_впишиаудиторию.xlsm]Протокол!$L$64"},{"$f":"\"[\"&Служеб!$BK$4&\"]\"&ADDRESS($BL$7,BR$14,1,,Служеб!$BM$4)","v":"[Протокол_Регион2018_1бой_впишиаудиторию.xlsm]Протокол!$M$64"},{"$f":"\"[\"&Служеб!$BK$4&\"]\"&ADDRESS($BL$7,BS$14,1,,Служеб!$BM$4)","v":"[Протокол_Регион2018_1бой_впишиаудиторию.xlsm]Протокол!$N$64"},{"$f":"\"[\"&Служеб!$BK$4&\"]\"&ADDRESS($BL$7,BT$14,1,,Служеб!$BM$4)","v":"[Протокол_Регион2018_1бой_впишиаудиторию.xlsm]Протокол!$O$64"},{"$f":"\"[\"&Служеб!$BK$4&\"]\"&ADDRESS($BL$7,BU$14,1,,Служеб!$BM$4)","v":"[Протокол_Регион2018_1бой_впишиаудиторию.xlsm]Протокол!$P$64"},{"$f":"\"[\"&Служеб!$BK$4&\"]\"&ADDRESS($BL$7,BV$14,1,,Служеб!$BM$4)","v":"[Протокол_Регион2018_1бой_впишиаудиторию.xlsm]Протокол!$Q$64"},{"$f":"\"[\"&Служеб!$BK$4&\"]\"&ADDRESS($BL$7,BW$14,1,,Служеб!$BM$4)","v":"[Протокол_Регион2018_1бой_впишиаудиторию.xlsm]Протокол!$R$64"},{"$f":"\"[\"&Служеб!$BK$4&\"]\"&ADDRESS($BL$7,BX$14,1,,Служеб!$BM$4)","v":"[Протокол_Регион2018_1бой_впишиаудиторию.xlsm]Протокол!$S$64"},{"$f":"\"[\"&Служеб!$BK$4&\"]\"&ADDRESS($BL$7,BY$14,1,,Служеб!$BM$4)","v":"[Протокол_Регион2018_1бой_впишиаудиторию.xlsm]Протокол!$T$64"},{"$f":"\"[\"&Служеб!$BK$4&\"]\"&ADDRESS($BL$7,BZ$14,1,,Служеб!$BM$4)","v":"[Протокол_Регион2018_1бой_впишиаудиторию.xlsm]Протокол!$U$64"},{"$f":"\"[\"&Служеб!$BK$4&\"]\"&ADDRESS($BL$7,CA$14,1,,Служеб!$BM$4)","v":"[Протокол_Регион2018_1бой_впишиаудиторию.xlsm]Протокол!$V$64"},{"$f":"\"[\"&Служеб!$BK$4&\"]\"&ADDRESS($BL$7,CB$14,1,,Служеб!$BM$4)","v":"[Протокол_Регион2018_1бой_впишиаудиторию.xlsm]Протокол!$W$64"},{"$f":"\"[\"&Служеб!$BK$4&\"]\"&ADDRESS($BL$7,CC$14,1,,Служеб!$BM$4)","v":"[Протокол_Регион2018_1бой_впишиаудиторию.xlsm]Протокол!$X$64"},{"$f":"\"[\"&Служеб!$BK$4&\"]\"&ADDRESS($BL$7,CD$14,1,,Служеб!$BM$4)","v":"[Протокол_Регион2018_1бой_впишиаудиторию.xlsm]Протокол!$Y$64"}]
[null,{"$f":"Протокол!F83","v":0},{"$f":"Протокол!D91","v":"Докладчик"},{"$f":"Протокол!E72","v":0},{"$f":"Протокол!E91","v":0},{"$f":"Протокол!H91","v":0},{"$f":"Протокол!I91","v":0},{"$f":"Протокол!J91","v":0},{"$f":"Протокол!K91","v":0},{"$f":"Протокол!L91","v":0},{"$f":"Протокол!M91","v":0},{"$f":"Протокол!N91","v":0},{"$f":"Протокол!O91","v":0},{"$f":"Протокол!P91","v":0},{"$f":"Протокол!Q91","v":0},{"$f":"Протокол!R91","v":0},{"$f":"Протокол!S91","v":0},{"$f":"Протокол!T91","v":0},{"$f":"Протокол!U91","v":0},{"$f":"Протокол!V91","v":0},{"$f":"Протокол!W91","v":0},{"$f":"Протокол!X91","v":0},{"$f":"Протокол!Y91","v":0},{"$f":"Протокол!H92","v":0},{"$f":"Протокол!I92","v":0},{"$f":"Протокол!J92","v":0},{"$f":"Протокол!K92","v":0},{"$f":"Протокол!L92","v":0},{"$f":"Протокол!M92","v":0},{"$f":"Протокол!N92","v":0},{"$f":"Протокол!O92","v":0},{"$f":"Протокол!P92","v":0},{"$f":"Протокол!Q92","v":0},{"$f":"Протокол!R92","v":0},{"$f":"Протокол!S92","v":0},{"$f":"Протокол!T92","v":0},{"$f":"Протокол!U92","v":0},{"$f":"Протокол!V92","v":0},{"$f":"Протокол!W92","v":0},{"$f":"Протокол!X92","v":0},{"$f":"Протокол!Y92","v":0},{"$f":"Протокол!H93","v":0},{"$f":"Протокол!I93","v":0},{"$f":"Протокол!J93","v":0},{"$f":"Протокол!K93","v":0},{"$f":"Протокол!L93","v":0},{"$f":"Протокол!M93","v":0},{"$f":"Протокол!N93","v":0},{"$f":"Протокол!O93","v":0},{"$f":"Протокол!P93","v":0},{"$f":"Протокол!Q93","v":0},{"$f":"Протокол!R93","v":0},{"$f":"Протокол!S93","v":0},{"$f":"Протокол!T93","v":0},{"$f":"Протокол!U93","v":0},{"$f":"Протокол!V93","v":0},{"$f":"Протокол!W93","v":0},{"$f":"Протокол!X93","v":0},{"$f":"Протокол!Y93","v":0},null,null,null,null,{"$f":"ROW(Протокол!H91)","v":91},{"$f":"\"[\"&Служеб!$BK$4&\"]\"&ADDRESS($BL$8,BM$14,1,,Служеб!$BM$4)","v":"[Протокол_Регион2018_1бой_впишиаудиторию.xlsm]Протокол!$H$91"},{"$f":"\"[\"&Служеб!$BK$4&\"]\"&ADDRESS($BL$8,BN$14,1,,Служеб!$BM$4)","v":"[Протокол_Регион2018_1бой_впишиаудиторию.xlsm]Протокол!$I$91"},{"$f":"\"[\"&Служеб!$BK$4&\"]\"&ADDRESS($BL$8,BO$14,1,,Служеб!$BM$4)","v":"[Протокол_Регион2018_1бой_впишиаудиторию.xlsm]Протокол!$J$91"},{"$f":"\"[\"&Служеб!$BK$4&\"]\"&ADDRESS($BL$8,BP$14,1,,Служеб!$BM$4)","v":"[Протокол_Регион2018_1бой_впишиаудиторию.xlsm]Протокол!$K$91"},{"$f":"\"[\"&Служеб!$BK$4&\"]\"&ADDRESS($BL$8,BQ$14,1,,Служеб!$BM$4)","v":"[Протокол_Регион2018_1бой_впишиаудиторию.xlsm]Протокол!$L$91"},{"$f":"\"[\"&Служеб!$BK$4&\"]\"&ADDRESS($BL$8,BR$14,1,,Служеб!$BM$4)","v":"[Протокол_Регион2018_1бой_впишиаудиторию.xlsm]Протокол!$M$91"},{"$f":"\"[\"&Служеб!$BK$4&\"]\"&ADDRESS($BL$8,BS$14,1,,Служеб!$BM$4)","v":"[Протокол_Регион2018_1бой_впишиаудиторию.xlsm]Протокол!$N$91"},{"$f":"\"[\"&Служеб!$BK$4&\"]\"&ADDRESS($BL$8,BT$14,1,,Служеб!$BM$4)","v":"[Протокол_Регион2018_1бой_впишиаудиторию.xlsm]Протокол!$O$91"},{"$f":"\"[\"&Служеб!$BK$4&\"]\"&ADDRESS($BL$8,BU$14,1,,Служеб!$BM$4)","v":"[Протокол_Регион2018_1бой_впишиаудиторию.xlsm]Протокол!$P$91"},{"$f":"\"[\"&Служеб!$BK$4&\"]\"&ADDRESS($BL$8,BV$14,1,,Служеб!$BM$4)","v":"[Протокол_Регион2018_1бой_впишиаудиторию.xlsm]Протокол!$Q$91"},{"$f":"\"[\"&Служеб!$BK$4&\"]\"&ADDRESS($BL$8,BW$14,1,,Служеб!$BM$4)","v":"[Протокол_Регион2018_1бой_впишиаудиторию.xlsm]Протокол!$R$91"},{"$f":"\"[\"&Служеб!$BK$4&\"]\"&ADDRESS($BL$8,BX$14,1,,Служеб!$BM$4)","v":"[Протокол_Регион2018_1бой_впишиаудиторию.xlsm]Протокол!$S$91"},{"$f":"\"[\"&Служеб!$BK$4&\"]\"&ADDRESS($BL$8,BY$14,1,,Служеб!$BM$4)","v":"[Протокол_Регион2018_1бой_впишиаудиторию.xlsm]Протокол!$T$91"},{"$f":"\"[\"&Служеб!$BK$4&\"]\"&ADDRESS($BL$8,BZ$14,1,,Служеб!$BM$4)","v":"[Протокол_Регион2018_1бой_впишиаудиторию.xlsm]Протокол!$U$91"},{"$f":"\"[\"&Служеб!$BK$4&\"]\"&ADDRESS($BL$8,CA$14,1,,Служеб!$BM$4)","v":"[Протокол_Регион2018_1бой_впишиаудиторию.xlsm]Протокол!$V$91"},{"$f":"\"[\"&Служеб!$BK$4&\"]\"&ADDRESS($BL$8,CB$14,1,,Служеб!$BM$4)","v":"[Протокол_Регион2018_1бой_впишиаудиторию.xlsm]Протокол!$W$91"},{"$f":"\"[\"&Служеб!$BK$4&\"]\"&ADDRESS($BL$8,CC$14,1,,Служеб!$BM$4)","v":"[Протокол_Регион2018_1бой_впишиаудиторию.xlsm]Протокол!$X$91"},{"$f":"\"[\"&Служеб!$BK$4&\"]\"&ADDRESS($BL$8,CD$14,1,,Служеб!$BM$4)","v":"[Протокол_Регион2018_1бой_впишиаудиторию.xlsm]Протокол!$Y$91"},{"$f":"ROW(Протокол!H92)","v":92},{"$f":"\"[\"&Служеб!$BK$4&\"]\"&ADDRESS($CE$8,CF$14,1,,Служеб!$BM$4)","v":"[Протокол_Регион2018_1бой_впишиаудиторию.xlsm]Протокол!$H$92"},{"$f":"\"[\"&Служеб!$BK$4&\"]\"&ADDRESS($CE$8,CG$14,1,,Служеб!$BM$4)","v":"[Протокол_Регион2018_1бой_впишиаудиторию.xlsm]Протокол!$I$92"},{"$f":"\"[\"&Служеб!$BK$4&\"]\"&ADDRESS($CE$8,CH$14,1,,Служеб!$BM$4)","v":"[Протокол_Регион2018_1бой_впишиаудиторию.xlsm]Протокол!$J$92"},{"$f":"\"[\"&Служеб!$BK$4&\"]\"&ADDRESS($CE$8,CI$14,1,,Служеб!$BM$4)","v":"[Протокол_Регион2018_1бой_впишиаудиторию.xlsm]Протокол!$K$92"},{"$f":"\"[\"&Служеб!$BK$4&\"]\"&ADDRESS($CE$8,CJ$14,1,,Служеб!$BM$4)","v":"[Протокол_Регион2018_1бой_впишиаудиторию.xlsm]Протокол!$L$92"},{"$f":"\"[\"&Служеб!$BK$4&\"]\"&ADDRESS($CE$8,CK$14,1,,Служеб!$BM$4)","v":"[Протокол_Регион2018_1бой_впишиаудиторию.xlsm]Протокол!$M$92"},{"$f":"\"[\"&Служеб!$BK$4&\"]\"&ADDRESS($CE$8,CL$14,1,,Служеб!$BM$4)","v":"[Протокол_Регион2018_1бой_впишиаудиторию.xlsm]Протокол!$N$92"},{"$f":"\"[\"&Служеб!$BK$4&\"]\"&ADDRESS($CE$8,CM$14,1,,Служеб!$BM$4)","v":"[Протокол_Регион2018_1бой_впишиаудиторию.xlsm]Протокол!$O$92"},{"$f":"\"[\"&Служеб!$BK$4&\"]\"&ADDRESS($CE$8,CN$14,1,,Служеб!$BM$4)","v":"[Протокол_Регион2018_1бой_впишиаудиторию.xlsm]Протокол!$P$92"},{"$f":"\"[\"&Служеб!$BK$4&\"]\"&ADDRESS($CE$8,CO$14,1,,Служеб!$BM$4)","v":"[Протокол_Регион2018_1бой_впишиаудиторию.xlsm]Протокол!$Q$92"},{"$f":"\"[\"&Служеб!$BK$4&\"]\"&ADDRESS($CE$8,CP$14,1,,Служеб!$BM$4)","v":"[Протокол_Регион2018_1бой_впишиаудиторию.xlsm]Протокол!$R$92"},{"$f":"\"[\"&Служеб!$BK$4&\"]\"&ADDRESS($CE$8,CQ$14,1,,Служеб!$BM$4)","v":"[Протокол_Регион2018_1бой_впишиаудиторию.xlsm]Протокол!$S$92"},{"$f":"\"[\"&Служеб!$BK$4&\"]\"&ADDRESS($CE$8,CR$14,1,,Служеб!$BM$4)","v":"[Протокол_Регион2018_1бой_впишиаудиторию.xlsm]Протокол!$T$92"},{"$f":"\"[\"&Служеб!$BK$4&\"]\"&ADDRESS($CE$8,CS$14,1,,Служеб!$BM$4)","v":"[Протокол_Регион2018_1бой_впишиаудиторию.xlsm]Протокол!$U$92"},{"$f":"\"[\"&Служеб!$BK$4&\"]\"&ADDRESS($CE$8,CT$14,1,,Служеб!$BM$4)","v":"[Протокол_Регион2018_1бой_впишиаудиторию.xlsm]Протокол!$V$92"},{"$f":"\"[\"&Служеб!$BK$4&\"]\"&ADDRESS($CE$8,CU$14,1,,Служеб!$BM$4)","v":"[Протокол_Регион2018_1бой_впишиаудиторию.xlsm]Протокол!$W$92"},{"$f":"\"[\"&Служеб!$BK$4&\"]\"&ADDRESS($CE$8,CV$14,1,,Служеб!$BM$4)","v":"[Протокол_Регион2018_1бой_впишиаудиторию.xlsm]Протокол!$X$92"},{"$f":"\"[\"&Служеб!$BK$4&\"]\"&ADDRESS($CE$8,CW$14,1,,Служеб!$BM$4)","v":"[Протокол_Регион2018_1бой_впишиаудиторию.xlsm]Протокол!$Y$92"},{"$f":"ROW(Протокол!H93)","v":93},{"$f":"\"[\"&Служеб!$BK$4&\"]\"&ADDRESS($CX$8,CY$14,1,,Служеб!$BM$4)","v":"[Протокол_Регион2018_1бой_впишиаудиторию.xlsm]Протокол!$H$93"},{"$f":"\"[\"&Служеб!$BK$4&\"]\"&ADDRESS($CX$8,CZ$14,1,,Служеб!$BM$4)","v":"[Протокол_Регион2018_1бой_впишиаудиторию.xlsm]Протокол!$I$93"},{"$f":"\"[\"&Служеб!$BK$4&\"]\"&ADDRESS($CX$8,DA$14,1,,Служеб!$BM$4)","v":"[Протокол_Регион2018_1бой_впишиаудиторию.xlsm]Протокол!$J$93"},{"$f":"\"[\"&Служеб!$BK$4&\"]\"&ADDRESS($CX$8,DB$14,1,,Служеб!$BM$4)","v":"[Протокол_Регион2018_1бой_впишиаудиторию.xlsm]Протокол!$K$93"},{"$f":"\"[\"&Служеб!$BK$4&\"]\"&ADDRESS($CX$8,DC$14,1,,Служеб!$BM$4)","v":"[Протокол_Регион2018_1бой_впишиаудиторию.xlsm]Протокол!$L$93"},{"$f":"\"[\"&Служеб!$BK$4&\"]\"&ADDRESS($CX$8,DD$14,1,,Служеб!$BM$4)","v":"[Протокол_Регион2018_1бой_впишиаудиторию.xlsm]Протокол!$M$93"},{"$f":"\"[\"&Служеб!$BK$4&\"]\"&ADDRESS($CX$8,DE$14,1,,Служеб!$BM$4)","v":"[Протокол_Регион2018_1бой_впишиаудиторию.xlsm]Протокол!$N$93"},{"$f":"\"[\"&Служеб!$BK$4&\"]\"&ADDRESS($CX$8,DF$14,1,,Служеб!$BM$4)","v":"[Протокол_Регион2018_1бой_впишиаудиторию.xlsm]Протокол!$O$93"},{"$f":"\"[\"&Служеб!$BK$4&\"]\"&ADDRESS($CX$8,DG$14,1,,Служеб!$BM$4)","v":"[Протокол_Регион2018_1бой_впишиаудиторию.xlsm]Протокол!$P$93"},{"$f":"\"[\"&Служеб!$BK$4&\"]\"&ADDRESS($CX$8,DH$14,1,,Служеб!$BM$4)","v":"[Протокол_Регион2018_1бой_впишиаудиторию.xlsm]Протокол!$Q$93"},{"$f":"\"[\"&Служеб!$BK$4&\"]\"&ADDRESS($CX$8,DI$14,1,,Служеб!$BM$4)","v":"[Протокол_Регион2018_1бой_впишиаудиторию.xlsm]Протокол!$R$93"},{"$f":"\"[\"&Служеб!$BK$4&\"]\"&ADDRESS($CX$8,DJ$14,1,,Служеб!$BM$4)","v":"[Протокол_Регион2018_1бой_впишиаудиторию.xlsm]Протокол!$S$93"},{"$f":"\"[\"&Служеб!$BK$4&\"]\"&ADDRESS($CX$8,DK$14,1,,Служеб!$BM$4)","v":"[Протокол_Регион2018_1бой_впишиаудиторию.xlsm]Протокол!$T$93"},{"$f":"\"[\"&Служеб!$BK$4&\"]\"&ADDRESS($CX$8,DL$14,1,,Служеб!$BM$4)","v":"[Протокол_Регион2018_1бой_впишиаудиторию.xlsm]Протокол!$U$93"},{"$f":"\"[\"&Служеб!$BK$4&\"]\"&ADDRESS($CX$8,DM$14,1,,Служеб!$BM$4)","v":"[Протокол_Регион2018_1бой_впишиаудиторию.xlsm]Протокол!$V$93"},{"$f":"\"[\"&Служеб!$BK$4&\"]\"&ADDRESS($CX$8,DN$14,1,,Служеб!$BM$4)","v":"[Протокол_Регион2018_1бой_впишиаудиторию.xlsm]Протокол!$W$93"},{"$f":"\"[\"&Служеб!$BK$4&\"]\"&ADDRESS($CX$8,DO$14,1,,Служеб!$BM$4)","v":"[Протокол_Регион2018_1бой_впишиаудиторию.xlsm]Протокол!$X$93"},{"$f":"\"[\"&Служеб!$BK$4&\"]\"&ADDRESS($CX$8,DP$14,1,,Служеб!$BM$4)","v":"[Протокол_Регион2018_1бой_впишиаудиторию.xlsm]Протокол!$Y$93"}]
[null,{"$f":"Протокол!F83","v":0},{"$f":"Протокол!D95","v":"Оппонент"},{"$f":"Протокол!E73","v":0},{"$f":"Протокол!E95","v":0},{"$f":"Протокол!H95","v":0},{"$f":"Протокол!I95","v":0},{"$f":"Протокол!J95","v":0},{"$f":"Протокол!K95","v":0},{"$f":"Протокол!L95","v":0},{"$f":"Протокол!M95","v":0},{"$f":"Протокол!N95","v":0},{"$f":"Протокол!O95","v":0},{"$f":"Протокол!P95","v":0},{"$f":"Протокол!Q95","v":0},{"$f":"Протокол!R95","v":0},{"$f":"Протокол!S95","v":0},{"$f":"Протокол!T95","v":0},{"$f":"Протокол!U95","v":0},{"$f":"Протокол!V95","v":0},{"$f":"Протокол!W95","v":0},{"$f":"Протокол!X95","v":0},{"$f":"Протокол!Y95","v":0},{"$f":"Протокол!H96","v":0},{"$f":"Протокол!I96","v":0},{"$f":"Протокол!J96","v":0},{"$f":"Протокол!K96","v":0},{"$f":"Протокол!L96","v":0},{"$f":"Протокол!M96","v":0},{"$f":"Протокол!N96","v":0},{"$f":"Протокол!O96","v":0},{"$f":"Протокол!P96","v":0},{"$f":"Протокол!Q96","v":0},{"$f":"Протокол!R96","v":0},{"$f":"Протокол!S96","v":0},{"$f":"Протокол!T96","v":0},{"$f":"Протокол!U96","v":0},{"$f":"Протокол!V96","v":0},{"$f":"Протокол!W96","v":0},{"$f":"Протокол!X96","v":0},{"$f":"Протокол!Y96","v":0},null,null,null,null,null,null,null,null,null,null,null,null,null,null,null,null,null,null,null,null,null,null,{"$f":"ROW(Протокол!H95)","v":95},{"$f":"\"[\"&Служеб!$BK$4&\"]\"&ADDRESS($BL$9,BM$14,1,,Служеб!$BM$4)","v":"[Протокол_Регион2018_1бой_впишиаудиторию.xlsm]Протокол!$H$95"},{"$f":"\"[\"&Служеб!$BK$4&\"]\"&ADDRESS($BL$9,BN$14,1,,Служеб!$BM$4)","v":"[Протокол_Регион2018_1бой_впишиаудиторию.xlsm]Протокол!$I$95"},{"$f":"\"[\"&Служеб!$BK$4&\"]\"&ADDRESS($BL$9,BO$14,1,,Служеб!$BM$4)","v":"[Протокол_Регион2018_1бой_впишиаудиторию.xlsm]Протокол!$J$95"},{"$f":"\"[\"&Служеб!$BK$4&\"]\"&ADDRESS($BL$9,BP$14,1,,Служеб!$BM$4)","v":"[Протокол_Регион2018_1бой_впишиаудиторию.xlsm]Протокол!$K$95"},{"$f":"\"[\"&Служеб!$BK$4&\"]\"&ADDRESS($BL$9,BQ$14,1,,Служеб!$BM$4)","v":"[Протокол_Регион2018_1бой_впишиаудиторию.xlsm]Протокол!$L$95"},{"$f":"\"[\"&Служеб!$BK$4&\"]\"&ADDRESS($BL$9,BR$14,1,,Служеб!$BM$4)","v":"[Протокол_Регион2018_1бой_впишиаудиторию.xlsm]Протокол!$M$95"},{"$f":"\"[\"&Служеб!$BK$4&\"]\"&ADDRESS($BL$9,BS$14,1,,Служеб!$BM$4)","v":"[Протокол_Регион2018_1бой_впишиаудиторию.xlsm]Протокол!$N$95"},{"$f":"\"[\"&Служеб!$BK$4&\"]\"&ADDRESS($BL$9,BT$14,1,,Служеб!$BM$4)","v":"[Протокол_Регион2018_1бой_впишиаудиторию.xlsm]Протокол!$O$95"},{"$f":"\"[\"&Служеб!$BK$4&\"]\"&ADDRESS($BL$9,BU$14,1,,Служеб!$BM$4)","v":"[Протокол_Регион2018_1бой_впишиаудиторию.xlsm]Протокол!$P$95"},{"$f":"\"[\"&Служеб!$BK$4&\"]\"&ADDRESS($BL$9,BV$14,1,,Служеб!$BM$4)","v":"[Протокол_Регион2018_1бой_впишиаудиторию.xlsm]Протокол!$Q$95"},{"$f":"\"[\"&Служеб!$BK$4&\"]\"&ADDRESS($BL$9,BW$14,1,,Служеб!$BM$4)","v":"[Протокол_Регион2018_1бой_впишиаудиторию.xlsm]Протокол!$R$95"},{"$f":"\"[\"&Служеб!$BK$4&\"]\"&ADDRESS($BL$9,BX$14,1,,Служеб!$BM$4)","v":"[Протокол_Регион2018_1бой_впишиаудиторию.xlsm]Протокол!$S$95"},{"$f":"\"[\"&Служеб!$BK$4&\"]\"&ADDRESS($BL$9,BY$14,1,,Служеб!$BM$4)","v":"[Протокол_Регион2018_1бой_впишиаудиторию.xlsm]Протокол!$T$95"},{"$f":"\"[\"&Служеб!$BK$4&\"]\"&ADDRESS($BL$9,BZ$14,1,,Служеб!$BM$4)","v":"[Протокол_Регион2018_1бой_впишиаудиторию.xlsm]Протокол!$U$95"},{"$f":"\"[\"&Служеб!$BK$4&\"]\"&ADDRESS($BL$9,CA$14,1,,Служеб!$BM$4)","v":"[Протокол_Регион2018_1бой_впишиаудиторию.xlsm]Протокол!$V$95"},{"$f":"\"[\"&Служеб!$BK$4&\"]\"&ADDRESS($BL$9,CB$14,1,,Служеб!$BM$4)","v":"[Протокол_Регион2018_1бой_впишиаудиторию.xlsm]Протокол!$W$95"},{"$f":"\"[\"&Служеб!$BK$4&\"]\"&ADDRESS($BL$9,CC$14,1,,Служеб!$BM$4)","v":"[Протокол_Регион2018_1бой_впишиаудиторию.xlsm]Протокол!$X$95"},{"$f":"\"[\"&Служеб!$BK$4&\"]\"&ADDRESS($BL$9,CD$14,1,,Служеб!$BM$4)","v":"[Протокол_Регион2018_1бой_впишиаудиторию.xlsm]Протокол!$Y$95"},{"$f":"ROW(Протокол!H96)","v":96},{"$f":"\"[\"&Служеб!$BK$4&\"]\"&ADDRESS($CE$9,CF$14,1,,Служеб!$BM$4)","v":"[Протокол_Регион2018_1бой_впишиаудиторию.xlsm]Протокол!$H$96"},{"$f":"\"[\"&Служеб!$BK$4&\"]\"&ADDRESS($CE$9,CG$14,1,,Служеб!$BM$4)","v":"[Протокол_Регион2018_1бой_впишиаудиторию.xlsm]Протокол!$I$96"},{"$f":"\"[\"&Служеб!$BK$4&\"]\"&ADDRESS($CE$9,CH$14,1,,Служеб!$BM$4)","v":"[Протокол_Регион2018_1бой_впишиаудиторию.xlsm]Протокол!$J$96"},{"$f":"\"[\"&Служеб!$BK$4&\"]\"&ADDRESS($CE$9,CI$14,1,,Служеб!$BM$4)","v":"[Протокол_Регион2018_1бой_впишиаудиторию.xlsm]Протокол!$K$96"},{"$f":"\"[\"&Служеб!$BK$4&\"]\"&ADDRESS($CE$9,CJ$14,1,,Служеб!$BM$4)","v":"[Протокол_Регион2018_1бой_впишиаудиторию.xlsm]Протокол!$L$96"},{"$f":"\"[\"&Служеб!$BK$4&\"]\"&ADDRESS($CE$9,CK$14,1,,Служеб!$BM$4)","v":"[Протокол_Регион2018_1бой_впишиаудиторию.xlsm]Протокол!$M$96"},{"$f":"\"[\"&Служеб!$BK$4&\"]\"&ADDRESS($CE$9,CL$14,1,,Служеб!$BM$4)","v":"[Протокол_Регион2018_1бой_впишиаудиторию.xlsm]Протокол!$N$96"},{"$f":"\"[\"&Служеб!$BK$4&\"]\"&ADDRESS($CE$9,CM$14,1,,Служеб!$BM$4)","v":"[Протокол_Регион2018_1бой_впишиаудиторию.xlsm]Протокол!$O$96"},{"$f":"\"[\"&Служеб!$BK$4&\"]\"&ADDRESS($CE$9,CN$14,1,,Служеб!$BM$4)","v":"[Протокол_Регион2018_1бой_впишиаудиторию.xlsm]Протокол!$P$96"},{"$f":"\"[\"&Служеб!$BK$4&\"]\"&ADDRESS($CE$9,CO$14,1,,Служеб!$BM$4)","v":"[Протокол_Регион2018_1бой_впишиаудиторию.xlsm]Протокол!$Q$96"},{"$f":"\"[\"&Служеб!$BK$4&\"]\"&ADDRESS($CE$9,CP$14,1,,Служеб!$BM$4)","v":"[Протокол_Регион2018_1бой_впишиаудиторию.xlsm]Протокол!$R$96"},{"$f":"\"[\"&Служеб!$BK$4&\"]\"&ADDRESS($CE$9,CQ$14,1,,Служеб!$BM$4)","v":"[Протокол_Регион2018_1бой_впишиаудиторию.xlsm]Протокол!$S$96"},{"$f":"\"[\"&Служеб!$BK$4&\"]\"&ADDRESS($CE$9,CR$14,1,,Служеб!$BM$4)","v":"[Протокол_Регион2018_1бой_впишиаудиторию.xlsm]Протокол!$T$96"},{"$f":"\"[\"&Служеб!$BK$4&\"]\"&ADDRESS($CE$9,CS$14,1,,Служеб!$BM$4)","v":"[Протокол_Регион2018_1бой_впишиаудиторию.xlsm]Протокол!$U$96"},{"$f":"\"[\"&Служеб!$BK$4&\"]\"&ADDRESS($CE$9,CT$14,1,,Служеб!$BM$4)","v":"[Протокол_Регион2018_1бой_впишиаудиторию.xlsm]Протокол!$V$96"},{"$f":"\"[\"&Служеб!$BK$4&\"]\"&ADDRESS($CE$9,CU$14,1,,Служеб!$BM$4)","v":"[Протокол_Регион2018_1бой_впишиаудиторию.xlsm]Протокол!$W$96"},{"$f":"\"[\"&Служеб!$BK$4&\"]\"&ADDRESS($CE$9,CV$14,1,,Служеб!$BM$4)","v":"[Протокол_Регион2018_1бой_впишиаудиторию.xlsm]Протокол!$X$96"},{"$f":"\"[\"&Служеб!$BK$4&\"]\"&ADDRESS($CE$9,CW$14,1,,Служеб!$BM$4)","v":"[Протокол_Регион2018_1бой_впишиаудиторию.xlsm]Протокол!$Y$96"}]
[null,{"$f":"Протокол!F83","v":0},{"$f":"Протокол!D98","v":"Рецензент"},{"$f":"Протокол!E74","v":0},{"$f":"Протокол!E98","v":0},{"$f":"Протокол!H98","v":0},{"$f":"Протокол!I98","v":0},{"$f":"Протокол!J98","v":0},{"$f":"Протокол!K98","v":0},{"$f":"Протокол!L98","v":0},{"$f":"Протокол!M98","v":0},{"$f":"Протокол!N98","v":0},{"$f":"Протокол!O98","v":0},{"$f":"Протокол!P98","v":0},{"$f":"Протокол!Q98","v":0},{"$f":"Протокол!R98","v":0},{"$f":"Протокол!S98","v":0},{"$f":"Протокол!T98","v":0},{"$f":"Протокол!U98","v":0},{"$f":"Протокол!V98","v":0},{"$f":"Протокол!W98","v":0},{"$f":"Протокол!X98","v":0},{"$f":"Протокол!Y98","v":0},null,null,null,null,null,null,null,null,null,null,null,null,null,null,null,null,null,null,null,null,null,null,null,null,null,null,null,null,null,null,null,null,null,null,null,null,null,null,null,null,{"$f":"ROW(Протокол!H98)","v":98},{"$f":"\"[\"&Служеб!$BK$4&\"]\"&ADDRESS($BL$10,BM$14,1,,Служеб!$BM$4)","v":"[Протокол_Регион2018_1бой_впишиаудиторию.xlsm]Протокол!$H$98"},{"$f":"\"[\"&Служеб!$BK$4&\"]\"&ADDRESS($BL$10,BN$14,1,,Служеб!$BM$4)","v":"[Протокол_Регион2018_1бой_впишиаудиторию.xlsm]Протокол!$I$98"},{"$f":"\"[\"&Служеб!$BK$4&\"]\"&ADDRESS($BL$10,BO$14,1,,Служеб!$BM$4)","v":"[Протокол_Регион2018_1бой_впишиаудиторию.xlsm]Протокол!$J$98"},{"$f":"\"[\"&Служеб!$BK$4&\"]\"&ADDRESS($BL$10,BP$14,1,,Служеб!$BM$4)","v":"[Протокол_Регион2018_1бой_впишиаудиторию.xlsm]Протокол!$K$98"},{"$f":"\"[\"&Служеб!$BK$4&\"]\"&ADDRESS($BL$10,BQ$14,1,,Служеб!$BM$4)","v":"[Протокол_Регион2018_1бой_впишиаудиторию.xlsm]Протокол!$L$98"},{"$f":"\"[\"&Служеб!$BK$4&\"]\"&ADDRESS($BL$10,BR$14,1,,Служеб!$BM$4)","v":"[Протокол_Регион2018_1бой_впишиаудиторию.xlsm]Протокол!$M$98"},{"$f":"\"[\"&Служеб!$BK$4&\"]\"&ADDRESS($BL$10,BS$14,1,,Служеб!$BM$4)","v":"[Протокол_Регион2018_1бой_впишиаудиторию.xlsm]Протокол!$N$98"},{"$f":"\"[\"&Служеб!$BK$4&\"]\"&ADDRESS($BL$10,BT$14,1,,Служеб!$BM$4)","v":"[Протокол_Регион2018_1бой_впишиаудиторию.xlsm]Протокол!$O$98"},{"$f":"\"[\"&Служеб!$BK$4&\"]\"&ADDRESS($BL$10,BU$14,1,,Служеб!$BM$4)","v":"[Протокол_Регион2018_1бой_впишиаудиторию.xlsm]Протокол!$P$98"},{"$f":"\"[\"&Служеб!$BK$4&\"]\"&ADDRESS($BL$10,BV$14,1,,Служеб!$BM$4)","v":"[Протокол_Регион2018_1бой_впишиаудиторию.xlsm]Протокол!$Q$98"},{"$f":"\"[\"&Служеб!$BK$4&\"]\"&ADDRESS($BL$10,BW$14,1,,Служеб!$BM$4)","v":"[Протокол_Регион2018_1бой_впишиаудиторию.xlsm]Протокол!$R$98"},{"$f":"\"[\"&Служеб!$BK$4&\"]\"&ADDRESS($BL$10,BX$14,1,,Служеб!$BM$4)","v":"[Протокол_Регион2018_1бой_впишиаудиторию.xlsm]Протокол!$S$98"},{"$f":"\"[\"&Служеб!$BK$4&\"]\"&ADDRESS($BL$10,BY$14,1,,Служеб!$BM$4)","v":"[Протокол_Регион2018_1бой_впишиаудиторию.xlsm]Протокол!$T$98"},{"$f":"\"[\"&Служеб!$BK$4&\"]\"&ADDRESS($BL$10,BZ$14,1,,Служеб!$BM$4)","v":"[Протокол_Регион2018_1бой_впишиаудиторию.xlsm]Протокол!$U$98"},{"$f":"\"[\"&Служеб!$BK$4&\"]\"&ADDRESS($BL$10,CA$14,1,,Служеб!$BM$4)","v":"[Протокол_Регион2018_1бой_впишиаудиторию.xlsm]Протокол!$V$98"},{"$f":"\"[\"&Служеб!$BK$4&\"]\"&ADDRESS($BL$10,CB$14,1,,Служеб!$BM$4)","v":"[Протокол_Регион2018_1бой_впишиаудиторию.xlsm]Протокол!$W$98"},{"$f":"\"[\"&Служеб!$BK$4&\"]\"&ADDRESS($BL$10,CC$14,1,,Служеб!$BM$4)","v":"[Протокол_Регион2018_1бой_впишиаудиторию.xlsm]Протокол!$X$98"},{"$f":"\"[\"&Служеб!$BK$4&\"]\"&ADDRESS($BL$10,CD$14,1,,Служеб!$BM$4)","v":"[Протокол_Регион2018_1бой_впишиаудиторию.xlsm]Протокол!$Y$98"}]
[null,{"$f":"Протокол!F117","v":0},{"$f":"Протокол!D125","v":"Докладчик"},{"$f":"Протокол!E106","v":0},{"$f":"Протокол!E125","v":0},{"$f":"Протокол!H125","v":0},{"$f":"Протокол!I125","v":0},{"$f":"Протокол!J125","v":0},{"$f":"Протокол!K125","v":0},{"$f":"Протокол!L125","v":0},{"$f":"Протокол!M125","v":0},{"$f":"Протокол!N125","v":0},{"$f":"Протокол!O125","v":0},{"$f":"Протокол!P125","v":0},{"$f":"Протокол!Q125","v":0},{"$f":"Протокол!R125","v":0},{"$f":"Протокол!S125","v":0},{"$f":"Протокол!T125","v":0},{"$f":"Протокол!U125","v":0},{"$f":"Протокол!V125","v":0},{"$f":"Протокол!W125","v":0},{"$f":"Протокол!X125","v":0},{"$f":"Протокол!Y125","v":0},{"$f":"Протокол!H126","v":0},{"$f":"Протокол!I126","v":0},{"$f":"Протокол!J126","v":0},{"$f":"Протокол!K126","v":0},{"$f":"Протокол!L126","v":0},{"$f":"Протокол!M126","v":0},{"$f":"Протокол!N126","v":0},{"$f":"Протокол!O126","v":0},{"$f":"Протокол!P126","v":0},{"$f":"Протокол!Q126","v":0},{"$f":"Протокол!R126","v":0},{"$f":"Протокол!S126","v":0},{"$f":"Протокол!T126","v":0},{"$f":"Протокол!U126","v":0},{"$f":"Протокол!V126","v":0},{"$f":"Протокол!W126","v":0},{"$f":"Протокол!X126","v":0},{"$f":"Протокол!Y126","v":0},{"$f":"Протокол!H127","v":0},{"$f":"Протокол!I127","v":0},{"$f":"Протокол!J127","v":0},{"$f":"Протокол!K127","v":0},{"$f":"Протокол!L127","v":0},{"$f":"Протокол!M127","v":0},{"$f":"Протокол!N127","v":0},{"$f":"Протокол!O127","v":0},{"$f":"Протокол!P127","v":0},{"$f":"Протокол!Q127","v":0},{"$f":"Протокол!R127","v":0},{"$f":"Протокол!S127","v":0},{"$f":"Протокол!T127","v":0},{"$f":"Протокол!U127","v":0},{"$f":"Протокол!V127","v":0},{"$f":"Протокол!W127","v":0},{"$f":"Протокол!X127","v":0},{"$f":"Протокол!Y127","v":0},null,null,null,null,{"$f":"ROW(Протокол!H125)","v":125},{"$f":"\"[\"&Служеб!$BK$4&\"]\"&ADDRESS($BL$11,BM$14,1,,Служеб!$BM$4)","v":"[Протокол_Регион2018_1бой_впишиаудиторию.xlsm]Протокол!$H$125"},{"$f":"\"[\"&Служеб!$BK$4&\"]\"&ADDRESS($BL$11,BN$14,1,,Служеб!$BM$4)","v":"[Протокол_Регион2018_1бой_впишиаудиторию.xlsm]Протокол!$I$125"},{"$f":"\"[\"&Служеб!$BK$4&\"]\"&ADDRESS($BL$11,BO$14,1,,Служеб!$BM$4)","v":"[Протокол_Регион2018_1бой_впишиаудиторию.xlsm]Протокол!$J$125"},{"$f":"\"[\"&Служеб!$BK$4&\"]\"&ADDRESS($BL$11,BP$14,1,,Служеб!$BM$4)","v":"[Протокол_Регион2018_1бой_впишиаудиторию.xlsm]Протокол!$K$125"},{"$f":"\"[\"&Служеб!$BK$4&\"]\"&ADDRESS($BL$11,BQ$14,1,,Служеб!$BM$4)","v":"[Протокол_Регион2018_1бой_впишиаудиторию.xlsm]Протокол!$L$125"},{"$f":"\"[\"&Служеб!$BK$4&\"]\"&ADDRESS($BL$11,BR$14,1,,Служеб!$BM$4)","v":"[Протокол_Регион2018_1бой_впишиаудиторию.xlsm]Протокол!$M$125"},{"$f":"\"[\"&Служеб!$BK$4&\"]\"&ADDRESS($BL$11,BS$14,1,,Служеб!$BM$4)","v":"[Протокол_Регион2018_1бой_впишиаудиторию.xlsm]Протокол!$N$125"},{"$f":"\"[\"&Служеб!$BK$4&\"]\"&ADDRESS($BL$11,BT$14,1,,Служеб!$BM$4)","v":"[Протокол_Регион2018_1бой_впишиаудиторию.xlsm]Протокол!$O$125"},{"$f":"\"[\"&Служеб!$BK$4&\"]\"&ADDRESS($BL$11,BU$14,1,,Служеб!$BM$4)","v":"[Протокол_Регион2018_1бой_впишиаудиторию.xlsm]Протокол!$P$125"},{"$f":"\"[\"&Служеб!$BK$4&\"]\"&ADDRESS($BL$11,BV$14,1,,Служеб!$BM$4)","v":"[Протокол_Регион2018_1бой_впишиаудиторию.xlsm]Протокол!$Q$125"},{"$f":"\"[\"&Служеб!$BK$4&\"]\"&ADDRESS($BL$11,BW$14,1,,Служеб!$BM$4)","v":"[Протокол_Регион2018_1бой_впишиаудиторию.xlsm]Протокол!$R$125"},{"$f":"\"[\"&Служеб!$BK$4&\"]\"&ADDRESS($BL$11,BX$14,1,,Служеб!$BM$4)","v":"[Протокол_Регион2018_1бой_впишиаудиторию.xlsm]Протокол!$S$125"},{"$f":"\"[\"&Служеб!$BK$4&\"]\"&ADDRESS($BL$11,BY$14,1,,Служеб!$BM$4)","v":"[Протокол_Регион2018_1бой_впишиаудиторию.xlsm]Протокол!$T$125"},{"$f":"\"[\"&Служеб!$BK$4&\"]\"&ADDRESS($BL$11,BZ$14,1,,Служеб!$BM$4)","v":"[Протокол_Регион2018_1бой_впишиаудиторию.xlsm]Протокол!$U$125"},{"$f":"\"[\"&Служеб!$BK$4&\"]\"&ADDRESS($BL$11,CA$14,1,,Служеб!$BM$4)","v":"[Протокол_Регион2018_1бой_впишиаудиторию.xlsm]Протокол!$V$125"},{"$f":"\"[\"&Служеб!$BK$4&\"]\"&ADDRESS($BL$11,CB$14,1,,Служеб!$BM$4)","v":"[Протокол_Регион2018_1бой_впишиаудиторию.xlsm]Протокол!$W$125"},{"$f":"\"[\"&Служеб!$BK$4&\"]\"&ADDRESS($BL$11,CC$14,1,,Служеб!$BM$4)","v":"[Протокол_Регион2018_1бой_впишиаудиторию.xlsm]Протокол!$X$125"},{"$f":"\"[\"&Служеб!$BK$4&\"]\"&ADDRESS($BL$11,CD$14,1,,Служеб!$BM$4)","v":"[Протокол_Регион2018_1бой_впишиаудиторию.xlsm]Протокол!$Y$125"},{"$f":"ROW(Протокол!H126)","v":126},{"$f":"\"[\"&Служеб!$BK$4&\"]\"&ADDRESS($CE$11,CF$14,1,,Служеб!$BM$4)","v":"[Протокол_Регион2018_1бой_впишиаудиторию.xlsm]Протокол!$H$126"},{"$f":"\"[\"&Служеб!$BK$4&\"]\"&ADDRESS($CE$11,CG$14,1,,Служеб!$BM$4)","v":"[Протокол_Регион2018_1бой_впишиаудиторию.xlsm]Протокол!$I$126"},{"$f":"\"[\"&Служеб!$BK$4&\"]\"&ADDRESS($CE$11,CH$14,1,,Служеб!$BM$4)","v":"[Протокол_Регион2018_1бой_впишиаудиторию.xlsm]Протокол!$J$126"},{"$f":"\"[\"&Служеб!$BK$4&\"]\"&ADDRESS($CE$11,CI$14,1,,Служеб!$BM$4)","v":"[Протокол_Регион2018_1бой_впишиаудиторию.xlsm]Протокол!$K$126"},{"$f":"\"[\"&Служеб!$BK$4&\"]\"&ADDRESS($CE$11,CJ$14,1,,Служеб!$BM$4)","v":"[Протокол_Регион2018_1бой_впишиаудиторию.xlsm]Протокол!$L$126"},{"$f":"\"[\"&Служеб!$BK$4&\"]\"&ADDRESS($CE$11,CK$14,1,,Служеб!$BM$4)","v":"[Протокол_Регион2018_1бой_впишиаудиторию.xlsm]Протокол!$M$126"},{"$f":"\"[\"&Служеб!$BK$4&\"]\"&ADDRESS($CE$11,CL$14,1,,Служеб!$BM$4)","v":"[Протокол_Регион2018_1бой_впишиаудиторию.xlsm]Протокол!$N$126"},{"$f":"\"[\"&Служеб!$BK$4&\"]\"&ADDRESS($CE$11,CM$14,1,,Служеб!$BM$4)","v":"[Протокол_Регион2018_1бой_впишиаудиторию.xlsm]Протокол!$O$126"},{"$f":"\"[\"&Служеб!$BK$4&\"]\"&ADDRESS($CE$11,CN$14,1,,Служеб!$BM$4)","v":"[Протокол_Регион2018_1бой_впишиаудиторию.xlsm]Протокол!$P$126"},{"$f":"\"[\"&Служеб!$BK$4&\"]\"&ADDRESS($CE$11,CO$14,1,,Служеб!$BM$4)","v":"[Протокол_Регион2018_1бой_впишиаудиторию.xlsm]Протокол!$Q$126"},{"$f":"\"[\"&Служеб!$BK$4&\"]\"&ADDRESS($CE$11,CP$14,1,,Служеб!$BM$4)","v":"[Протокол_Регион2018_1бой_впишиаудиторию.xlsm]Протокол!$R$126"},{"$f":"\"[\"&Служеб!$BK$4&\"]\"&ADDRESS($CE$11,CQ$14,1,,Служеб!$BM$4)","v":"[Протокол_Регион2018_1бой_впишиаудиторию.xlsm]Протокол!$S$126"},{"$f":"\"[\"&Служеб!$BK$4&\"]\"&ADDRESS($CE$11,CR$14,1,,Служеб!$BM$4)","v":"[Протокол_Регион2018_1бой_впишиаудиторию.xlsm]Протокол!$T$126"},{"$f":"\"[\"&Служеб!$BK$4&\"]\"&ADDRESS($CE$11,CS$14,1,,Служеб!$BM$4)","v":"[Протокол_Регион2018_1бой_впишиаудиторию.xlsm]Протокол!$U$126"},{"$f":"\"[\"&Служеб!$BK$4&\"]\"&ADDRESS($CE$11,CT$14,1,,Служеб!$BM$4)","v":"[Протокол_Регион2018_1бой_впишиаудиторию.xlsm]Протокол!$V$126"},{"$f":"\"[\"&Служеб!$BK$4&\"]\"&ADDRESS($CE$11,CU$14,1,,Служеб!$BM$4)","v":"[Протокол_Регион2018_1бой_впишиаудиторию.xlsm]Протокол!$W$126"},{"$f":"\"[\"&Служеб!$BK$4&\"]\"&ADDRESS($CE$11,CV$14,1,,Служеб!$BM$4)","v":"[Протокол_Регион2018_1бой_впишиаудиторию.xlsm]Протокол!$X$126"},{"$f":"\"[\"&Служеб!$BK$4&\"]\"&ADDRESS($CE$11,CW$14,1,,Служеб!$BM$4)","v":"[Протокол_Регион2018_1бой_впишиаудиторию.xlsm]Протокол!$Y$126"},{"$f":"ROW(Протокол!H127)","v":127},{"$f":"\"[\"&Служеб!$BK$4&\"]\"&ADDRESS($CX$11,CY$14,1,,Служеб!$BM$4)","v":"[Протокол_Регион2018_1бой_впишиаудиторию.xlsm]Протокол!$H$127"},{"$f":"\"[\"&Служеб!$BK$4&\"]\"&ADDRESS($CX$11,CZ$14,1,,Служеб!$BM$4)","v":"[Протокол_Регион2018_1бой_впишиаудиторию.xlsm]Протокол!$I$127"},{"$f":"\"[\"&Служеб!$BK$4&\"]\"&ADDRESS($CX$11,DA$14,1,,Служеб!$BM$4)","v":"[Протокол_Регион2018_1бой_впишиаудиторию.xlsm]Протокол!$J$127"},{"$f":"\"[\"&Служеб!$BK$4&\"]\"&ADDRESS($CX$11,DB$14,1,,Служеб!$BM$4)","v":"[Протокол_Регион2018_1бой_впишиаудиторию.xlsm]Протокол!$K$127"},{"$f":"\"[\"&Служеб!$BK$4&\"]\"&ADDRESS($CX$11,DC$14,1,,Служеб!$BM$4)","v":"[Протокол_Регион2018_1бой_впишиаудиторию.xlsm]Протокол!$L$127"},{"$f":"\"[\"&Служеб!$BK$4&\"]\"&ADDRESS($CX$11,DD$14,1,,Служеб!$BM$4)","v":"[Протокол_Регион2018_1бой_впишиаудиторию.xlsm]Протокол!$M$127"},{"$f":"\"[\"&Служеб!$BK$4&\"]\"&ADDRESS($CX$11,DE$14,1,,Служеб!$BM$4)","v":"[Протокол_Регион2018_1бой_впишиаудиторию.xlsm]Протокол!$N$127"},{"$f":"\"[\"&Служеб!$BK$4&\"]\"&ADDRESS($CX$11,DF$14,1,,Служеб!$BM$4)","v":"[Протокол_Регион2018_1бой_впишиаудиторию.xlsm]Протокол!$O$127"},{"$f":"\"[\"&Служеб!$BK$4&\"]\"&ADDRESS($CX$11,DG$14,1,,Служеб!$BM$4)","v":"[Протокол_Регион2018_1бой_впишиаудиторию.xlsm]Протокол!$P$127"},{"$f":"\"[\"&Служеб!$BK$4&\"]\"&ADDRESS($CX$11,DH$14,1,,Служеб!$BM$4)","v":"[Протокол_Регион2018_1бой_впишиаудиторию.xlsm]Протокол!$Q$127"},{"$f":"\"[\"&Служеб!$BK$4&\"]\"&ADDRESS($CX$11,DI$14,1,,Служеб!$BM$4)","v":"[Протокол_Регион2018_1бой_впишиаудиторию.xlsm]Протокол!$R$127"},{"$f":"\"[\"&Служеб!$BK$4&\"]\"&ADDRESS($CX$11,DJ$14,1,,Служеб!$BM$4)","v":"[Протокол_Регион2018_1бой_впишиаудиторию.xlsm]Протокол!$S$127"},{"$f":"\"[\"&Служеб!$BK$4&\"]\"&ADDRESS($CX$11,DK$14,1,,Служеб!$BM$4)","v":"[Протокол_Регион2018_1бой_впишиаудиторию.xlsm]Протокол!$T$127"},{"$f":"\"[\"&Служеб!$BK$4&\"]\"&ADDRESS($CX$11,DL$14,1,,Служеб!$BM$4)","v":"[Протокол_Регион2018_1бой_впишиаудиторию.xlsm]Протокол!$U$127"},{"$f":"\"[\"&Служеб!$BK$4&\"]\"&ADDRESS($CX$11,DM$14,1,,Служеб!$BM$4)","v":"[Протокол_Регион2018_1бой_впишиаудиторию.xlsm]Протокол!$V$127"},{"$f":"\"[\"&Служеб!$BK$4&\"]\"&ADDRESS($CX$11,DN$14,1,,Служеб!$BM$4)","v":"[Протокол_Регион2018_1бой_впишиаудиторию.xlsm]Протокол!$W$127"},{"$f":"\"[\"&Служеб!$BK$4&\"]\"&ADDRESS($CX$11,DO$14,1,,Служеб!$BM$4)","v":"[Протокол_Регион2018_1бой_впишиаудиторию.xlsm]Протокол!$X$127"},{"$f":"\"[\"&Служеб!$BK$4&\"]\"&ADDRESS($CX$11,DP$14,1,,Служеб!$BM$4)","v":"[Протокол_Регион2018_1бой_впишиаудиторию.xlsm]Протокол!$Y$127"}]
[null,{"$f":"Протокол!F117","v":0},{"$f":"Протокол!D129","v":"Оппонент"},{"$f":"Протокол!E107","v":0},{"$f":"Протокол!E129","v":0},{"$f":"Протокол!H129","v":0},{"$f":"Протокол!I129","v":0},{"$f":"Протокол!J129","v":0},{"$f":"Протокол!K129","v":0},{"$f":"Протокол!L129","v":0},{"$f":"Протокол!M129","v":0},{"$f":"Протокол!N129","v":0},{"$f":"Протокол!O129","v":0},{"$f":"Протокол!P129","v":0},{"$f":"Протокол!Q129","v":0},{"$f":"Протокол!R129","v":0},{"$f":"Протокол!S129","v":0},{"$f":"Протокол!T129","v":0},{"$f":"Протокол!U129","v":0},{"$f":"Протокол!V129","v":0},{"$f":"Протокол!W129","v":0},{"$f":"Протокол!X129","v":0},{"$f":"Протокол!Y129","v":0},{"$f":"Протокол!H130","v":0},{"$f":"Протокол!I130","v":0},{"$f":"Протокол!J130","v":0},{"$f":"Протокол!K130","v":0},{"$f":"Протокол!L130","v":0},{"$f":"Протокол!M130","v":0},{"$f":"Протокол!N130","v":0},{"$f":"Протокол!O130","v":0},{"$f":"Протокол!P130","v":0},{"$f":"Протокол!Q130","v":0},{"$f":"Протокол!R130","v":0},{"$f":"Протокол!S130","v":0},{"$f":"Протокол!T130","v":0},{"$f":"Протокол!U130","v":0},{"$f":"Протокол!V130","v":0},{"$f":"Протокол!W130","v":0},{"$f":"Протокол!X130","v":0},{"$f":"Протокол!Y130","v":0},null,null,null,null,null,null,null,null,null,null,null,null,null,null,null,null,null,null,null,null,null,null,{"$f":"ROW(Протокол!H129)","v":129},{"$f":"\"[\"&Служеб!$BK$4&\"]\"&ADDRESS($BL$12,BM$14,1,,Служеб!$BM$4)","v":"[Протокол_Регион2018_1бой_впишиаудиторию.xlsm]Протокол!$H$129"},{"$f":"\"[\"&Служеб!$BK$4&\"]\"&ADDRESS($BL$12,BN$14,1,,Служеб!$BM$4)","v":"[Протокол_Регион2018_1бой_впишиаудиторию.xlsm]Протокол!$I$129"},{"$f":"\"[\"&Служеб!$BK$4&\"]\"&ADDRESS($BL$12,BO$14,1,,Служеб!$BM$4)","v":"[Протокол_Регион2018_1бой_впишиаудиторию.xlsm]Протокол!$J$129"},{"$f":"\"[\"&Служеб!$BK$4&\"]\"&ADDRESS($BL$12,BP$14,1,,Служеб!$BM$4)","v":"[Протокол_Регион2018_1бой_впишиаудиторию.xlsm]Протокол!$K$129"},{"$f":"\"[\"&Служеб!$BK$4&\"]\"&ADDRESS($BL$12,BQ$14,1,,Служеб!$BM$4)","v":"[Протокол_Регион2018_1бой_впишиаудиторию.xlsm]Протокол!$L$129"},{"$f":"\"[\"&Служеб!$BK$4&\"]\"&ADDRESS($BL$12,BR$14,1,,Служеб!$BM$4)","v":"[Протокол_Регион2018_1бой_впишиаудиторию.xlsm]Протокол!$M$129"},{"$f":"\"[\"&Служеб!$BK$4&\"]\"&ADDRESS($BL$12,BS$14,1,,Служеб!$BM$4)","v":"[Протокол_Регион2018_1бой_впишиаудиторию.xlsm]Протокол!$N$129"},{"$f":"\"[\"&Служеб!$BK$4&\"]\"&ADDRESS($BL$12,BT$14,1,,Служеб!$BM$4)","v":"[Протокол_Регион2018_1бой_впишиаудиторию.xlsm]Протокол!$O$129"},{"$f":"\"[\"&Служеб!$BK$4&\"]\"&ADDRESS($BL$12,BU$14,1,,Служеб!$BM$4)","v":"[Протокол_Регион2018_1бой_впишиаудиторию.xlsm]Протокол!$P$129"},{"$f":"\"[\"&Служеб!$BK$4&\"]\"&ADDRESS($BL$12,BV$14,1,,Служеб!$BM$4)","v":"[Протокол_Регион2018_1бой_впишиаудиторию.xlsm]Протокол!$Q$129"},{"$f":"\"[\"&Служеб!$BK$4&\"]\"&ADDRESS($BL$12,BW$14,1,,Служеб!$BM$4)","v":"[Протокол_Регион2018_1бой_впишиаудиторию.xlsm]Протокол!$R$129"},{"$f":"\"[\"&Служеб!$BK$4&\"]\"&ADDRESS($BL$12,BX$14,1,,Служеб!$BM$4)","v":"[Протокол_Регион2018_1бой_впишиаудиторию.xlsm]Протокол!$S$129"},{"$f":"\"[\"&Служеб!$BK$4&\"]\"&ADDRESS($BL$12,BY$14,1,,Служеб!$BM$4)","v":"[Протокол_Регион2018_1бой_впишиаудиторию.xlsm]Протокол!$T$129"},{"$f":"\"[\"&Служеб!$BK$4&\"]\"&ADDRESS($BL$12,BZ$14,1,,Служеб!$BM$4)","v":"[Протокол_Регион2018_1бой_впишиаудиторию.xlsm]Протокол!$U$129"},{"$f":"\"[\"&Служеб!$BK$4&\"]\"&ADDRESS($BL$12,CA$14,1,,Служеб!$BM$4)","v":"[Протокол_Регион2018_1бой_впишиаудиторию.xlsm]Протокол!$V$129"},{"$f":"\"[\"&Служеб!$BK$4&\"]\"&ADDRESS($BL$12,CB$14,1,,Служеб!$BM$4)","v":"[Протокол_Регион2018_1бой_впишиаудиторию.xlsm]Протокол!$W$129"},{"$f":"\"[\"&Служеб!$BK$4&\"]\"&ADDRESS($BL$12,CC$14,1,,Служеб!$BM$4)","v":"[Протокол_Регион2018_1бой_впишиаудиторию.xlsm]Протокол!$X$129"},{"$f":"\"[\"&Служеб!$BK$4&\"]\"&ADDRESS($BL$12,CD$14,1,,Служеб!$BM$4)","v":"[Протокол_Регион2018_1бой_впишиаудиторию.xlsm]Протокол!$Y$129"},{"$f":"ROW(Протокол!H130)","v":130},{"$f":"\"[\"&Служеб!$BK$4&\"]\"&ADDRESS($CE$12,CF$14,1,,Служеб!$BM$4)","v":"[Протокол_Регион2018_1бой_впишиаудиторию.xlsm]Протокол!$H$130"},{"$f":"\"[\"&Служеб!$BK$4&\"]\"&ADDRESS($CE$12,CG$14,1,,Служеб!$BM$4)","v":"[Протокол_Регион2018_1бой_впишиаудиторию.xlsm]Протокол!$I$130"},{"$f":"\"[\"&Служеб!$BK$4&\"]\"&ADDRESS($CE$12,CH$14,1,,Служеб!$BM$4)","v":"[Протокол_Регион2018_1бой_впишиаудиторию.xlsm]Протокол!$J$130"},{"$f":"\"[\"&Служеб!$BK$4&\"]\"&ADDRESS($CE$12,CI$14,1,,Служеб!$BM$4)","v":"[Протокол_Регион2018_1бой_впишиаудиторию.xlsm]Протокол!$K$130"},{"$f":"\"[\"&Служеб!$BK$4&\"]\"&ADDRESS($CE$12,CJ$14,1,,Служеб!$BM$4)","v":"[Протокол_Регион2018_1бой_впишиаудиторию.xlsm]Протокол!$L$130"},{"$f":"\"[\"&Служеб!$BK$4&\"]\"&ADDRESS($CE$12,CK$14,1,,Служеб!$BM$4)","v":"[Протокол_Регион2018_1бой_впишиаудиторию.xlsm]Протокол!$M$130"},{"$f":"\"[\"&Служеб!$BK$4&\"]\"&ADDRESS($CE$12,CL$14,1,,Служеб!$BM$4)","v":"[Протокол_Регион2018_1бой_впишиаудиторию.xlsm]Протокол!$N$130"},{"$f":"\"[\"&Служеб!$BK$4&\"]\"&ADDRESS($CE$12,CM$14,1,,Служеб!$BM$4)","v":"[Протокол_Регион2018_1бой_впишиаудиторию.xlsm]Протокол!$O$130"},{"$f":"\"[\"&Служеб!$BK$4&\"]\"&ADDRESS($CE$12,CN$14,1,,Служеб!$BM$4)","v":"[Протокол_Регион2018_1бой_впишиаудиторию.xlsm]Протокол!$P$130"},{"$f":"\"[\"&Служеб!$BK$4&\"]\"&ADDRESS($CE$12,CO$14,1,,Служеб!$BM$4)","v":"[Протокол_Регион2018_1бой_впишиаудиторию.xlsm]Протокол!$Q$130"},{"$f":"\"[\"&Служеб!$BK$4&\"]\"&ADDRESS($CE$12,CP$14,1,,Служеб!$BM$4)","v":"[Протокол_Регион2018_1бой_впишиаудиторию.xlsm]Протокол!$R$130"},{"$f":"\"[\"&Служеб!$BK$4&\"]\"&ADDRESS($CE$12,CQ$14,1,,Служеб!$BM$4)","v":"[Протокол_Регион2018_1бой_впишиаудиторию.xlsm]Протокол!$S$130"},{"$f":"\"[\"&Служеб!$BK$4&\"]\"&ADDRESS($CE$12,CR$14,1,,Служеб!$BM$4)","v":"[Протокол_Регион2018_1бой_впишиаудиторию.xlsm]Протокол!$T$130"},{"$f":"\"[\"&Служеб!$BK$4&\"]\"&ADDRESS($CE$12,CS$14,1,,Служеб!$BM$4)","v":"[Протокол_Регион2018_1бой_впишиаудиторию.xlsm]Протокол!$U$130"},{"$f":"\"[\"&Служеб!$BK$4&\"]\"&ADDRESS($CE$12,CT$14,1,,Служеб!$BM$4)","v":"[Протокол_Регион2018_1бой_впишиаудиторию.xlsm]Протокол!$V$130"},{"$f":"\"[\"&Служеб!$BK$4&\"]\"&ADDRESS($CE$12,CU$14,1,,Служеб!$BM$4)","v":"[Протокол_Регион2018_1бой_впишиаудиторию.xlsm]Протокол!$W$130"},{"$f":"\"[\"&Служеб!$BK$4&\"]\"&ADDRESS($CE$12,CV$14,1,,Служеб!$BM$4)","v":"[Протокол_Регион2018_1бой_впишиаудиторию.xlsm]Протокол!$X$130"},{"$f":"\"[\"&Служеб!$BK$4&\"]\"&ADDRESS($CE$12,CW$14,1,,Служеб!$BM$4)","v":"[Протокол_Регион2018_1бой_впишиаудиторию.xlsm]Протокол!$Y$130"}]
[null,{"$f":"Протокол!F117","v":0},{"$f":"Протокол!D132","v":"Рецензент"},{"$f":"Протокол!E108","v":0},{"$f":"Протокол!E132","v":0},{"$f":"Протокол!H132","v":0},{"$f":"Протокол!I132","v":0},{"$f":"Протокол!J132","v":0},{"$f":"Протокол!K132","v":0},{"$f":"Протокол!L132","v":0},{"$f":"Протокол!M132","v":0},{"$f":"Протокол!N132","v":0},{"$f":"Протокол!O132","v":0},{"$f":"Протокол!P132","v":0},{"$f":"Протокол!Q132","v":0},{"$f":"Протокол!R132","v":0},{"$f":"Протокол!S132","v":0},{"$f":"Протокол!T132","v":0},{"$f":"Протокол!U132","v":0},{"$f":"Протокол!V132","v":0},{"$f":"Протокол!W132","v":0},{"$f":"Протокол!X132","v":0},{"$f":"Протокол!Y132","v":0},null,null,null,null,null,null,null,null,null,null,null,null,null,null,null,null,null,null,null,null,null,null,null,null,null,null,null,null,null,null,null,null,null,null,null,null,null,null,null,null,{"$f":"ROW(Протокол!H132)","v":132},{"$f":"\"[\"&Служеб!$BK$4&\"]\"&ADDRESS($BL$13,BM$14,1,,Служеб!$BM$4)","v":"[Протокол_Регион2018_1бой_впишиаудиторию.xlsm]Протокол!$H$132"},{"$f":"\"[\"&Служеб!$BK$4&\"]\"&ADDRESS($BL$13,BN$14,1,,Служеб!$BM$4)","v":"[Протокол_Регион2018_1бой_впишиаудиторию.xlsm]Протокол!$I$132"},{"$f":"\"[\"&Служеб!$BK$4&\"]\"&ADDRESS($BL$13,BO$14,1,,Служеб!$BM$4)","v":"[Протокол_Регион2018_1бой_впишиаудиторию.xlsm]Протокол!$J$132"},{"$f":"\"[\"&Служеб!$BK$4&\"]\"&ADDRESS($BL$13,BP$14,1,,Служеб!$BM$4)","v":"[Протокол_Регион2018_1бой_впишиаудиторию.xlsm]Протокол!$K$132"},{"$f":"\"[\"&Служеб!$BK$4&\"]\"&ADDRESS($BL$13,BQ$14,1,,Служеб!$BM$4)","v":"[Протокол_Регион2018_1бой_впишиаудиторию.xlsm]Протокол!$L$132"},{"$f":"\"[\"&Служеб!$BK$4&\"]\"&ADDRESS($BL$13,BR$14,1,,Служеб!$BM$4)","v":"[Протокол_Регион2018_1бой_впишиаудиторию.xlsm]Протокол!$M$132"},{"$f":"\"[\"&Служеб!$BK$4&\"]\"&ADDRESS($BL$13,BS$14,1,,Служеб!$BM$4)","v":"[Протокол_Регион2018_1бой_впишиаудиторию.xlsm]Протокол!$N$132"},{"$f":"\"[\"&Служеб!$BK$4&\"]\"&ADDRESS($BL$13,BT$14,1,,Служеб!$BM$4)","v":"[Протокол_Регион2018_1бой_впишиаудиторию.xlsm]Протокол!$O$132"},{"$f":"\"[\"&Служеб!$BK$4&\"]\"&ADDRESS($BL$13,BU$14,1,,Служеб!$BM$4)","v":"[Протокол_Регион2018_1бой_впишиаудиторию.xlsm]Протокол!$P$132"},{"$f":"\"[\"&Служеб!$BK$4&\"]\"&ADDRESS($BL$13,BV$14,1,,Служеб!$BM$4)","v":"[Протокол_Регион2018_1бой_впишиаудиторию.xlsm]Протокол!$Q$132"},{"$f":"\"[\"&Служеб!$BK$4&\"]\"&ADDRESS($BL$13,BW$14,1,,Служеб!$BM$4)","v":"[Протокол_Регион2018_1бой_впишиаудиторию.xlsm]Протокол!$R$132"},{"$f":"\"[\"&Служеб!$BK$4&\"]\"&ADDRESS($BL$13,BX$14,1,,Служеб!$BM$4)","v":"[Протокол_Регион2018_1бой_впишиаудиторию.xlsm]Протокол!$S$132"},{"$f":"\"[\"&Служеб!$BK$4&\"]\"&ADDRESS($BL$13,BY$14,1,,Служеб!$BM$4)","v":"[Протокол_Регион2018_1бой_впишиаудиторию.xlsm]Протокол!$T$132"},{"$f":"\"[\"&Служеб!$BK$4&\"]\"&ADDRESS($BL$13,BZ$14,1,,Служеб!$BM$4)","v":"[Протокол_Регион2018_1бой_впишиаудиторию.xlsm]Протокол!$U$132"},{"$f":"\"[\"&Служеб!$BK$4&\"]\"&ADDRESS($BL$13,CA$14,1,,Служеб!$BM$4)","v":"[Протокол_Регион2018_1бой_впишиаудиторию.xlsm]Протокол!$V$132"},{"$f":"\"[\"&Служеб!$BK$4&\"]\"&ADDRESS($BL$13,CB$14,1,,Служеб!$BM$4)","v":"[Протокол_Регион2018_1бой_впишиаудиторию.xlsm]Протокол!$W$132"},{"$f":"\"[\"&Служеб!$BK$4&\"]\"&ADDRESS($BL$13,CC$14,1,,Служеб!$BM$4)","v":"[Протокол_Регион2018_1бой_впишиаудиторию.xlsm]Протокол!$X$132"},{"$f":"\"[\"&Служеб!$BK$4&\"]\"&ADDRESS($BL$13,CD$14,1,,Служеб!$BM$4)","v":"[Протокол_Регион2018_1бой_впишиаудиторию.xlsm]Протокол!$Y$132"}]
[null,null,null,null,null,null,null,null,null,null,null,null,null,null,null,null,null,null,null,null,null,null,null,null,null,null,null,null,null,null,null,null,null,null,null,null,null,null,null,null,null,null,null,null,null,null,null,null,null,null,null,null,null,null,null,null,null,null,null,null,null,null,null,null,{"$f":"COLUMN(Протокол!H23)","v":8},{"$f":"COLUMN(Протокол!I23)","v":9},{"$f":"COLUMN(Протокол!J23)","v":10},{"$f":"COLUMN(Протокол!K23)","v":11},{"$f":"COLUMN(Протокол!L23)","v":12},{"$f":"COLUMN(Протокол!M23)","v":13},{"$f":"COLUMN(Протокол!N23)","v":14},{"$f":"COLUMN(Протокол!O23)","v":15},{"$f":"COLUMN(Протокол!P23)","v":16},{"$f":"COLUMN(Протокол!Q23)","v":17},{"$f":"COLUMN(Протокол!R23)","v":18},{"$f":"COLUMN(Протокол!S23)","v":19},{"$f":"COLUMN(Протокол!T23)","v":20},{"$f":"COLUMN(Протокол!U23)","v":21},{"$f":"COLUMN(Протокол!V23)","v":22},{"$f":"COLUMN(Протокол!W23)","v":23},{"$f":"COLUMN(Протокол!X23)","v":24},{"$f":"COLUMN(Протокол!Y23)","v":25},null,{"$f":"COLUMN(Протокол!H24)","v":8},{"$f":"COLUMN(Протокол!I24)","v":9},{"$f":"COLUMN(Протокол!J24)","v":10},{"$f":"COLUMN(Протокол!K24)","v":11},{"$f":"COLUMN(Протокол!L24)","v":12},{"$f":"COLUMN(Протокол!M24)","v":13},{"$f":"COLUMN(Протокол!N24)","v":14},{"$f":"COLUMN(Протокол!O24)","v":15},{"$f":"COLUMN(Протокол!P24)","v":16},{"$f":"COLUMN(Протокол!Q24)","v":17},{"$f":"COLUMN(Протокол!R24)","v":18},{"$f":"COLUMN(Протокол!S24)","v":19},{"$f":"COLUMN(Протокол!T24)","v":20},{"$f":"COLUMN(Протокол!U24)","v":21},{"$f":"COLUMN(Протокол!V24)","v":22},{"$f":"COLUMN(Протокол!W24)","v":23},{"$f":"COLUMN(Протокол!X24)","v":24},{"$f":"COLUMN(Протокол!Y24)","v":25},null,{"$f":"COLUMN(Протокол!H25)","v":8},{"$f":"COLUMN(Протокол!I25)","v":9},{"$f":"COLUMN(Протокол!J25)","v":10},{"$f":"COLUMN(Протокол!K25)","v":11},{"$f":"COLUMN(Протокол!L25)","v":12},{"$f":"COLUMN(Протокол!M25)","v":13},{"$f":"COLUMN(Протокол!N25)","v":14},{"$f":"COLUMN(Протокол!O25)","v":15},{"$f":"COLUMN(Протокол!P25)","v":16},{"$f":"COLUMN(Протокол!Q25)","v":17},{"$f":"COLUMN(Протокол!R25)","v":18},{"$f":"COLUMN(Протокол!S25)","v":19},{"$f":"COLUMN(Протокол!T25)","v":20},{"$f":"COLUMN(Протокол!U25)","v":21},{"$f":"COLUMN(Протокол!V25)","v":22},{"$f":"COLUMN(Протокол!W25)","v":23},{"$f":"COLUMN(Протокол!X25)","v":24},{"$f":"COLUMN(Протокол!Y25)","v":25}]

{"sheet":"Служеб","index":7,"n_rows":27,"n_cols":68,"rows_kept":27,"cut":false,"hidden":true,"merged":[[1,46,1,48],[1,50,1,52],[1,54,1,56],[1,58,1,60],[3,54,3,55],[12,39,12,41],[3,46,3,47],[11,46,11,47],[19,46,19,47],[3,50,3,51],[11,50,11,51],[19,50,19,51],[19,54,19,55],[3,58,3,59],[11,58,11,59],[19,58,19,59],[11,54,11,55]]}
[]
[null,"Этапы","Название","День 1","День 2","День 3","День 4","День 5",null,"Дата",null,"Номер боя",null,"Кол-во команд",null,"Схема 3 команды",null,null,null,"Схема 4 команды",null,null,null,null,"Выбранные команды",null,"Место кк",null,"Оценки","Баллы","Оценки по порядку",null,"Кол-во членов жюри","Отбрасыв снизу","Отбрасыв сверху",null,"Категория","Коэффициент",null,"№","Отказов без штрафа","Тип отказа",null,"№ задачи","Название задачи",null,"Списки участников раунд 1",null,null,null,"Списки участников раунд 2",null,null,null,"Списки участников раунд 3",null,null,null,"Списки участников раунд 4",null,null,null,"Название этого файла",null,"Название листа с протоколом",null,"№","Жюри"]
[null,null,null,null,null,null,null,null,null,null,null,null,null,null,null,null,null,null,null,null,null,null,null,null,null,null,null,null,null,null,null,null,null,null,null,null,null,null,null,null,null,null,null,null,null,null,null,null,null,null,null,null,null,null,null,null,null,null,null,null,null,null,null,null,null,null,1,{"$f":"Протокол!H21","v":0}]
[null,null,"01|Московский ТЮБ (13 – 14 октября 2018 года)","2018-10-13","2018-10-14",null,null,null,null,{"$f":"IF(VLOOKUP(Титул!$E$2,$C$4:$H$24,2)=0,\"\",VLOOKUP(Титул!$E$2,$C$4:$H$24,2))","v":{"$error":"#N/A"}},null,"Первый",null,3,null,"Д","Р","О",null,"Д","Н","Р","О",null,{"$f":"Титул!$E$10","v":0},null,1,null,0,0,null,null,1,0,0,null,"Докл 1",1.5,null,1,3,"Тактич",null,1,"Gorynych vulgaris",null,{"$f":"Протокол!E4","v":0},null,null,null,{"$f":"Протокол!E38","v":0},null,null,null,{"$f":"Протокол!E72","v":0},null,null,null,{"$f":"Протокол!E106","v":0},null,null,null,{"$f":"Сверка!$D$2","v":"Протокол_Регион2018_1бой_впишиаудиторию.xlsm"},null,"Протокол",null,2,{"$f":"Протокол!I21","v":0}]
[null,null,"02|ТЮБ Санкт-Петербурга (27 – 28 октября 2018 года)","2018-10-27","2018-10-28",null,null,null,null,{"$f":"IF(VLOOKUP(Титул!$E$2,$C$4:$H$24,3)=0,\"\",VLOOKUP(Титул!$E$2,$C$4:$H$24,3))","v":{"$error":"#N/A"}},null,"Второй",null,4,null,"О","Д","Р",null,"О","Д","Н","Р",null,{"$f":"Титул!$E$11","v":0},null,2,null,3,25,"5+",null,2,0,0,null,"Докл 2",0.7,null,2,null,"Тактич",null,2,"Регенераты",null,{"$f":"VLOOKUP($AU$4,Участники!$A$2:$AO$23,4)","v":{"$error":"#N/A"}},{"$f":"VLOOKUP($AU$4,Участники!$A$2:$AO$23,5)","v":{"$error":"#N/A"}},{"$f":"AU5&\" \"&AV5","v":{"$error":"#N/A"}},null,{"$f":"VLOOKUP($AY$4,Участники!$A$2:$AO$23,4)","v":{"$error":"#N/A"}},{"$f":"VLOOKUP($AY$4,Участники!$A$2:$AO$23,5)","v":{"$error":"#N/A"}},{"$f":"AY5&\" \"&AZ5","v":{"$error":"#N/A"}},null,{"$f":"VLOOKUP($BC$4,Участники!$A$2:$AO$23,4)","v":{"$error":"#N/A"}},{"$f":"VLOOKUP($BC$4,Участники!$A$2:$AO$23,5)","v":{"$error":"#N/A"}},{"$f":"BC5&\" \"&BD5","v":{"$error":"#N/A"}},null,{"$f":"VLOOKUP($BG$4,Участники!$A$2:$AO$23,4)","v":{"$error":"#N/A"}},{"$f":"VLOOKUP($BG$4,Участники!$A$2:$AO$23,5)","v":{"$error":"#N/A"}},{"$f":"BG5&\" \"&BH5","v":{"$error":"#N/A"}},null,null,null,null,null,3,{"$f":"Протокол!J21","v":0}]
[null,null,"03|Кировский ТЮБ (13 – 14 октября 2018 года)","2018-10-13","2018-10-14",null,null,null,null,{"$f":"IF(VLOOKUP(Титул!$E$2,$C$4:$H$24,4)=0,\"\",VLOOKUP(Титул!$E$2,$C$4:$H$24,4))","v":{"$error":"#N/A"}},null,"Третий",null,null,null,"Р","О","Д",null,"Р","О","Д","Н",null,{"$f":"Титул!$E$12","v":0},null,3,null,4,50,5,null,3,0,0,null,"Докл 3",0.8,null,3,null,"Стратег",null,3,"Мальчик-с-пальчик",null,{"$f":"VLOOKUP($AU$4,Участники!$A$2:$AO$23,9)","v":{"$error":"#N/A"}},{"$f":"VLOOKUP($AU$4,Участники!$A$2:$AO$23,10)","v":{"$error":"#N/A"}},{"$f":"AU6&\" \"&AV6","v":{"$error":"#N/A"}},null,{"$f":"VLOOKUP($AY$4,Участники!$A$2:$AO$23,9)","v":{"$error":"#N/A"}},{"$f":"VLOOKUP($AY$4,Участники!$A$2:$AO$23,10)","v":{"$error":"#N/A"}},{"$f":"AY6&\" \"&AZ6","v":{"$error":"#N/A"}},null,{"$f":"VLOOKUP($BC$4,Участники!$A$2:$AO$23,9)","v":{"$error":"#N/A"}},{"$f":"VLOOKUP($BC$4,Участники!$A$2:$AO$23,10)","v":{"$error":"#N/A"}},{"$f":"BC6&\" \"&BD6","v":{"$error":"#N/A"}},null,{"$f":"VLOOKUP($BG$4,Участники!$A$2:$AO$23,9)","v":{"$error":"#N/A"}},{"$f":"VLOOKUP($BG$4,Участники!$A$2:$AO$23,10)","v":{"$error":"#N/A"}},{"$f":"BG6&\" \"&BH6","v":{"$error":"#N/A"}},null,null,null,null,null,4,{"$f":"Протокол!K21","v":0}]
[null,null,"04|Новосибирский ТЮБ (4 – 5 ноября 2018 года)","2018-11-04","2018-11-05",null,null,null,null,{"$f":"IF(VLOOKUP(Титул!$E$2,$C$4:$H$24,5)=0,\"\",VLOOKUP(Титул!$E$2,$C$4:$H$24,5))","v":{"$error":"#N/A"}},null,"Четвертый",null,null,null,null,null,null,null,"Н","Р","О","Д",null,{"$f":"Титул!$E$13","v":0},null,4,null,5,85,"5-",null,4,0,0,null,"Оппон 1",1.2,null,null,null,null,null,4,"Кошмар Кювье",null,{"$f":"VLOOKUP($AU$4,Участники!$A$2:$AO$23,14)","v":{"$error":"#N/A"}},{"$f":"VLOOKUP($AU$4,Участники!$A$2:$AO$23,15)","v":{"$error":"#N/A"}},{"$f":"AU7&\" \"&AV7","v":{"$error":"#N/A"}},null,{"$f":"VLOOKUP($AY$4,Участники!$A$2:$AO$23,14)","v":{"$error":"#N/A"}},{"$f":"VLOOKUP($AY$4,Участники!$A$2:$AO$23,15)","v":{"$error":"#N/A"}},{"$f":"AY7&\" \"&AZ7","v":{"$error":"#N/A"}},null,{"$f":"VLOOKUP($BC$4,Участники!$A$2:$AO$23,14)","v":{"$error":"#N/A"}},{"$f":"VLOOKUP($BC$4,Участники!$A$2:$AO$23,15)","v":{"$error":"#N/A"}},{"$f":"BC7&\" \"&BD7","v":{"$error":"#N/A"}},null,{"$f":"VLOOKUP($BG$4,Участники!$A$2:$AO$23,14)","v":{"$error":"#N/A"}},{"$f":"VLOOKUP($BG$4,Участники!$A$2:$AO$23,15)","v":{"$error":"#N/A"}},{"$f":"BG7&\" \"&BH7","v":{"$error":"#N/A"}},null,null,null,null,null,5,{"$f":"Протокол!L21","v":0}]
[null,null,"05|Республиканский ТЮБ Татарстана (20 – 21 октября 2018 года)","2018-10-20","2018-10-21",null,null,null,null,{"$f":"IF(VLOOKUP(Титул!$E$2,$C$4:$H$24,6)=0,\"\",VLOOKUP(Титул!$E$2,$C$4:$H$24,6))","v":{"$error":"#N/A"}},null,"Пятый",null,null,null,null,null,null,null,null,null,null,null,null,null,null,null,null,"3-",20,"4+",null,5,1,0,null,"Оппон 2",0.8,null,null,null,null,null,5,"Смена пола",null,{"$f":"VLOOKUP($AU$4,Участники!$A$2:$AO$23,19)","v":{"$error":"#N/A"}},{"$f":"VLOOKUP($AU$4,Участники!$A$2:$AO$23,20)","v":{"$error":"#N/A"}},{"$f":"AU8&\" \"&AV8","v":{"$error":"#N/A"}},null,{"$f":"VLOOKUP($AY$4,Участники!$A$2:$AO$23,19)","v":{"$error":"#N/A"}},{"$f":"VLOOKUP($AY$4,Участники!$A$2:$AO$23,20)","v":{"$error":"#N/A"}},{"$f":"AY8&\" \"&AZ8","v":{"$error":"#N/A"}},null,{"$f":"VLOOKUP($BC$4,Участники!$A$2:$AO$23,19)","v":{"$error":"#N/A"}},{"$f":"VLOOKUP($BC$4,Участники!$A$2:$AO$23,20)","v":{"$error":"#N/A"}},{"$f":"BC8&\" \"&BD8","v":{"$error":"#N/A"}},null,{"$f":"VLOOKUP($BG$4,Участники!$A$2:$AO$23,19)","v":{"$error":"#N/A"}},{"$f":"VLOOKUP($BG$4,Участники!$A$2:$AO$23,20)","v":{"$error":"#N/A"}},{"$f":"BG8&\" \"&BH8","v":{"$error":"#N/A"}},null,null,null,null,null,6,{"$f":"Протокол!M21","v":0}]
[null,null,"06|Уральский ТЮБ в Екатеринбурге (27 – 28 октября 2018 года)","2018-10-27","2018-10-28",null,null,null,null,null,null,"Шестой",null,null,null,null,null,null,null,null,null,null,null,null,null,null,null,null,"3+",30,4,null,6,1,0,null,"Рецензент",1,null,null,null,null,null,6,"Реконкиста",null,{"$f":"VLOOKUP($AU$4,Участники!$A$2:$AO$23,24)","v":{"$error":"#N/A"}},{"$f":"VLOOKUP($AU$4,Участники!$A$2:$AO$23,25)","v":{"$error":"#N/A"}},{"$f":"AU9&\" \"&AV9","v":{"$error":"#N/A"}},null,{"$f":"VLOOKUP($AY$4,Участники!$A$2:$AO$23,24)","v":{"$error":"#N/A"}},{"$f":"VLOOKUP($AY$4,Участники!$A$2:$AO$23,25)","v":{"$error":"#N/A"}},{"$f":"AY9&\" \"&AZ9","v":{"$error":"#N/A"}},null,{"$f":"VLOOKUP($BC$4,Участники!$A$2:$AO$23,24)","v":{"$error":"#N/A"}},{"$f":"VLOOKUP($BC$4,Участники!$A$2:$AO$23,25)","v":{"$error":"#N/A"}},{"$f":"BC9&\" \"&BD9","v":{"$error":"#N/A"}},null,{"$f":"VLOOKUP($BG$4,Участники!$A$2:$AO$23,24)","v":{"$error":"#N/A"}},{"$f":"VLOOKUP($BG$4,Участники!$A$2:$AO$23,25)","v":{"$error":"#N/A"}},{"$f":"BG9&\" \"&BH9","v":{"$error":"#N/A"}},null,null,null,null,null,7,{"$f":"Протокол!N21","v":0}]
[null,null,"07|ТЮБ Юга России (3 – 4 ноября 2018 года)","2018-11-03","2018-11-04",null,null,null,null,null,null,"Финал",null,null,null,null,null,null,null,null,null,null,null,null,null,null,null,null,"4-",40,"4-",null,7,1,1,null,null,null,null,null,null,null,null,7,"Птерополис",null,null,null,null,null,null,null,null,null,null,null,null,null,null,null,null,null,null,null,null,null,8,{"$f":"Протокол!O21","v":0}]
[null,null,"08|Калужский ТЮБ (3 – 4 ноября 2018 года)","2018-11-03","2018-11-04",null,null,null,null,null,null,null,null,null,null,null,null,null,null,null,null,null,null,null,null,null,null,null,"4+",60,"3+",null,8,1,1,null,null,null,null,null,"Число вечных отказов",3,null,8,"Импортозамещение",null,null,null,null,null,null,null,null,null,null,null,null,null,null,null,null,null,null,null,null,null,9,{"$f":"Протокол!P21","v":0}]
[null,null,"09|ТЮБ Республики Саха (Якутия) (12 – 14 октября 2018 года)","2018-10-13","2018-10-14",null,null,null,null,null,null,null,null,null,null,null,null,null,null,null,null,null,null,null,null,null,null,null,"5-",70,3,null,9,1,1,null,null,null,null,null,null,null,null,9,"Перспективный партнер",null,{"$f":"Протокол!E5","v":0},null,null,null,{"$f":"Протокол!E39","v":0},null,null,null,{"$f":"Протокол!E73","v":0},null,null,null,{"$f":"Протокол!E107","v":0},null,null,null,null,null,null,null,10,{"$f":"Протокол!Q21","v":0}]
[null,null,"10|Пензенский ТЮБ (24 – 25 ноября 2018 года)","2018-11-24","2018-11-25",null,null,null,null,null,null,null,null,null,null,null,null,null,null,null,null,null,null,null,null,null,null,null,"5+",100,"3-",null,10,1,1,null,null,null,null,"Штрафы за отказы сверх нормы",null,null,null,10,"Мутабор",null,{"$f":"VLOOKUP($AU$12,Участники!$A$2:$AO$23,4)","v":{"$error":"#N/A"}},{"$f":"VLOOKUP($AU$12,Участники!$A$2:$AO$23,5)","v":{"$error":"#N/A"}},{"$f":"AU13&\" \"&AV13","v":{"$error":"#N/A"}},null,{"$f":"VLOOKUP($AY$12,Участники!$A$2:$AO$23,4)","v":{"$error":"#N/A"}},{"$f":"VLOOKUP($AY$12,Участники!$A$2:$AO$23,5)","v":{"$error":"#N/A"}},{"$f":"AY13&\" \"&AZ13","v":{"$error":"#N/A"}},null,{"$f":"VLOOKUP($BC$12,Участники!$A$2:$AO$23,4)","v":{"$error":"#N/A"}},{"$f":"VLOOKUP($BC$12,Участники!$A$2:$AO$23,5)","v":{"$error":"#N/A"}},{"$f":"BC13&\" \"&BD13","v":{"$error":"#N/A"}},null,{"$f":"VLOOKUP($BG$12,Участники!$A$2:$AO$23,4)","v":{"$error":"#N/A"}},{"$f":"VLOOKUP($BG$12,Участники!$A$2:$AO$23,5)","v":{"$error":"#N/A"}},{"$f":"BG13&\" \"&BH13","v":{"$error":"#N/A"}},null,null,null,null,null,11,{"$f":"Протокол!R21","v":0}]
[null,null,"11|Омский ТЮБ (10 – 11 ноября 2018 года)","2018-11-10","2018-11-11",null,null,null,null,null,null,null,null,null,null,null,null,null,null,null,null,null,null,null,null,null,null,null,null,null,null,null,11,1,1,null,null,null,null,"№","коэффициент",null,null,11,"Жизнь без кислорода",null,{"$f":"VLOOKUP($AU$12,Участники!$A$2:$AO$23,9)","v":{"$error":"#N/A"}},{"$f":"VLOOKUP($AU$12,Участники!$A$2:$AO$23,10)","v":{"$error":"#N/A"}},{"$f":"AU14&\" \"&AV14","v":{"$error":"#N/A"}},null,{"$f":"VLOOKUP($AY$12,Участники!$A$2:$AO$23,9)","v":{"$error":"#N/A"}},{"$f":"VLOOKUP($AY$12,Участники!$A$2:$AO$23,10)","v":{"$error":"#N/A"}},{"$f":"AY14&\" \"&AZ14","v":{"$error":"#N/A"}},null,{"$f":"VLOOKUP($BC$12,Участники!$A$2:$AO$23,9)","v":{"$error":"#N/A"}},{"$f":"VLOOKUP($BC$12,Участники!$A$2:$AO$23,10)","v":{"$error":"#N/A"}},{"$f":"BC14&\" \"&BD14","v":{"$error":"#N/A"}},null,{"$f":"VLOOKUP($BG$12,Участники!$A$2:$AO$23,9)","v":{"$error":"#N/A"}},{"$f":"VLOOKUP($BG$12,Участники!$A$2:$AO$23,10)","v":{"$error":"#N/A"}},{"$f":"BG14&\" \"&BH14","v":{"$error":"#N/A"}},null,null,null,null,null,12,{"$f":"Протокол!S21","v":0}]
[null,null,"12|Волгоградский ТЮБ (16 – 17 ноября 2018 года)","2018-11-16","2018-11-17",null,null,null,null,null,null,null,null,null,null,null,null,null,null,null,null,null,null,null,null,null,null,null,null,null,null,null,12,2,2,null,null,null,null,0,1,null,null,12,"Мир белков",null,{"$f":"VLOOKUP($AU$12,Участники!$A$2:$AO$23,14)","v":{"$error":"#N/A"}},{"$f":"VLOOKUP($AU$12,Участники!$A$2:$AO$23,15)","v":{"$error":"#N/A"}},{"$f":"AU15&\" \"&AV15","v":{"$error":"#N/A"}},null,{"$f":"VLOOKUP($AY$12,Участники!$A$2:$AO$23,14)","v":{"$error":"#N/A"}},{"$f":"VLOOKUP($AY$12,Участники!$A$2:$AO$23,15)","v":{"$error":"#N/A"}},{"$f":"AY15&\" \"&AZ15","v":{"$error":"#N/A"}},null,{"$f":"VLOOKUP($BC$12,Участники!$A$2:$AO$23,14)","v":{"$error":"#N/A"}},{"$f":"VLOOKUP($BC$12,Участники!$A$2:$AO$23,15)","v":{"$error":"#N/A"}},{"$f":"BC15&\" \"&BD15","v":{"$error":"#N/A"}},null,{"$f":"VLOOKUP($BG$12,Участники!$A$2:$AO$23,14)","v":{"$error":"#N/A"}},{"$f":"VLOOKUP($BG$12,Участники!$A$2:$AO$23,15)","v":{"$error":"#N/A"}},{"$f":"BG15&\" \"&BH15","v":{"$error":"#N/A"}},null,null,null,null,null,13,{"$f":"Протокол!T21","v":0}]
[null,null,"13|Воронежский ТЮБ (10 – 11 ноября 2018 года)","10.11.2018","11.11.2018",null,null,null,null,null,null,null,null,null,null,null,null,null,null,null,null,null,null,null,null,null,null,null,null,null,null,null,13,2,2,null,null,null,null,{"$f":"AO4+1","v":4},0.9,null,null,13,"Новые рецепторы",null,{"$f":"VLOOKUP($AU$12,Участники!$A$2:$AO$23,19)","v":{"$error":"#N/A"}},{"$f":"VLOOKUP($AU$12,Участники!$A$2:$AO$23,20)","v":{"$error":"#N/A"}},{"$f":"AU16&\" \"&AV16","v":{"$error":"#N/A"}},null,{"$f":"VLOOKUP($AY$12,Участники!$A$2:$AO$23,19)","v":{"$error":"#N/A"}},{"$f":"VLOOKUP($AY$12,Участники!$A$2:$AO$23,20)","v":{"$error":"#N/A"}},{"$f":"AY16&\" \"&AZ16","v":{"$error":"#N/A"}},null,{"$f":"VLOOKUP($BC$12,Участники!$A$2:$AO$23,19)","v":{"$error":"#N/A"}},{"$f":"VLOOKUP($BC$12,Участники!$A$2:$AO$23,20)","v":{"$error":"#N/A"}},{"$f":"BC16&\" \"&BD16","v":{"$error":"#N/A"}},null,{"$f":"VLOOKUP($BG$12,Участники!$A$2:$AO$23,19)","v":{"$error":"#N/A"}},{"$f":"VLOOKUP($BG$12,Участники!$A$2:$AO$23,20)","v":{"$error":"#N/A"}},{"$f":"BG16&\" \"&BH16","v":{"$error":"#N/A"}},null,null,null,null,null,14,{"$f":"Протокол!U21","v":0}]
[null,null,"14|Всероссийский ТЮБ (7 – 12 декабря 2018 года)","08.12.2018","09.12.2018","10.12.2018","11.12.2018",null,null,null,null,null,null,null,null,null,null,null,null,null,null,null,null,null,null,null,null,null,null,null,null,null,14,2,2,null,null,null,null,{"$f":"AN16+1","v":5},0.8,null,null,14,"Умная оболочка",null,{"$f":"VLOOKUP($AU$12,Участники!$A$2:$AO$23,24)","v":{"$error":"#N/A"}},{"$f":"VLOOKUP($AU$12,Участники!$A$2:$AO$23,25)","v":{"$error":"#N/A"}},{"$f":"AU17&\" \"&AV17","v":{"$error":"#N/A"}},null,{"$f":"VLOOKUP($AY$12,Участники!$A$2:$AO$23,24)","v":{"$error":"#N/A"}},{"$f":"VLOOKUP($AY$12,Участники!$A$2:$AO$23,25)","v":{"$error":"#N/A"}},{"$f":"AY17&\" \"&AZ17","v":{"$error":"#N/A"}},null,{"$f":"VLOOKUP($BC$12,Участники!$A$2:$AO$23,24)","v":{"$error":"#N/A"}},{"$f":"VLOOKUP($BC$12,Участники!$A$2:$AO$23,25)","v":{"$error":"#N/A"}},{"$f":"BC17&\" \"&BD17","v":{"$error":"#N/A"}},null,{"$f":"VLOOKUP($BG$12,Участники!$A$2:$AO$23,24)","v":{"$error":"#N/A"}},{"$f":"VLOOKUP($BG$12,Участники!$A$2:$AO$23,25)","v":{"$error":"#N/A"}},{"$f":"BG17&\" \"&BH17","v":{"$error":"#N/A"}},null,null,null,null,null,15,{"$f":"Протокол!V21","v":0}]
[null,null,null,null,null,null,null,null,null,null,null,null,null,null,null,null,null,null,null,null,null,null,null,null,null,null,null,null,null,null,null,null,15,2,2,null,null,null,null,6,0.7,null,null,15,"Иммунодепрессия",null,null,null,null,null,null,null,null,null,null,null,null,null,null,null,null,null,null,null,null,null,16,{"$f":"Протокол!W21","v":0}]
[null,null,null,null,null,null,null,null,null,null,null,null,null,null,null,null,null,null,null,null,null,null,null,null,null,null,null,null,null,null,null,null,16,2,2,null,null,null,null,7,0.6,null,null,null,null,null,null,null,null,null,null,null,null,null,null,null,null,null,null,null,null,null,null,null,null,null,17,{"$f":"Протокол!X21","v":0}]
[null,null,null,null,null,null,null,null,null,null,null,null,null,null,null,null,null,null,null,null,null,null,null,null,null,null,null,null,null,null,null,null,17,2,2,null,null,null,null,8,0.5,null,null,null,null,null,{"$f":"Протокол!E6","v":0},null,null,null,{"$f":"Протокол!E40","v":0},null,null,null,{"$f":"Протокол!E74","v":0},null,null,null,{"$f":"Протокол!E108","v":0},null,null,null,null,null,null,null,18,{"$f":"Протокол!Y21","v":0}]
[null,null,null,null,null,null,null,null,null,null,null,null,null,null,null,null,null,null,null,null,null,null,null,null,null,null,null,null,null,null,null,null,18,2,2,null,null,null,null,9,0.4,null,null,null,null,null,{"$f":"VLOOKUP($AU$20,Участники!$A$2:$AO$23,4)","v":{"$error":"#N/A"}},{"$f":"VLOOKUP($AU$20,Участники!$A$2:$AO$23,5)","v":{"$error":"#N/A"}},{"$f":"AU21&\" \"&AV21","v":{"$error":"#N/A"}},null,{"$f":"VLOOKUP($AY$20,Участники!$A$2:$AO$23,4)","v":{"$error":"#N/A"}},{"$f":"VLOOKUP($AY$20,Участники!$A$2:$AO$23,5)","v":{"$error":"#N/A"}},{"$f":"AY21&\" \"&AZ21","v":{"$error":"#N/A"}},null,{"$f":"VLOOKUP($BC$20,Участники!$A$2:$AO$23,4)","v":{"$error":"#N/A"}},{"$f":"VLOOKUP($BC$20,Участники!$A$2:$AO$23,5)","v":{"$error":"#N/A"}},{"$f":"BC21&\" \"&BD21","v":{"$error":"#N/A"}},null,{"$f":"VLOOKUP($BG$20,Участники!$A$2:$AO$23,4)","v":{"$error":"#N/A"}},{"$f":"VLOOKUP($BG$20,Участники!$A$2:$AO$23,5)","v":{"$error":"#N/A"}},{"$f":"BG21&\" \"&BH21","v":{"$error":"#N/A"}}]
[null,null,null,null,null,null,null,null,null,null,null,null,null,null,null,null,null,null,null,null,null,null,null,null,null,null,null,null,null,null,null,null,null,null,null,null,null,null,null,10,0.4,null,null,null,null,null,{"$f":"VLOOKUP($AU$20,Участники!$A$2:$AO$23,9)","v":{"$error":"#N/A"}},{"$f":"VLOOKUP($AU$20,Участники!$A$2:$AO$23,10)","v":{"$error":"#N/A"}},{"$f":"AU22&\" \"&AV22","v":{"$error":"#N/A"}},null,{"$f":"VLOOKUP($AY$20,Участники!$A$2:$AO$23,9)","v":{"$error":"#N/A"}},{"$f":"VLOOKUP($AY$20,Участники!$A$2:$AO$23,10)","v":{"$error":"#N/A"}},{"$f":"AY22&\" \"&AZ22","v":{"$error":"#N/A"}},null,{"$f":"VLOOKUP($BC$20,Участники!$A$2:$AO$23,9)","v":{"$error":"#N/A"}},{"$f":"VLOOKUP($BC$20,Участники!$A$2:$AO$23,10)","v":{"$error":"#N/A"}},{"$f":"BC22&\" \"&BD22","v":{"$error":"#N/A"}},null,{"$f":"VLOOKUP($BG$20,Участники!$A$2:$AO$23,9)","v":{"$error":"#N/A"}},{"$f":"VLOOKUP($BG$20,Участники!$A$2:$AO$23,10)","v":{"$error":"#N/A"}},{"$f":"BG22&\" \"&BH22","v":{"$error":"#N/A"}}]
[null,null,null,null,null,null,null,null,null,null,null,null,null,null,null,null,null,null,null,null,null,null,null,null,null,null,null,null,null,null,null,null,null,null,null,null,null,null,null,11,0.4,null,null,null,null,null,{"$f":"VLOOKUP($AU$20,Участники!$A$2:$AO$23,14)","v":{"$error":"#N/A"}},{"$f":"VLOOKUP($AU$20,Участники!$A$2:$AO$23,15)","v":{"$error":"#N/A"}},{"$f":"AU23&\" \"&AV23","v":{"$error":"#N/A"}},null,{"$f":"VLOOKUP($AY$20,Участники!$A$2:$AO$23,14)","v":{"$error":"#N/A"}},{"$f":"VLOOKUP($AY$20,Участники!$A$2:$AO$23,15)","v":{"$error":"#N/A"}},{"$f":"AY23&\" \"&AZ23","v":{"$error":"#N/A"}},null,{"$f":"VLOOKUP($BC$20,Участники!$A$2:$AO$23,14)","v":{"$error":"#N/A"}},{"$f":"VLOOKUP($BC$20,Участники!$A$2:$AO$23,15)","v":{"$error":"#N/A"}},{"$f":"BC23&\" \"&BD23","v":{"$error":"#N/A"}},null,{"$f":"VLOOKUP($BG$20,Участники!$A$2:$AO$23,14)","v":{"$error":"#N/A"}},{"$f":"VLOOKUP($BG$20,Участники!$A$2:$AO$23,15)","v":{"$error":"#N/A"}},{"$f":"BG23&\" \"&BH23","v":{"$error":"#N/A"}}]
[null,null,null,null,null,null,null,null,null,null,null,null,null,null,null,null,null,null,null,null,null,null,null,null,null,null,null,null,null,null,null,null,null,null,null,null,null,null,null,12,0.4,null,null,null,null,null,{"$f":"VLOOKUP($AU$20,Участники!$A$2:$AO$23,19)","v":{"$error":"#N/A"}},{"$f":"VLOOKUP($AU$20,Участники!$A$2:$AO$23,20)","v":{"$error":"#N/A"}},{"$f":"AU24&\" \"&AV24","v":{"$error":"#N/A"}},null,{"$f":"VLOOKUP($AY$20,Участники!$A$2:$AO$23,19)","v":{"$error":"#N/A"}},{"$f":"VLOOKUP($AY$20,Участники!$A$2:$AO$23,20)","v":{"$error":"#N/A"}},{"$f":"AY24&\" \"&AZ24","v":{"$error":"#N/A"}},null,{"$f":"VLOOKUP($BC$20,Участники!$A$2:$AO$23,19)","v":{"$error":"#N/A"}},{"$f":"VLOOKUP($BC$20,Участники!$A$2:$AO$23,20)","v":{"$error":"#N/A"}},{"$f":"BC24&\" \"&BD24","v":{"$error":"#N/A"}},null,{"$f":"VLOOKUP($BG$20,Участники!$A$2:$AO$23,19)","v":{"$error":"#N/A"}},{"$f":"VLOOKUP($BG$20,Участники!$A$2:$AO$23,20)","v":{"$error":"#N/A"}},{"$f":"BG24&\" \"&BH24","v":{"$error":"#N/A"}}]
[null,null,null,null,null,null,null,null,null,null,null,null,null,null,null,null,null,null,null,null,null,null,null,null,null,null,null,null,null,null,null,null,null,null,null,null,null,null,null,13,0.4,null,null,null,null,null,{"$f":"VLOOKUP($AU$20,Участники!$A$2:$AO$23,24)","v":{"$error":"#N/A"}},{"$f":"VLOOKUP($AU$20,Участники!$A$2:$AO$23,25)","v":{"$error":"#N/A"}},{"$f":"AU25&\" \"&AV25","v":{"$error":"#N/A"}},null,{"$f":"VLOOKUP($AY$20,Участники!$A$2:$AO$23,24)","v":{"$error":"#N/A"}},{"$f":"VLOOKUP($AY$20,Участники!$A$2:$AO$23,25)","v":{"$error":"#N/A"}},{"$f":"AY25&\" \"&AZ25","v":{"$error":"#N/A"}},null,{"$f":"VLOOKUP($BC$20,Участники!$A$2:$AO$23,24)","v":{"$error":"#N/A"}},{"$f":"VLOOKUP($BC$20,Участники!$A$2:$AO$23,25)","v":{"$error":"#N/A"}},{"$f":"BC25&\" \"&BD25","v":{"$error":"#N/A"}},null,{"$f":"VLOOKUP($BG$20,Участники!$A$2:$AO$23,24)","v":{"$error":"#N/A"}},{"$f":"VLOOKUP($BG$20,Участники!$A$2:$AO$23,25)","v":{"$error":"#N/A"}},{"$f":"BG25&\" \"&BH25","v":{"$error":"#N/A"}}]
[null,null,null,null,null,null,null,null,null,null,null,null,null,null,null,null,null,null,null,null,null,null,null,null,null,null,null,null,null,null,null,null,null,null,null,null,null,null,null,14,0.4]
[null,null,null,null,null,null,null,null,null,null,null,null,null,null,null,null,null,null,null,null,null,null,null,null,null,null,null,null,null,null,null,null,null,null,null,null,null,null,null,15,0.4]

{"sheet":"База","index":8,"n_rows":5,"n_cols":26,"rows_kept":5,"cut":false,"hidden":false,"merged":[]}
["Дата","Номер боя","Аудитория","Команда","Школа","Доклад","Оппонир","Рецензия","Сумма","Место","Рейтинг","З_докл","З_опп","З_рец","Такт","Стратег","Вечные","Докладчик","Докл_зад","Докл_баллы","Оппонент","Опп_зад","Опп_баллы","Рецензент","Рец_зад","Рец_баллы"]
[{"$f":"Итоги!K4","v":"00:00:00"},{"$f":"Итоги!D4","v":0},{"$f":"Итоги!Y4","v":0},{"$f":"Итоги!E7","v":0},{"$f":"Итоги!F7","v":0},{"$f":"IF(Итоги!$F14=\"Д\",Итоги!$H14,IF(Итоги!$I14=\"Д\",Итоги!$K14,IF(Итоги!$L14=\"Д\",Итоги!$N14,IF(Итоги!$O14=\"Д\",Итоги!$Q14,0))))","v":{"$error":"#N/A"}},{"$f":"IF(Итоги!$F14=\"О\",Итоги!$H14,IF(Итоги!$I14=\"О\",Итоги!$K14,IF(Итоги!$L14=\"О\",Итоги!$N14,IF(Итоги!$O14=\"О\",Итоги!$Q14,0))))","v":{"$error":"#N/A"}},{"$f":"IF(Итоги!$F14=\"Р\",Итоги!$H14,IF(Итоги!$I14=\"Р\",Итоги!$K14,IF(Итоги!$L14=\"Р\",Итоги!$N14,IF(Итоги!$O14=\"Р\",Итоги!$Q14,0))))","v":{"$error":"#N/A"}},{"$f":"Итоги!R14","v":{"$error":"#N/A"}},{"$f":"Итоги!W14","v":{"$error":"#N/A"}},{"$f":"Итоги!X14","v":{"$error":"#N/A"}},{"$f":"Итоги!F27","v":0},{"$f":"Итоги!I27","v":0},{"$f":"Итоги!L27","v":0},{"$f":"Итоги!O27","v":"0; 0"},{"$f":"Итоги!Q27","v":0},{"$f":"Итоги!R27","v":"0; 0; 0; 0; 0"},{"$f":"VLOOKUP($D2,Итоги!$E$34:$Q$37,2,FALSE)","v":0},{"$f":"VLOOKUP($D2,Итоги!$E$34:$Q$37,8,FALSE)","v":0},{"$f":"VLOOKUP($D2,Итоги!$E$34:$Q$37,11,FALSE)","v":{"$error":"#N/A"}},{"$f":"VLOOKUP($D2,Итоги!$E$38:$Q$41,2,FALSE)","v":0},{"$f":"VLOOKUP($D2,Итоги!$E$38:$Q$41,8,FALSE)","v":0},{"$f":"VLOOKUP($D2,Итоги!$E$38:$Q$41,11,FALSE)","v":{"$error":"#N/A"}},{"$f":"VLOOKUP($D2,Итоги!$E$42:$Q$45,2,FALSE)","v":0},{"$f":"VLOOKUP($D2,Итоги!$E$42:$Q$45,8,FALSE)","v":0},{"$f":"VLOOKUP($D2,Итоги!$E$42:$Q$45,11,FALSE)","v":{"$error":"#N/A"}}]
[{"$f":"Итоги!K4","v":"00:00:00"},{"$f":"Итоги!D4","v":0},{"$f":"Итоги!Y4","v":0},{"$f":"Итоги!E8","v":0},{"$f":"Итоги!F8","v":0},{"$f":"IF(Итоги!$F15=\"Д\",Итоги!$H15,IF(Итоги!$I15=\"Д\",Итоги!$K15,IF(Итоги!$L15=\"Д\",Итоги!$N15,IF(Итоги!$O15=\"Д\",Итоги!$Q15,0))))","v":{"$error":"#N/A"}},{"$f":"IF(Итоги!$F15=\"О\",Итоги!$H15,IF(Итоги!$I15=\"О\",Итоги!$K15,IF(Итоги!$L15=\"О\",Итоги!$N15,IF(Итоги!$O15=\"О\",Итоги!$Q15,0))))","v":{"$error":"#N/A"}},{"$f":"IF(Итоги!$F15=\"Р\",Итоги!$H15,IF(Итоги!$I15=\"Р\",Итоги!$K15,IF(Итоги!$L15=\"Р\",Итоги!$N15,IF(Итоги!$O15=\"Р\",Итоги!$Q15,0))))","v":{"$error":"#N/A"}},{"$f":"Итоги!R15","v":{"$error":"#N/A"}},{"$f":"Итоги!W15","v":{"$error":"#N/A"}},{"$f":"Итоги!X15","v":{"$error":"#N/A"}},{"$f":"Итоги!F28","v":0},{"$f":"Итоги!I28","v":0},{"$f":"Итоги!L28","v":0},{"$f":"Итоги!O28","v":"0; 0"},{"$f":"Итоги!Q28","v":0},{"$f":"Итоги!R28","v":"0; 0; 0; 0; 0"},{"$f":"VLOOKUP($D3,Итоги!$E$34:$Q$37,2,FALSE)","v":0},{"$f":"VLOOKUP($D3,Итоги!$E$34:$Q$37,8,FALSE)","v":0},{"$f":"VLOOKUP($D3,Итоги!$E$34:$Q$37,11,FALSE)","v":{"$error":"#N/A"}},{"$f":"VLOOKUP($D3,Итоги!$E$38:$Q$41,2,FALSE)","v":0},{"$f":"VLOOKUP($D3,Итоги!$E$38:$Q$41,8,FALSE)","v":0},{"$f":"VLOOKUP($D3,Итоги!$E$38:$Q$41,11,FALSE)","v":{"$error":"#N/A"}},{"$f":"VLOOKUP($D3,Итоги!$E$42:$Q$45,2,FALSE)","v":0},{"$f":"VLOOKUP($D3,Итоги!$E$42:$Q$45,8,FALSE)","v":0},{"$f":"VLOOKUP($D3,Итоги!$E$42:$Q$45,11,FALSE)","v":{"$error":"#N/A"}}]
[{"$f":"Итоги!K4","v":"00:00:00"},{"$f":"Итоги!D4","v":0},{"$f":"Итоги!Y4","v":0},{"$f":"Итоги!E9","v":0},{"$f":"Итоги!F9","v":0},{"$f":"IF(Итоги!$F16=\"Д\",Итоги!$H16,IF(Итоги!$I16=\"Д\",Итоги!$K16,IF(Итоги!$L16=\"Д\",Итоги!$N16,IF(Итоги!$O16=\"Д\",Итоги!$Q16,0))))","v":{"$error":"#N/A"}},{"$f":"IF(Итоги!$F16=\"О\",Итоги!$H16,IF(Итоги!$I16=\"О\",Итоги!$K16,IF(Итоги!$L16=\"О\",Итоги!$N16,IF(Итоги!$O16=\"О\",Итоги!$Q16,0))))","v":{"$error":"#N/A"}},{"$f":"IF(Итоги!$F16=\"Р\",Итоги!$H16,IF(Итоги!$I16=\"Р\",Итоги!$K16,IF(Итоги!$L16=\"Р\",Итоги!$N16,IF(Итоги!$O16=\"Р\",Итоги!$Q16,0))))","v":{"$error":"#N/A"}},{"$f":"Итоги!R16","v":{"$error":"#N/A"}},{"$f":"Итоги!W16","v":{"$error":"#N/A"}},{"$f":"Итоги!X16","v":{"$error":"#N/A"}},{"$f":"Итоги!F29","v":0},{"$f":"Итоги!I29","v":0},{"$f":"Итоги!L29","v":0},{"$f":"Итоги!O29","v":"0; 0"},{"$f":"Итоги!Q29","v":0},{"$f":"Итоги!R29","v":"0; 0; 0; 0; 0"},{"$f":"VLOOKUP($D4,Итоги!$E$34:$Q$37,2,FALSE)","v":0},{"$f":"VLOOKUP($D4,Итоги!$E$34:$Q$37,8,FALSE)","v":0},{"$f":"VLOOKUP($D4,Итоги!$E$34:$Q$37,11,FALSE)","v":{"$error":"#N/A"}},{"$f":"VLOOKUP($D4,Итоги!$E$38:$Q$41,2,FALSE)","v":0},{"$f":"VLOOKUP($D4,Итоги!$E$38:$Q$41,8,FALSE)","v":0},{"$f":"VLOOKUP($D4,Итоги!$E$38:$Q$41,11,FALSE)","v":{"$error":"#N/A"}},{"$f":"VLOOKUP($D4,Итоги!$E$42:$Q$45,2,FALSE)","v":0},{"$f":"VLOOKUP($D4,Итоги!$E$42:$Q$45,8,FALSE)","v":0},{"$f":"VLOOKUP($D4,Итоги!$E$42:$Q$45,11,FALSE)","v":{"$error":"#N/A"}}]
[{"$f":"Итоги!K4","v":"00:00:00"},{"$f":"Итоги!D4","v":0},{"$f":"Итоги!Y4","v":0},{"$f":"Итоги!E10","v":0},{"$f":"Итоги!F10","v":0},{"$f":"IF(Итоги!$F17=\"Д\",Итоги!$H17,IF(Итоги!$I17=\"Д\",Итоги!$K17,IF(Итоги!$L17=\"Д\",Итоги!$N17,IF(Итоги!$O17=\"Д\",Итоги!$Q17,0))))","v":{"$error":"#N/A"}},{"$f":"IF(Итоги!$F17=\"О\",Итоги!$H17,IF(Итоги!$I17=\"О\",Итоги!$K17,IF(Итоги!$L17=\"О\",Итоги!$N17,IF(Итоги!$O17=\"О\",Итоги!$Q17,0))))","v":{"$error":"#N/A"}},{"$f":"IF(Итоги!$F17=\"Р\",Итоги!$H17,IF(Итоги!$I17=\"Р\",Итоги!$K17,IF(Итоги!$L17=\"Р\",Итоги!$N17,IF(Итоги!$O17=\"Р\",Итоги!$Q17,0))))","v":{"$error":"#N/A"}},{"$f":"Итоги!R17","v":{"$error":"#N/A"}},{"$f":"Итоги!W17","v":{"$error":"#N/A"}},{"$f":"Итоги!X17","v":{"$error":"#N/A"}},{"$f":"Итоги!F30","v":0},{"$f":"Итоги!I30","v":0},{"$f":"Итоги!L30","v":0},{"$f":"Итоги!O30","v":"0; 0"},{"$f":"Итоги!Q30","v":0},{"$f":"Итоги!R30","v":"0; 0; 0; 0; 0"},{"$f":"VLOOKUP($D5,Итоги!$E$34:$Q$37,2,FALSE)","v":0},{"$f":"VLOOKUP($D5,Итоги!$E$34:$Q$37,8,FALSE)","v":0},{"$f":"VLOOKUP($D5,Итоги!$E$34:$Q$37,11,FALSE)","v":{"$error":"#N/A"}},{"$f":"VLOOKUP($D5,Итоги!$E$38:$Q$41,2,FALSE)","v":0},{"$f":"VLOOKUP($D5,Итоги!$E$38:$Q$41,8,FALSE)","v":0},{"$f":"VLOOKUP($D5,Итоги!$E$38:$Q$41,11,FALSE)","v":{"$error":"#N/A"}},{"$f":"VLOOKUP($D5,Итоги!$E$42:$Q$45,2,FALSE)","v":0},{"$f":"VLOOKUP($D5,Итоги!$E$42:$Q$45,8,FALSE)","v":0},{"$f":"VLOOKUP($D5,Итоги!$E$42:$Q$45,11,FALSE)","v":{"$error":"#N/A"}}]